Pviz 1.6.2 Renan Sauteraud
 | Snapshot Date: 2016-10-12 17:20:15 -0700 (Wed, 12 Oct 2016) |  | URL: https://hedgehog.fhcrc.org/bioconductor/branches/RELEASE_3_3/madman/Rpacks/Pviz |  | Last Changed Rev: 117513 / Revision: 122332 |  | Last Changed Date: 2016-05-15 13:18:19 -0700 (Sun, 15 May 2016) |  
  | zin2  | Linux (Ubuntu 14.04.2 LTS) / x86_64  |  OK  |  OK  |  OK  |  |   | 
| moscato2  | Windows Server 2008 R2 Enterprise SP1 (64-bit) / x64  |  OK  |  OK  |  OK  | [ OK ] |   | 
| oaxaca  | Mac OS X Mavericks (10.9.5) / x86_64  |  OK  |  OK  |  OK  |  OK  |   | 
##############################################################################
##############################################################################
###
### Running command:
###
###   cd Pviz.buildbin-libdir/Pviz && zip -r ../../Pviz_1.6.2.zip . & cd ../..
###
##############################################################################
##############################################################################
  adding: DESCRIPTION (188 bytes security) (deflated 35%)
  adding: doc/ (256 bytes security) (stored 0%)
  adding: doc/index.html (188 bytes security) (deflated 57%)
  adding: doc/Pviz.pdf (188 bytes security) (deflated 18%)
  adding: doc/Pviz.R (188 bytes security) (deflated 72%)
  adding: doc/Pviz.Rnw (188 bytes security) (deflated 62%)
  adding: extdata/ (256 bytes security) (stored 0%)
  adding: extdata/alignments/ (256 bytes security) (stored 0%)
  adding: extdata/alignments/Musclehxb2_7subtypes.fasta (188 bytes security) (deflated 72%)
  adding: extdata/alignments/Musclehxb2_vaccineInsert.fasta (188 bytes security) (deflated 78%)
  adding: extdata/alignments/MuscleLANL_239_E660.fasta (188 bytes security) (deflated 69%)
  adding: extdata/alignments/SequenceHXB2-7Subtypes.fasta (188 bytes security) (deflated 72%)
  adding: extdata/alignments/SequenceHXB2_vaccineInsert.fasta (188 bytes security) (deflated 77%)
  adding: extdata/alignments/SequenceLANL_239_E660.fasta (188 bytes security) (deflated 69%)
  adding: help/ (256 bytes security) (stored 0%)
  adding: help/aliases.rds (188 bytes security) (stored 0%)
  adding: help/AnIndex (188 bytes security) (deflated 69%)
  adding: help/paths.rds (188 bytes security) (stored 0%)
  adding: help/Pviz.rdb (188 bytes security) (deflated 0%)
  adding: help/Pviz.rdx (188 bytes security) (stored 0%)
  adding: html/ (256 bytes security) (stored 0%)
  adding: html/00Index.html (188 bytes security) (deflated 72%)
  adding: html/R.css (188 bytes security) (deflated 75%)
  adding: INDEX (188 bytes security) (deflated 63%)
  adding: MD5 (188 bytes security) (deflated 46%)
  adding: Meta/ (256 bytes security) (stored 0%)
  adding: Meta/hsearch.rds (188 bytes security) (stored 0%)
  adding: Meta/links.rds (188 bytes security) (stored 0%)
  adding: Meta/nsInfo.rds (188 bytes security) (stored 0%)
  adding: Meta/package.rds (188 bytes security) (stored 0%)
  adding: Meta/Rd.rds (188 bytes security) (stored 0%)
  adding: Meta/vignette.rds (188 bytes security) (stored 0%)
  adding: NAMESPACE (188 bytes security) (deflated 58%)
  adding: R/ (256 bytes security) (stored 0%)
  adding: R/Pviz (188 bytes security) (deflated 41%)
  adding: R/Pviz.rdb (188 bytes security) (deflated 30%)
  adding: R/Pviz.rdx (188 bytes security) (stored 0%)