MergeMaid 2.44.0 Xiaogang Zhong
 | Snapshot Date: 2016-10-12 17:20:15 -0700 (Wed, 12 Oct 2016) |  | URL: https://hedgehog.fhcrc.org/bioconductor/branches/RELEASE_3_3/madman/Rpacks/MergeMaid |  | Last Changed Rev: 117079 / Revision: 122332 |  | Last Changed Date: 2016-05-03 14:20:18 -0700 (Tue, 03 May 2016) |  
  | zin2  | Linux (Ubuntu 14.04.2 LTS) / x86_64  |  OK  |  OK  |  WARNINGS  |  |   | 
| moscato2  | Windows Server 2008 R2 Enterprise SP1 (64-bit) / x64  |  OK  |  OK  |  WARNINGS  |  OK  |   | 
| oaxaca  | Mac OS X Mavericks (10.9.5) / x86_64  | [ OK ] |  OK  |  WARNINGS  |  OK  |   | 
##############################################################################
##############################################################################
###
### Running command:
###
###   /Library/Frameworks/R.framework/Versions/Current/Resources/bin/R CMD INSTALL MergeMaid
###
##############################################################################
##############################################################################
* installing to library ‘/Library/Frameworks/R.framework/Versions/3.3/Resources/library’
* installing *source* package ‘MergeMaid’ ...
** R
** data
** preparing package for lazy loading
Creating a generic function for ‘plot’ from package ‘graphics’ in package ‘MergeMaid’
Creating a generic function for ‘hist’ from package ‘graphics’ in package ‘MergeMaid’
Creating a generic function for ‘summary’ from package ‘base’ in package ‘MergeMaid’
** help
*** installing help indices
** building package indices
** installing vignettes
** testing if installed package can be loaded
* DONE (MergeMaid)