MSstats 3.4.0 Meena Choi
 | Snapshot Date: 2016-10-12 17:20:15 -0700 (Wed, 12 Oct 2016) |  | URL: https://hedgehog.fhcrc.org/bioconductor/branches/RELEASE_3_3/madman/Rpacks/MSstats |  | Last Changed Rev: 118880 / Revision: 122332 |  | Last Changed Date: 2016-06-22 18:08:27 -0700 (Wed, 22 Jun 2016) |  
  | zin2  | Linux (Ubuntu 14.04.2 LTS) / x86_64  |  OK  |  OK  |  WARNINGS  |  |   | 
| moscato2  | Windows Server 2008 R2 Enterprise SP1 (64-bit) / x64  | ...NOT SUPPORTED...NOT SUPPORTED...NOT SUPPORTED... | 
| oaxaca  | Mac OS X Mavericks (10.9.5) / x86_64  |  OK  | [ OK ] |  TIMEOUT  |  OK  |  | 
##############################################################################
##############################################################################
###
### Running command:
###
###   /Library/Frameworks/R.framework/Versions/Current/Resources/bin/R CMD build --keep-empty-dirs --no-resave-data MSstats
###
##############################################################################
##############################################################################
* checking for file ‘MSstats/DESCRIPTION’ ... OK
* preparing ‘MSstats’:
* checking DESCRIPTION meta-information ... OK
* checking for LF line-endings in source and make files
* checking for empty or unneeded directories
WARNING: directory ‘MSstats/build’ is empty
WARNING: directory ‘MSstats/vignettes’ is empty
* looking to see if a ‘data/datalist’ file should be added
* building ‘MSstats_3.4.0.tar.gz’