HTqPCR 1.26.0 Heidi Dvinge
 | Snapshot Date: 2016-10-12 17:20:15 -0700 (Wed, 12 Oct 2016) |  | URL: https://hedgehog.fhcrc.org/bioconductor/branches/RELEASE_3_3/madman/Rpacks/HTqPCR |  | Last Changed Rev: 117079 / Revision: 122332 |  | Last Changed Date: 2016-05-03 14:20:18 -0700 (Tue, 03 May 2016) |  
  | zin2  | Linux (Ubuntu 14.04.2 LTS) / x86_64  |  OK  |  OK  |  OK  |  |   | 
| moscato2  | Windows Server 2008 R2 Enterprise SP1 (64-bit) / x64  |  OK  |  OK  |  OK  | [ OK ] |   | 
| oaxaca  | Mac OS X Mavericks (10.9.5) / x86_64  |  OK  |  OK  |  OK  |  OK  |   | 
##############################################################################
##############################################################################
###
### Running command:
###
###   cd HTqPCR.buildbin-libdir/HTqPCR && zip -r ../../HTqPCR_1.26.0.zip . & cd ../..
###
##############################################################################
##############################################################################
  adding: CITATION (188 bytes security) (deflated 47%)
  adding: data/ (256 bytes security) (stored 0%)
  adding: data/qPCRpros.RData (188 bytes security) (deflated 6%)
  adding: data/qPCRraw.RData (188 bytes security) (deflated 6%)
  adding: DESCRIPTION (188 bytes security) (deflated 46%)
  adding: doc/ (256 bytes security) (stored 0%)
  adding: doc/HTqPCR.pdf (188 bytes security) (deflated 16%)
  adding: doc/HTqPCR.R (188 bytes security) (deflated 84%)
  adding: doc/HTqPCR.Rnw (188 bytes security) (deflated 69%)
  adding: doc/index.html (188 bytes security) (deflated 57%)
  adding: exData/ (256 bytes security) (stored 0%)
  adding: exData/BioMark_sample.csv (188 bytes security) (deflated 85%)
  adding: exData/CFX_sample.txt (188 bytes security) (deflated 76%)
  adding: exData/files.txt (188 bytes security) (deflated 49%)
  adding: exData/LightCycler_sample.txt (188 bytes security) (deflated 80%)
  adding: exData/OpenArray_sample.csv (188 bytes security) (deflated 83%)
  adding: exData/sample1.txt (188 bytes security) (deflated 78%)
  adding: exData/sample2.txt (188 bytes security) (deflated 79%)
  adding: exData/sample3.txt (188 bytes security) (deflated 78%)
  adding: exData/sample4.txt (188 bytes security) (deflated 78%)
  adding: exData/sample5.txt (188 bytes security) (deflated 79%)
  adding: exData/sample6.txt (188 bytes security) (deflated 79%)
  adding: exData/SDS_sample.txt (188 bytes security) (deflated 78%)
  adding: help/ (256 bytes security) (stored 0%)
  adding: help/aliases.rds (188 bytes security) (stored 0%)
  adding: help/AnIndex (188 bytes security) (deflated 76%)
  adding: help/HTqPCR.rdb (188 bytes security) (deflated 1%)
  adding: help/HTqPCR.rdx (188 bytes security) (stored 0%)
  adding: help/paths.rds (188 bytes security) (stored 0%)
  adding: html/ (256 bytes security) (stored 0%)
  adding: html/00Index.html (188 bytes security) (deflated 84%)
  adding: html/R.css (188 bytes security) (deflated 75%)
  adding: INDEX (188 bytes security) (deflated 71%)
  adding: MD5 (188 bytes security) (deflated 45%)
  adding: Meta/ (256 bytes security) (stored 0%)
  adding: Meta/data.rds (188 bytes security) (stored 0%)
  adding: Meta/hsearch.rds (188 bytes security) (stored 0%)
  adding: Meta/links.rds (188 bytes security) (stored 0%)
  adding: Meta/nsInfo.rds (188 bytes security) (stored 0%)
  adding: Meta/package.rds (188 bytes security) (stored 0%)
  adding: Meta/Rd.rds (188 bytes security) (stored 0%)
  adding: Meta/vignette.rds (188 bytes security) (stored 0%)
  adding: NAMESPACE (188 bytes security) (deflated 60%)
  adding: NEWS (188 bytes security) (deflated 60%)
  adding: R/ (256 bytes security) (stored 0%)
  adding: R/HTqPCR (188 bytes security) (deflated 41%)
  adding: R/HTqPCR.rdb (188 bytes security) (deflated 23%)
  adding: R/HTqPCR.rdx (188 bytes security) (stored 0%)