Gviz 1.16.5 Florian Hahne
 | Snapshot Date: 2016-10-12 17:20:15 -0700 (Wed, 12 Oct 2016) |  | URL: https://hedgehog.fhcrc.org/bioconductor/branches/RELEASE_3_3/madman/Rpacks/Gviz |  | Last Changed Rev: 120731 / Revision: 122332 |  | Last Changed Date: 2016-09-05 08:21:01 -0700 (Mon, 05 Sep 2016) |  
  | zin2  | Linux (Ubuntu 14.04.2 LTS) / x86_64  |  OK  |  ERROR  |  skipped  |  |  | 
| moscato2  | Windows Server 2008 R2 Enterprise SP1 (64-bit) / x64  |  OK  |  OK  |  WARNINGS  | [ OK ] |   | 
| oaxaca  | Mac OS X Mavericks (10.9.5) / x86_64  |  OK  |  OK  |  WARNINGS  |  OK  |   | 
##############################################################################
##############################################################################
###
### Running command:
###
###   cd Gviz.buildbin-libdir/Gviz && zip -r ../../Gviz_1.16.5.zip . & cd ../..
###
##############################################################################
##############################################################################
  adding: CITATION (188 bytes security) (deflated 49%)
  adding: data/ (256 bytes security) (stored 0%)
  adding: data/alTrackGenes.rda (188 bytes security) (stored 0%)
  adding: data/biomTrack.rda (188 bytes security) (deflated 1%)
  adding: data/bmTrack.rda (188 bytes security) (stored 0%)
  adding: data/collapseTrack.rda (188 bytes security) (stored 0%)
  adding: data/cpgIslands.rda (188 bytes security) (stored 0%)
  adding: data/cyp2b10.rda (188 bytes security) (stored 0%)
  adding: data/denseAnnTrack.rda (188 bytes security) (deflated 3%)
  adding: data/dtHoriz.rda (188 bytes security) (stored 0%)
  adding: data/geneDetails.rda (188 bytes security) (stored 0%)
  adding: data/geneModels.rda (188 bytes security) (stored 0%)
  adding: data/idTrack.rda (188 bytes security) (stored 0%)
  adding: data/itrack.rda (188 bytes security) (deflated 1%)
  adding: data/twoGroups.rda (188 bytes security) (stored 0%)
  adding: data/ucscItems.rda (188 bytes security) (deflated 50%)
  adding: DESCRIPTION (188 bytes security) (deflated 45%)
  adding: doc/ (256 bytes security) (stored 0%)
  adding: doc/Gviz.pdf (188 bytes security) (deflated 29%)
  adding: doc/Gviz.R (188 bytes security) (deflated 84%)
  adding: doc/Gviz.Rnw (188 bytes security) (deflated 70%)
  adding: doc/index.html (188 bytes security) (deflated 57%)
  adding: extdata/ (256 bytes security) (stored 0%)
  adding: extdata/biomartVersionsLatest.txt (188 bytes security) (deflated 72%)
  adding: extdata/biomartVersionsNow.txt (188 bytes security) (deflated 64%)
  adding: extdata/gapped.bam (188 bytes security) (deflated 0%)
  adding: extdata/gapped.bam.bai (188 bytes security) (deflated 88%)
  adding: extdata/GSM461176_S2_DRSC_Untreated_1_bmm.bam (188 bytes security) (deflated 0%)
  adding: extdata/GSM461176_S2_DRSC_Untreated_1_bmm.bam.bai (188 bytes security) (deflated 98%)
  adding: extdata/GSM461179_S2_DRSC_CG8144_RNAi_1_bmm.bam (188 bytes security) (deflated 0%)
  adding: extdata/GSM461179_S2_DRSC_CG8144_RNAi_1_bmm.bam.bai (188 bytes security) (deflated 98%)
  adding: extdata/snps.bam (188 bytes security) (deflated 0%)
  adding: extdata/snps.bam.bai (188 bytes security) (deflated 100%)
  adding: extdata/test.2bit (188 bytes security) (deflated 65%)
  adding: extdata/test.bam (188 bytes security) (deflated 0%)
  adding: extdata/test.bam.bai (188 bytes security) (deflated 100%)
  adding: extdata/test.bed (188 bytes security) (deflated 71%)
  adding: extdata/test.bedGraph (188 bytes security) (deflated 63%)
  adding: extdata/test.bw (188 bytes security) (deflated 98%)
  adding: extdata/test.fa (188 bytes security) (deflated 65%)
  adding: extdata/test.fa.fai (188 bytes security) (deflated 22%)
  adding: extdata/test.gff (188 bytes security) (deflated 83%)
  adding: extdata/test.gff1 (188 bytes security) (deflated 83%)
  adding: extdata/test.gff2 (188 bytes security) (deflated 90%)
  adding: extdata/test.gff3 (188 bytes security) (deflated 90%)
  adding: extdata/test.gtf (188 bytes security) (deflated 91%)
  adding: extdata/test.wig (188 bytes security) (deflated 13%)
  adding: help/ (256 bytes security) (stored 0%)
  adding: help/aliases.rds (188 bytes security) (stored 0%)
  adding: help/AnIndex (188 bytes security) (deflated 87%)
  adding: help/Gviz.rdb (188 bytes security) (deflated 2%)
  adding: help/Gviz.rdx (188 bytes security) (stored 0%)
  adding: help/paths.rds (188 bytes security) (stored 0%)
  adding: html/ (256 bytes security) (stored 0%)
  adding: html/00Index.html (188 bytes security) (deflated 92%)
  adding: html/R.css (188 bytes security) (deflated 75%)
  adding: INDEX (188 bytes security) (deflated 70%)
  adding: lib/ (256 bytes security) (stored 0%)
  adding: lib/testUCSC.pl (188 bytes security) (deflated 47%)
  adding: lib/ucscUrl.pl (188 bytes security) (deflated 48%)
  adding: MD5 (188 bytes security) (deflated 47%)
  adding: Meta/ (256 bytes security) (stored 0%)
  adding: Meta/data.rds (188 bytes security) (stored 0%)
  adding: Meta/hsearch.rds (188 bytes security) (stored 0%)
  adding: Meta/links.rds (188 bytes security) (stored 0%)
  adding: Meta/nsInfo.rds (188 bytes security) (stored 0%)
  adding: Meta/package.rds (188 bytes security) (stored 0%)
  adding: Meta/Rd.rds (188 bytes security) (stored 0%)
  adding: Meta/vignette.rds (188 bytes security) (stored 0%)
  adding: NAMESPACE (188 bytes security) (deflated 71%)
  adding: NEWS (188 bytes security) (deflated 63%)
  adding: R/ (256 bytes security) (stored 0%)
  adding: R/Gviz (188 bytes security) (deflated 41%)
  adding: R/Gviz.rdb (188 bytes security) (deflated 29%)
  adding: R/Gviz.rdx (188 bytes security) (deflated 4%)
  adding: scripts/ (256 bytes security) (stored 0%)
  adding: scripts/documentation.R (188 bytes security) (deflated 81%)
  adding: scripts/functionality.R (188 bytes security) (deflated 77%)
  adding: scripts/loadIntoEnv.R (188 bytes security) (deflated 69%)
  adding: scripts/sourcePackage.R (188 bytes security) (deflated 55%)
  adding: scripts/testing.R (188 bytes security) (deflated 59%)