GenomeInfoDb 1.8.7 Bioconductor Package Maintainer
 | Snapshot Date: 2016-10-12 17:20:15 -0700 (Wed, 12 Oct 2016) |  | URL: https://hedgehog.fhcrc.org/bioconductor/branches/RELEASE_3_3/madman/Rpacks/GenomeInfoDb |  | Last Changed Rev: 120649 / Revision: 122332 |  | Last Changed Date: 2016-09-01 08:37:23 -0700 (Thu, 01 Sep 2016) |  
  | zin2  | Linux (Ubuntu 14.04.2 LTS) / x86_64  |  OK  |  OK  |  OK  |  |   | 
| moscato2  | Windows Server 2008 R2 Enterprise SP1 (64-bit) / x64  |  OK  |  OK  |  OK  | [ OK ] |   | 
| oaxaca  | Mac OS X Mavericks (10.9.5) / x86_64  |  OK  |  OK  |  OK  |  OK  |   | 
##############################################################################
##############################################################################
###
### Running command:
###
###   cd GenomeInfoDb.buildbin-libdir/GenomeInfoDb && zip -r ../../GenomeInfoDb_1.8.7.zip . & cd ../..
###
##############################################################################
##############################################################################
  adding: data/ (256 bytes security) (stored 0%)
  adding: data/datalist (188 bytes security) (stored 0%)
  adding: data/specData.rda (188 bytes security) (deflated 15%)
  adding: data/speciesMap.rda (188 bytes security) (deflated 0%)
  adding: data/validTaxIds.rda (188 bytes security) (deflated 0%)
  adding: DESCRIPTION (188 bytes security) (deflated 42%)
  adding: doc/ (256 bytes security) (stored 0%)
  adding: doc/Accept-organism-for-GenomeInfoDb.pdf (188 bytes security) (deflated 10%)
  adding: doc/Accept-organism-for-GenomeInfoDb.R (188 bytes security) (deflated 55%)
  adding: doc/Accept-organism-for-GenomeInfoDb.Rnw (188 bytes security) (deflated 56%)
  adding: doc/GenomeInfoDb.pdf (188 bytes security) (deflated 15%)
  adding: doc/GenomeInfoDb.R (188 bytes security) (deflated 72%)
  adding: doc/GenomeInfoDb.Rnw (188 bytes security) (deflated 64%)
  adding: doc/index.html (188 bytes security) (deflated 70%)
  adding: extdata/ (256 bytes security) (stored 0%)
  adding: extdata/dataFiles/ (256 bytes security) (stored 0%)
  adding: extdata/dataFiles/Arabidopsis_thaliana.txt (188 bytes security) (deflated 32%)
  adding: extdata/dataFiles/Caenorhabditis_elegans.txt (188 bytes security) (deflated 39%)
  adding: extdata/dataFiles/Canis_familiaris.txt (188 bytes security) (deflated 64%)
  adding: extdata/dataFiles/Cyanidioschyzon_merolae.txt (188 bytes security) (deflated 54%)
  adding: extdata/dataFiles/Drosophila_melanogaster.txt (188 bytes security) (deflated 50%)
  adding: extdata/dataFiles/Homo_sapiens.txt (188 bytes security) (deflated 60%)
  adding: extdata/dataFiles/Mus_musculus.txt (188 bytes security) (deflated 56%)
  adding: extdata/dataFiles/Oryza_sativa.txt (188 bytes security) (deflated 50%)
  adding: extdata/dataFiles/Populus_trichocarpa.txt (188 bytes security) (deflated 57%)
  adding: extdata/dataFiles/Rattus_norvegicus.txt (188 bytes security) (deflated 69%)
  adding: extdata/dataFiles/Saccharomyces_cerevisiae.txt (188 bytes security) (deflated 59%)
  adding: extdata/dataFiles/Zea_mays.txt (188 bytes security) (deflated 42%)
  adding: help/ (256 bytes security) (stored 0%)
  adding: help/aliases.rds (188 bytes security) (stored 0%)
  adding: help/AnIndex (188 bytes security) (deflated 82%)
  adding: help/GenomeInfoDb.rdb (188 bytes security) (deflated 0%)
  adding: help/GenomeInfoDb.rdx (188 bytes security) (stored 0%)
  adding: help/paths.rds (188 bytes security) (stored 0%)
  adding: html/ (256 bytes security) (stored 0%)
  adding: html/00Index.html (188 bytes security) (deflated 89%)
  adding: html/R.css (188 bytes security) (deflated 75%)
  adding: INDEX (188 bytes security) (deflated 59%)
  adding: MD5 (188 bytes security) (deflated 47%)
  adding: Meta/ (256 bytes security) (stored 0%)
  adding: Meta/data.rds (188 bytes security) (stored 0%)
  adding: Meta/hsearch.rds (188 bytes security) (stored 0%)
  adding: Meta/links.rds (188 bytes security) (stored 0%)
  adding: Meta/nsInfo.rds (188 bytes security) (stored 0%)
  adding: Meta/package.rds (188 bytes security) (stored 0%)
  adding: Meta/Rd.rds (188 bytes security) (stored 0%)
  adding: Meta/vignette.rds (188 bytes security) (stored 0%)
  adding: NAMESPACE (188 bytes security) (deflated 72%)
  adding: NEWS (188 bytes security) (deflated 70%)
  adding: R/ (256 bytes security) (stored 0%)
  adding: R/GenomeInfoDb (188 bytes security) (deflated 41%)
  adding: R/GenomeInfoDb.rdb (188 bytes security) (deflated 34%)
  adding: R/GenomeInfoDb.rdx (188 bytes security) (deflated 2%)
  adding: unitTests/ (256 bytes security) (stored 0%)
  adding: unitTests/test_Seqinfo-class.R (188 bytes security) (deflated 75%)
  adding: unitTests/test_seqlevels-wrappers.R (188 bytes security) (deflated 77%)
  adding: unitTests/test_seqlevelsStyle.R (188 bytes security) (deflated 67%)
  adding: unitTests/test_utils.R (188 bytes security) (deflated 71%)