DAPAR 1.4.8 Samuel Wieczorek
 | Snapshot Date: 2016-10-12 17:20:15 -0700 (Wed, 12 Oct 2016) |  | URL: https://hedgehog.fhcrc.org/bioconductor/branches/RELEASE_3_3/madman/Rpacks/DAPAR |  | Last Changed Rev: 120848 / Revision: 122332 |  | Last Changed Date: 2016-09-12 00:47:39 -0700 (Mon, 12 Sep 2016) |  
  | zin2  | Linux (Ubuntu 14.04.2 LTS) / x86_64  |  OK  |  OK  |  OK  |  |   | 
| moscato2  | Windows Server 2008 R2 Enterprise SP1 (64-bit) / x64  |  OK  |  OK  |  ERROR  | [ OK ] |  | 
| oaxaca  | Mac OS X Mavericks (10.9.5) / x86_64  |  OK  |  OK  |  OK  |  OK  |   | 
##############################################################################
##############################################################################
###
### Running command:
###
###   cd DAPAR.buildbin-libdir/DAPAR && zip -r ../../DAPAR_1.4.8.zip . & cd ../..
###
##############################################################################
##############################################################################
  adding: CITATION (188 bytes security) (deflated 62%)
  adding: data/ (256 bytes security) (stored 0%)
  adding: data/datalist (188 bytes security) (stored 0%)
  adding: data/test.RData (188 bytes security) (stored 0%)
  adding: data/testWithoutNA.RData (188 bytes security) (stored 0%)
  adding: data/UPSpep25.RData (188 bytes security) (deflated 0%)
  adding: DESCRIPTION (188 bytes security) (deflated 52%)
  adding: doc/ (256 bytes security) (stored 0%)
  adding: doc/index.html (188 bytes security) (deflated 70%)
  adding: doc/intro.pdf (188 bytes security) (deflated 1%)
  adding: doc/intro.Rnw (188 bytes security) (deflated 51%)
  adding: doc/Prostar_UserManual.pdf (188 bytes security) (deflated 4%)
  adding: doc/Prostar_UserManual.R (188 bytes security) (deflated 77%)
  adding: doc/Prostar_UserManual.Rnw (188 bytes security) (deflated 71%)
  adding: doc/UPSprotx2.pdf (188 bytes security) (deflated 1%)
  adding: doc/UPSprotx2.Rnw (188 bytes security) (deflated 50%)
  adding: extdata/ (256 bytes security) (stored 0%)
  adding: extdata/prot10.txt (188 bytes security) (deflated 64%)
  adding: extdata/samples.txt (188 bytes security) (deflated 52%)
  adding: extdata/samples_prot10.txt (188 bytes security) (deflated 62%)
  adding: extdata/UPSpep25.txt (188 bytes security) (deflated 64%)
  adding: extdata/UPSprotx2.MSnset (188 bytes security) (deflated 7%)
  adding: help/ (256 bytes security) (stored 0%)
  adding: help/aliases.rds (188 bytes security) (stored 0%)
  adding: help/AnIndex (188 bytes security) (deflated 71%)
  adding: help/DAPAR.rdb (188 bytes security) (deflated 2%)
  adding: help/DAPAR.rdx (188 bytes security) (stored 0%)
  adding: help/paths.rds (188 bytes security) (stored 0%)
  adding: html/ (256 bytes security) (stored 0%)
  adding: html/00Index.html (188 bytes security) (deflated 80%)
  adding: html/R.css (188 bytes security) (deflated 75%)
  adding: INDEX (188 bytes security) (deflated 77%)
  adding: MD5 (188 bytes security) (deflated 44%)
  adding: Meta/ (256 bytes security) (stored 0%)
  adding: Meta/data.rds (188 bytes security) (stored 0%)
  adding: Meta/hsearch.rds (188 bytes security) (stored 0%)
  adding: Meta/links.rds (188 bytes security) (stored 0%)
  adding: Meta/nsInfo.rds (188 bytes security) (stored 0%)
  adding: Meta/package.rds (188 bytes security) (stored 0%)
  adding: Meta/Rd.rds (188 bytes security) (stored 0%)
  adding: Meta/vignette.rds (188 bytes security) (stored 0%)
  adding: NAMESPACE (188 bytes security) (deflated 60%)
  adding: NEWS (188 bytes security) (deflated 62%)
  adding: R/ (256 bytes security) (stored 0%)
  adding: R/DAPAR (188 bytes security) (deflated 41%)
  adding: R/DAPAR.rdb (188 bytes security) (deflated 3%)
  adding: R/DAPAR.rdx (188 bytes security) (stored 0%)