| Back to Multiple platform build/check report for BioC 3.22: simplified long |
|
This page was generated on 2025-08-15 12:07 -0400 (Fri, 15 Aug 2025).
| Hostname | OS | Arch (*) | R version | Installed pkgs |
|---|---|---|---|---|
| nebbiolo2 | Linux (Ubuntu 24.04.3 LTS) | x86_64 | 4.5.1 (2025-06-13) -- "Great Square Root" | 4818 |
| palomino8 | Windows Server 2022 Datacenter | x64 | 4.5.1 (2025-06-13 ucrt) -- "Great Square Root" | 4554 |
| lconway | macOS 12.7.1 Monterey | x86_64 | 4.5.1 (2025-06-13) -- "Great Square Root" | 4595 |
| kjohnson3 | macOS 13.7.7 Ventura | arm64 | 4.5.1 Patched (2025-06-14 r88325) -- "Great Square Root" | 4537 |
| taishan | Linux (openEuler 24.03 LTS) | aarch64 | 4.5.0 (2025-04-11) -- "How About a Twenty-Six" | 4535 |
| Click on any hostname to see more info about the system (e.g. compilers) (*) as reported by 'uname -p', except on Windows and Mac OS X | ||||
| Package 2282/2317 | Hostname | OS / Arch | INSTALL | BUILD | CHECK | BUILD BIN | ||||||||
| vsclust 1.11.1 (landing page) Veit Schwammle
| nebbiolo2 | Linux (Ubuntu 24.04.3 LTS) / x86_64 | OK | OK | OK | |||||||||
| palomino8 | Windows Server 2022 Datacenter / x64 | OK | OK | OK | OK | |||||||||
| lconway | macOS 12.7.1 Monterey / x86_64 | OK | OK | OK | OK | |||||||||
| kjohnson3 | macOS 13.7.7 Ventura / arm64 | OK | OK | OK | OK | |||||||||
| taishan | Linux (openEuler 24.03 LTS) / aarch64 | OK | OK | OK | ||||||||||
|
To the developers/maintainers of the vsclust package: - Allow up to 24 hours (and sometimes 48 hours) for your latest push to git@git.bioconductor.org:packages/vsclust.git to reflect on this report. See Troubleshooting Build Report for more information. - Use the following Renviron settings to reproduce errors and warnings. - If 'R CMD check' started to fail recently on the Linux builder(s) over a missing dependency, add the missing dependency to 'Suggests:' in your DESCRIPTION file. See Renviron.bioc for more information. |
| Package: vsclust |
| Version: 1.11.1 |
| Command: F:\biocbuild\bbs-3.22-bioc\R\bin\R.exe CMD check --no-multiarch --install=check:vsclust.install-out.txt --library=F:\biocbuild\bbs-3.22-bioc\R\library --no-vignettes --timings vsclust_1.11.1.tar.gz |
| StartedAt: 2025-08-15 09:10:43 -0400 (Fri, 15 Aug 2025) |
| EndedAt: 2025-08-15 09:19:07 -0400 (Fri, 15 Aug 2025) |
| EllapsedTime: 504.7 seconds |
| RetCode: 0 |
| Status: OK |
| CheckDir: vsclust.Rcheck |
| Warnings: 0 |
##############################################################################
##############################################################################
###
### Running command:
###
### F:\biocbuild\bbs-3.22-bioc\R\bin\R.exe CMD check --no-multiarch --install=check:vsclust.install-out.txt --library=F:\biocbuild\bbs-3.22-bioc\R\library --no-vignettes --timings vsclust_1.11.1.tar.gz
###
##############################################################################
##############################################################################
* using log directory 'F:/biocbuild/bbs-3.22-bioc/meat/vsclust.Rcheck'
* using R version 4.5.1 (2025-06-13 ucrt)
* using platform: x86_64-w64-mingw32
* R was compiled by
gcc.exe (GCC) 14.2.0
GNU Fortran (GCC) 14.2.0
* running under: Windows Server 2022 x64 (build 20348)
* using session charset: UTF-8
* using option '--no-vignettes'
* checking for file 'vsclust/DESCRIPTION' ... OK
* checking extension type ... Package
* this is package 'vsclust' version '1.11.1'
* package encoding: UTF-8
* checking package namespace information ... OK
* checking package dependencies ... OK
* checking if this is a source package ... OK
* checking if there is a namespace ... OK
* checking for hidden files and directories ... OK
* checking for portable file names ... OK
* checking whether package 'vsclust' can be installed ... OK
* used C++ compiler: 'G__~1.EXE (GCC) 14.2.0'
* checking installed package size ... OK
* checking package directory ... OK
* checking 'build' directory ... OK
* checking DESCRIPTION meta-information ... NOTE
Package listed in more than one of Depends, Imports, Suggests, Enhances:
'httr'
A package should be listed in only one of these fields.
* checking top-level files ... NOTE
File
LICENSE
is not mentioned in the DESCRIPTION file.
* checking for left-over files ... OK
* checking index information ... OK
* checking package subdirectories ... OK
* checking code files for non-ASCII characters ... OK
* checking R files for syntax errors ... OK
* checking whether the package can be loaded ... OK
* checking whether the package can be loaded with stated dependencies ... OK
* checking whether the package can be unloaded cleanly ... OK
* checking whether the namespace can be loaded with stated dependencies ... OK
* checking whether the namespace can be unloaded cleanly ... OK
* checking dependencies in R code ... OK
* checking S3 generic/method consistency ... OK
* checking replacement functions ... OK
* checking foreign function calls ... OK
* checking R code for possible problems ... NOTE
enrichSTRING_API: no visible global function definition for 'new'
runFuncEnrich: no visible global function definition for 'new'
Undefined global functions or variables:
new
Consider adding
importFrom("methods", "new")
to your NAMESPACE file (and ensure that your DESCRIPTION Imports field
contains 'methods').
* checking Rd files ... NOTE
prepare_Rd: vsclust-package.Rd:29-31: Dropping empty section \seealso
prepare_Rd: vsclust-package.Rd:32-33: Dropping empty section \examples
* checking Rd metadata ... OK
* checking Rd cross-references ... NOTE
Found the following Rd file(s) with Rd \link{} targets missing package
anchors:
enrichSTRING_API.Rd: clusterProfiler
runFuncEnrich.Rd: compareCluster
Please provide package anchors for all Rd \link{} targets not in the
package itself and the base packages.
* checking for missing documentation entries ... OK
* checking for code/documentation mismatches ... OK
* checking Rd \usage sections ... OK
* checking Rd contents ... OK
* checking for unstated dependencies in examples ... OK
* checking contents of 'data' directory ... OK
* checking data for non-ASCII characters ... OK
* checking data for ASCII and uncompressed saves ... OK
* checking line endings in C/C++/Fortran sources/headers ... OK
* checking compiled code ... NOTE
Note: information on .o files for x64 is not available
File 'F:/biocbuild/bbs-3.22-bioc/R/library/vsclust/libs/x64/vsclust.dll':
Found '_exit', possibly from '_exit' (C)
Found 'abort', possibly from 'abort' (C), 'runtime' (Fortran)
Found 'exit', possibly from 'exit' (C), 'stop' (Fortran)
Compiled code should not call entry points which might terminate R nor
write to stdout/stderr instead of to the console, nor use Fortran I/O
nor system RNGs nor [v]sprintf. The detected symbols are linked into
the code but might come from libraries and not actually be called.
See 'Writing portable packages' in the 'Writing R Extensions' manual.
* checking files in 'vignettes' ... OK
* checking examples ... OK
Examples with CPU (user + system) or elapsed time > 5s
user system elapsed
calcBHI 7.02 0.42 12.69
estimClust.plot 0.12 0.05 23.25
optimalClustNum 0.09 0.01 20.61
estimClustNum 0.07 0.02 19.20
ClustComp 0.03 0.03 14.68
runClustWrapper 0.03 0.00 21.17
* checking for unstated dependencies in 'tests' ... OK
* checking tests ...
Running 'testthat.R'
OK
* checking for unstated dependencies in vignettes ... OK
* checking package vignettes ... OK
* checking running R code from vignettes ... SKIPPED
* checking re-building of vignette outputs ... SKIPPED
* checking PDF version of manual ... OK
* DONE
Status: 6 NOTEs
See
'F:/biocbuild/bbs-3.22-bioc/meat/vsclust.Rcheck/00check.log'
for details.
vsclust.Rcheck/00install.out
##############################################################################
##############################################################################
###
### Running command:
###
### F:\biocbuild\bbs-3.22-bioc\R\bin\R.exe CMD INSTALL vsclust
###
##############################################################################
##############################################################################
* installing to library 'F:/biocbuild/bbs-3.22-bioc/R/library'
* installing *source* package 'vsclust' ...
** this is package 'vsclust' version '1.11.1'
** using staged installation
** libs
using C++ compiler: 'G__~1.EXE (GCC) 14.2.0'
g++ -std=gnu++17 -I"F:/biocbuild/bbs-3.22-bioc/R/include" -DNDEBUG -I'F:/biocbuild/bbs-3.22-bioc/R/library/Rcpp/include' -I"C:/rtools45/x86_64-w64-mingw32.static.posix/include" -O2 -Wall -mfpmath=sse -msse2 -mstackrealign -c RcppExports.cpp -o RcppExports.o
g++ -std=gnu++17 -I"F:/biocbuild/bbs-3.22-bioc/R/include" -DNDEBUG -I'F:/biocbuild/bbs-3.22-bioc/R/library/Rcpp/include' -I"C:/rtools45/x86_64-w64-mingw32.static.posix/include" -O2 -Wall -mfpmath=sse -msse2 -mstackrealign -c vsclust_algo.cpp -o vsclust_algo.o
vsclust_algo.cpp: In function 'double c_plusplus_means(const Rcpp::NumericMatrix&, Rcpp::NumericMatrix&, Rcpp::NumericVector&, Rcpp::NumericVector&, int, int, double, int, Rcpp::NumericMatrix&, double, Rcpp::IntegerVector&, double, double)':
vsclust_algo.cpp:380:7: warning: this 'if' clause does not guard... [-Wmisleading-indentation]
380 | if(verbose)
| ^~
vsclust_algo.cpp:383:9: note: ...this statement, but the latter is misleadingly indented as if it were guarded by the 'if'
383 | ermin = new_fitness;
| ^~~~~
g++ -std=gnu++17 -shared -s -static-libgcc -o vsclust.dll tmp.def RcppExports.o vsclust_algo.o -LC:/rtools45/x86_64-w64-mingw32.static.posix/lib/x64 -LC:/rtools45/x86_64-w64-mingw32.static.posix/lib -LF:/biocbuild/bbs-3.22-bioc/R/bin/x64 -lR
installing to F:/biocbuild/bbs-3.22-bioc/R/library/00LOCK-vsclust/00new/vsclust/libs/x64
** R
** data
** inst
** byte-compile and prepare package for lazy loading
** help
*** installing help indices
** building package indices
** installing vignettes
** testing if installed package can be loaded from temporary location
** testing if installed package can be loaded from final location
** testing if installed package keeps a record of temporary installation path
* DONE (vsclust)
vsclust.Rcheck/tests/testthat.Rout
R version 4.5.1 (2025-06-13 ucrt) -- "Great Square Root"
Copyright (C) 2025 The R Foundation for Statistical Computing
Platform: x86_64-w64-mingw32/x64
R is free software and comes with ABSOLUTELY NO WARRANTY.
You are welcome to redistribute it under certain conditions.
Type 'license()' or 'licence()' for distribution details.
R is a collaborative project with many contributors.
Type 'contributors()' for more information and
'citation()' on how to cite R or R packages in publications.
Type 'demo()' for some demos, 'help()' for on-line help, or
'help.start()' for an HTML browser interface to help.
Type 'q()' to quit R.
> # This file is part of the standard setup for testthat.
> # It is recommended that you do not modify it.
> #
> # Where should you do additional test configuration?
> # Learn more about the roles of various files in:
> # * https://r-pkgs.org/tests.html
> # * https://testthat.r-lib.org/reference/test_package.html#special-files
>
> library(testthat)
> library(vsclust)
>
> test_check("vsclust")
Running cluster number 3
Running cluster number 4
Running cluster number 5
Running cluster number 6
Running cluster number 7
Running cluster number 8
Running cluster number 9
Running cluster number 10
[ FAIL 0 | WARN 0 | SKIP 0 | PASS 6 ]
Warning message:
In for (i in seq_len(n)) { :
closing unused connection 5 (<-palomino8:11127)
>
> proc.time()
user system elapsed
14.12 0.98 81.84
vsclust.Rcheck/vsclust-Ex.timings
| name | user | system | elapsed | |
| ClustComp | 0.03 | 0.03 | 14.68 | |
| PrepareForVSClust | 0.06 | 0.00 | 0.07 | |
| PrepareSEForVSClust | 0.39 | 0.08 | 0.48 | |
| SignAnalysis | 0.03 | 0.00 | 0.03 | |
| SignAnalysisPaired | 0.02 | 0.00 | 0.02 | |
| SwitchOrder | 0.01 | 0.00 | 0.01 | |
| averageCond | 0 | 0 | 0 | |
| calcBHI | 7.02 | 0.42 | 12.69 | |
| cvalidate.xiebeni | 0.02 | 0.00 | 0.02 | |
| determine_fuzz | 0 | 0 | 0 | |
| enrichSTRING_API | 0.06 | 0.01 | 4.09 | |
| estimClust.plot | 0.12 | 0.05 | 23.25 | |
| estimClustNum | 0.07 | 0.02 | 19.20 | |
| mfuzz.plot | 0.06 | 0.00 | 0.07 | |
| optimalClustNum | 0.09 | 0.01 | 20.61 | |
| pcaWithVar | 0.02 | 0.00 | 0.01 | |
| runClustWrapper | 0.03 | 0.00 | 21.17 | |
| runFuncEnrich | 0 | 0 | 0 | |
| runVSClustApp | 0 | 0 | 0 | |
| vsclust_algorithm | 0.01 | 0.00 | 0.02 | |