Back to Multiple platform build/check report for BioC 3.22:   simplified   long
ABCDEFGHIJKLMNOPQRS[T]UVWXYZ

This page was generated on 2025-11-20 12:05 -0500 (Thu, 20 Nov 2025).

HostnameOSArch (*)R versionInstalled pkgs
nebbiolo2Linux (Ubuntu 24.04.3 LTS)x86_644.5.2 (2025-10-31) -- "[Not] Part in a Rumble" 4615
merida1macOS 12.7.6 Montereyx86_644.5.2 Patched (2025-11-05 r88990) -- "[Not] Part in a Rumble" 4610
kjohnson1macOS 13.7.5 Venturaarm644.5.2 Patched (2025-11-04 r88984) -- "[Not] Part in a Rumble" 4598
taishanLinux (openEuler 24.03 LTS)aarch644.5.0 (2025-04-11) -- "How About a Twenty-Six" 4668
Click on any hostname to see more info about the system (e.g. compilers)      (*) as reported by 'uname -p', except on Windows and Mac OS X

Package 2282/2361HostnameOS / ArchINSTALLBUILDCHECKBUILD BIN
twoddpcr 1.34.0  (landing page)
Anthony Chiu
Snapshot Date: 2025-11-17 13:45 -0500 (Mon, 17 Nov 2025)
git_url: https://git.bioconductor.org/packages/twoddpcr
git_branch: RELEASE_3_22
git_last_commit: 75a6d44
git_last_commit_date: 2025-10-29 10:37:06 -0500 (Wed, 29 Oct 2025)
nebbiolo2Linux (Ubuntu 24.04.3 LTS) / x86_64  OK    OK    OK  UNNEEDED, same version is already published
merida1macOS 12.7.6 Monterey / x86_64  OK    OK    OK    OK  UNNEEDED, same version is already published
kjohnson1macOS 13.7.5 Ventura / arm64  OK    OK    OK    OK  UNNEEDED, same version is already published
taishanLinux (openEuler 24.03 LTS) / aarch64  OK    OK    NA  


CHECK results for twoddpcr on merida1

To the developers/maintainers of the twoddpcr package:
- Allow up to 24 hours (and sometimes 48 hours) for your latest push to git@git.bioconductor.org:packages/twoddpcr.git to reflect on this report. See Troubleshooting Build Report for more information.
- Use the following Renviron settings to reproduce errors and warnings.
- If 'R CMD check' started to fail recently on the Linux builder(s) over a missing dependency, add the missing dependency to 'Suggests:' in your DESCRIPTION file. See Renviron.bioc for more information.

raw results


Summary

Package: twoddpcr
Version: 1.34.0
Command: /Library/Frameworks/R.framework/Resources/bin/R CMD check --install=check:twoddpcr.install-out.txt --library=/Library/Frameworks/R.framework/Resources/library --no-vignettes --timings twoddpcr_1.34.0.tar.gz
StartedAt: 2025-11-18 16:18:38 -0500 (Tue, 18 Nov 2025)
EndedAt: 2025-11-18 16:23:05 -0500 (Tue, 18 Nov 2025)
EllapsedTime: 267.1 seconds
RetCode: 0
Status:   OK  
CheckDir: twoddpcr.Rcheck
Warnings: 0

Command output

##############################################################################
##############################################################################
###
### Running command:
###
###   /Library/Frameworks/R.framework/Resources/bin/R CMD check --install=check:twoddpcr.install-out.txt --library=/Library/Frameworks/R.framework/Resources/library --no-vignettes --timings twoddpcr_1.34.0.tar.gz
###
##############################################################################
##############################################################################


* using log directory ‘/Users/biocbuild/bbs-3.22-bioc/meat/twoddpcr.Rcheck’
* using R version 4.5.2 Patched (2025-11-05 r88990)
* using platform: x86_64-apple-darwin20
* R was compiled by
    Apple clang version 14.0.0 (clang-1400.0.29.202)
    GNU Fortran (GCC) 14.2.0
* running under: macOS Monterey 12.7.6
* using session charset: UTF-8
* using option ‘--no-vignettes’
* checking for file ‘twoddpcr/DESCRIPTION’ ... OK
* this is package ‘twoddpcr’ version ‘1.34.0’
* checking package namespace information ... OK
* checking package dependencies ... OK
* checking if this is a source package ... OK
* checking if there is a namespace ... OK
* checking for hidden files and directories ... OK
* checking for portable file names ... OK
* checking for sufficient/correct file permissions ... OK
* checking whether package ‘twoddpcr’ can be installed ... OK
* checking installed package size ... OK
* checking package directory ... OK
* checking ‘build’ directory ... OK
* checking DESCRIPTION meta-information ... OK
* checking top-level files ... OK
* checking for left-over files ... OK
* checking index information ... OK
* checking package subdirectories ... OK
* checking code files for non-ASCII characters ... OK
* checking R files for syntax errors ... OK
* checking whether the package can be loaded ... OK
* checking whether the package can be loaded with stated dependencies ... OK
* checking whether the package can be unloaded cleanly ... OK
* checking whether the namespace can be loaded with stated dependencies ... OK
* checking whether the namespace can be unloaded cleanly ... OK
* checking dependencies in R code ... OK
* checking S3 generic/method consistency ... OK
* checking replacement functions ... OK
* checking foreign function calls ... OK
* checking R code for possible problems ... OK
* checking Rd files ... OK
* checking Rd metadata ... OK
* checking Rd cross-references ... OK
* checking for missing documentation entries ... OK
* checking for code/documentation mismatches ... OK
* checking Rd \usage sections ... NOTE
S3 methods shown with full name in Rd file 'ggplot.well.Rd':
  ‘ggplot.well’ ‘ggplot.plate’

The \usage entries for S3 methods should use the \method markup and not
their full name.
See chapter ‘Writing R documentation files’ in the ‘Writing R
Extensions’ manual.
* checking Rd contents ... OK
* checking for unstated dependencies in examples ... OK
* checking contents of ‘data’ directory ... OK
* checking data for non-ASCII characters ... OK
* checking LazyData ... OK
* checking data for ASCII and uncompressed saves ... OK
* checking files in ‘vignettes’ ... OK
* checking examples ... OK
Examples with CPU (user + system) or elapsed time > 5s
                   user system elapsed
knnClassify      14.817  0.250  16.188
ggplot.well      10.131  0.405  10.719
dropletPlot       8.531  0.311   9.383
gridClassify      8.283  0.198   8.793
flatPlot          6.997  0.338   7.553
renormalisePlate  5.604  0.129   6.131
facetPlot         4.792  0.121   5.272
* checking for unstated dependencies in ‘tests’ ... OK
* checking tests ...
  Running ‘testthat.R’
 OK
* checking for unstated dependencies in vignettes ... OK
* checking package vignettes ... OK
* checking running R code from vignettes ... SKIPPED
* checking re-building of vignette outputs ... SKIPPED
* checking PDF version of manual ... OK
* DONE

Status: 1 NOTE
See
  ‘/Users/biocbuild/bbs-3.22-bioc/meat/twoddpcr.Rcheck/00check.log’
for details.


Installation output

twoddpcr.Rcheck/00install.out

##############################################################################
##############################################################################
###
### Running command:
###
###   /Library/Frameworks/R.framework/Resources/bin/R CMD INSTALL twoddpcr
###
##############################################################################
##############################################################################


* installing to library ‘/Library/Frameworks/R.framework/Versions/4.5-x86_64/Resources/library’
* installing *source* package ‘twoddpcr’ ...
** this is package ‘twoddpcr’ version ‘1.34.0’
** using staged installation
** R
** data
*** moving datasets to lazyload DB
** inst
** byte-compile and prepare package for lazy loading
** help
*** installing help indices
** building package indices
** installing vignettes
** testing if installed package can be loaded from temporary location
** testing if installed package can be loaded from final location
** testing if installed package keeps a record of temporary installation path
* DONE (twoddpcr)

Tests output

twoddpcr.Rcheck/tests/testthat.Rout


R version 4.5.2 Patched (2025-11-05 r88990) -- "[Not] Part in a Rumble"
Copyright (C) 2025 The R Foundation for Statistical Computing
Platform: x86_64-apple-darwin20

R is free software and comes with ABSOLUTELY NO WARRANTY.
You are welcome to redistribute it under certain conditions.
Type 'license()' or 'licence()' for distribution details.

R is a collaborative project with many contributors.
Type 'contributors()' for more information and
'citation()' on how to cite R or R packages in publications.

Type 'demo()' for some demos, 'help()' for on-line help, or
'help.start()' for an HTML browser interface to help.
Type 'q()' to quit R.

> library(testthat)
> library(twoddpcr)
> 
> test_check("twoddpcr")
[ FAIL 0 | WARN 2 | SKIP 0 | PASS 155 ]

[ FAIL 0 | WARN 2 | SKIP 0 | PASS 155 ]
> 
> proc.time()
   user  system elapsed 
 14.124   0.858  15.610 

Example timings

twoddpcr.Rcheck/twoddpcr-Ex.timings

nameusersystemelapsed
amplitudes0.5900.0380.638
basicsSummary0.0090.0020.011
castSummary0.0420.0120.056
classCov0.1080.0160.125
classMeans0.1160.0160.132
classStats0.1240.0180.143
clusterCentres1.3340.0801.432
copiesSummary0.0120.0020.015
ddpcrPlate-class0.5220.0090.541
ddpcrWell-class0.0450.0020.049
ddpcrWell-methods0.4740.0210.498
dropletPlot8.5310.3119.383
exportTable0.5280.0330.595
extractPlateName0.0000.0010.001
extractWellNames0.0010.0010.002
facetPlot4.7920.1215.272
flatPlot6.9970.3387.553
fullCopiesSummary0.0140.0040.019
fullCountsSummary0.0660.0170.084
ggplot.well10.131 0.40510.719
gridClassify8.2830.1988.793
heatPlot3.7710.0784.017
kmeansClassify1.8800.0601.996
knnClassify14.817 0.25016.188
mahalanobisRain1.4230.0561.494
mutantCopiesSummary0.0090.0030.012
numDroplets0.4770.0140.501
parseClusterCounts0.0290.0100.041
plateClassification2.1060.0562.239
plateClassificationMethod0.7160.0070.750
plateSummary2.8570.0383.228
positiveCounts0.0470.0020.054
readCSVDataFrame0.0250.0080.041
relabelClasses0.1420.0120.164
removeDropletClasses1.0610.0421.130
renormalisePlate5.6040.1296.131
sdRain4.5840.0644.716
setChannelNames0.0030.0020.005
setDropletVolume0.0010.0000.001
sortDataFrame0.0040.0020.007
sortWells0.4820.0110.500
thresholdClassify2.8180.0592.945
wellClassification0.0380.0030.046
wellClassificationMethod0.0650.0050.071
whiteTheme2.5370.0642.727
wildTypeCopiesSummary0.0090.0030.019