Back to Multiple platform build/check report for BioC 3.22:   simplified   long
ABCDEFGHIJKLMNOPQRS[T]UVWXYZ

This page was generated on 2025-11-20 12:05 -0500 (Thu, 20 Nov 2025).

HostnameOSArch (*)R versionInstalled pkgs
nebbiolo2Linux (Ubuntu 24.04.3 LTS)x86_644.5.2 (2025-10-31) -- "[Not] Part in a Rumble" 4615
merida1macOS 12.7.6 Montereyx86_644.5.2 Patched (2025-11-05 r88990) -- "[Not] Part in a Rumble" 4610
kjohnson1macOS 13.7.5 Venturaarm644.5.2 Patched (2025-11-04 r88984) -- "[Not] Part in a Rumble" 4598
taishanLinux (openEuler 24.03 LTS)aarch644.5.0 (2025-04-11) -- "How About a Twenty-Six" 4668
Click on any hostname to see more info about the system (e.g. compilers)      (*) as reported by 'uname -p', except on Windows and Mac OS X

Package 2276/2361HostnameOS / ArchINSTALLBUILDCHECKBUILD BIN
ttgsea 1.18.0  (landing page)
Dongmin Jung
Snapshot Date: 2025-11-17 13:45 -0500 (Mon, 17 Nov 2025)
git_url: https://git.bioconductor.org/packages/ttgsea
git_branch: RELEASE_3_22
git_last_commit: 2003726
git_last_commit_date: 2025-10-29 11:05:12 -0500 (Wed, 29 Oct 2025)
nebbiolo2Linux (Ubuntu 24.04.3 LTS) / x86_64  OK    OK    OK  UNNEEDED, same version is already published
merida1macOS 12.7.6 Monterey / x86_64  OK    OK    OK    OK  YES
kjohnson1macOS 13.7.5 Ventura / arm64  OK    OK    OK    OK  UNNEEDED, same version is already published
taishanLinux (openEuler 24.03 LTS) / aarch64  OK    OK    OK  


CHECK results for ttgsea on merida1

To the developers/maintainers of the ttgsea package:
- Allow up to 24 hours (and sometimes 48 hours) for your latest push to git@git.bioconductor.org:packages/ttgsea.git to reflect on this report. See Troubleshooting Build Report for more information.
- Use the following Renviron settings to reproduce errors and warnings.
- If 'R CMD check' started to fail recently on the Linux builder(s) over a missing dependency, add the missing dependency to 'Suggests:' in your DESCRIPTION file. See Renviron.bioc for more information.

raw results


Summary

Package: ttgsea
Version: 1.18.0
Command: /Library/Frameworks/R.framework/Resources/bin/R CMD check --install=check:ttgsea.install-out.txt --library=/Library/Frameworks/R.framework/Resources/library --no-vignettes --timings ttgsea_1.18.0.tar.gz
StartedAt: 2025-11-18 16:16:16 -0500 (Tue, 18 Nov 2025)
EndedAt: 2025-11-18 16:21:28 -0500 (Tue, 18 Nov 2025)
EllapsedTime: 311.8 seconds
RetCode: 0
Status:   OK  
CheckDir: ttgsea.Rcheck
Warnings: 0

Command output

##############################################################################
##############################################################################
###
### Running command:
###
###   /Library/Frameworks/R.framework/Resources/bin/R CMD check --install=check:ttgsea.install-out.txt --library=/Library/Frameworks/R.framework/Resources/library --no-vignettes --timings ttgsea_1.18.0.tar.gz
###
##############################################################################
##############################################################################


* using log directory ‘/Users/biocbuild/bbs-3.22-bioc/meat/ttgsea.Rcheck’
* using R version 4.5.2 Patched (2025-11-05 r88990)
* using platform: x86_64-apple-darwin20
* R was compiled by
    Apple clang version 14.0.0 (clang-1400.0.29.202)
    GNU Fortran (GCC) 14.2.0
* running under: macOS Monterey 12.7.6
* using session charset: UTF-8
* using option ‘--no-vignettes’
* checking for file ‘ttgsea/DESCRIPTION’ ... OK
* checking extension type ... Package
* this is package ‘ttgsea’ version ‘1.18.0’
* checking package namespace information ... OK
* checking package dependencies ... OK
* checking if this is a source package ... OK
* checking if there is a namespace ... OK
* checking for hidden files and directories ... OK
* checking for portable file names ... OK
* checking for sufficient/correct file permissions ... OK
* checking whether package ‘ttgsea’ can be installed ... OK
* checking installed package size ... OK
* checking package directory ... OK
* checking ‘build’ directory ... OK
* checking DESCRIPTION meta-information ... OK
* checking top-level files ... OK
* checking for left-over files ... OK
* checking index information ... OK
* checking package subdirectories ... OK
* checking code files for non-ASCII characters ... OK
* checking R files for syntax errors ... OK
* checking whether the package can be loaded ... OK
* checking whether the package can be loaded with stated dependencies ... OK
* checking whether the package can be unloaded cleanly ... OK
* checking whether the namespace can be loaded with stated dependencies ... OK
* checking whether the namespace can be unloaded cleanly ... OK
* checking dependencies in R code ... OK
* checking S3 generic/method consistency ... OK
* checking replacement functions ... OK
* checking foreign function calls ... OK
* checking R code for possible problems ... OK
* checking Rd files ... OK
* checking Rd metadata ... OK
* checking Rd cross-references ... OK
* checking for missing documentation entries ... OK
* checking for code/documentation mismatches ... OK
* checking Rd \usage sections ... OK
* checking Rd contents ... OK
* checking for unstated dependencies in examples ... OK
* checking files in ‘vignettes’ ... OK
* checking examples ... OK
Examples with CPU (user + system) or elapsed time > 5s
                user system elapsed
fit_model     40.053  3.271  32.258
predict_model 38.506  4.010  30.243
bi_gru        16.910  2.245  38.322
token_vector  15.474  1.020  11.795
text_token    15.376  0.864  11.077
* checking for unstated dependencies in ‘tests’ ... OK
* checking tests ...
  Running ‘testthat.R’
 OK
* checking for unstated dependencies in vignettes ... OK
* checking package vignettes ... OK
* checking running R code from vignettes ... SKIPPED
* checking re-building of vignette outputs ... SKIPPED
* checking PDF version of manual ... OK
* DONE

Status: OK


Installation output

ttgsea.Rcheck/00install.out

##############################################################################
##############################################################################
###
### Running command:
###
###   /Library/Frameworks/R.framework/Resources/bin/R CMD INSTALL ttgsea
###
##############################################################################
##############################################################################


* installing to library ‘/Library/Frameworks/R.framework/Versions/4.5-x86_64/Resources/library’
* installing *source* package ‘ttgsea’ ...
** this is package ‘ttgsea’ version ‘1.18.0’
** using staged installation
** R
** byte-compile and prepare package for lazy loading
** help
*** installing help indices
** building package indices
** installing vignettes
** testing if installed package can be loaded from temporary location
** testing if installed package can be loaded from final location
** testing if installed package keeps a record of temporary installation path
* DONE (ttgsea)

Tests output

ttgsea.Rcheck/tests/testthat.Rout


R version 4.5.2 Patched (2025-11-05 r88990) -- "[Not] Part in a Rumble"
Copyright (C) 2025 The R Foundation for Statistical Computing
Platform: x86_64-apple-darwin20

R is free software and comes with ABSOLUTELY NO WARRANTY.
You are welcome to redistribute it under certain conditions.
Type 'license()' or 'licence()' for distribution details.

R is a collaborative project with many contributors.
Type 'contributors()' for more information and
'citation()' on how to cite R or R packages in publications.

Type 'demo()' for some demos, 'help()' for on-line help, or
'help.start()' for an HTML browser interface to help.
Type 'q()' to quit R.

> library(testthat)
> library(ttgsea)
Loading required package: keras
The keras package is deprecated. Use the keras3 package instead.
> 
> test_check("ttgsea")

 1/45 [..............................] - ETA: 6:41 - loss: 1.3633 - pearson_correlation: -0.0622
 2/45 [>.............................] - ETA: 2s - loss: 1.3638 - pearson_correlation: -0.0310  
 4/45 [=>............................] - ETA: 1s - loss: 1.4778 - pearson_correlation: -0.0532
 6/45 [===>..........................] - ETA: 1s - loss: 1.6065 - pearson_correlation: -0.0050
 8/45 [====>.........................] - ETA: 1s - loss: 1.6307 - pearson_correlation: -0.0427
10/45 [=====>........................] - ETA: 1s - loss: 1.6411 - pearson_correlation: -0.0195
12/45 [=======>......................] - ETA: 1s - loss: 1.6251 - pearson_correlation: -0.0043
14/45 [========>.....................] - ETA: 1s - loss: 1.6305 - pearson_correlation: 0.0011 
16/45 [=========>....................] - ETA: 1s - loss: 1.6225 - pearson_correlation: 0.0388
18/45 [===========>..................] - ETA: 1s - loss: 1.5873 - pearson_correlation: 0.0529
20/45 [============>.................] - ETA: 1s - loss: 1.5781 - pearson_correlation: 0.0540
22/45 [=============>................] - ETA: 0s - loss: 1.5579 - pearson_correlation: 0.0403
24/45 [===============>..............] - ETA: 0s - loss: 1.5703 - pearson_correlation: 0.0524
26/45 [================>.............] - ETA: 0s - loss: 1.5693 - pearson_correlation: 0.0586
28/45 [=================>............] - ETA: 0s - loss: 1.5739 - pearson_correlation: 0.0678
30/45 [===================>..........] - ETA: 0s - loss: 1.5619 - pearson_correlation: 0.0731
31/45 [===================>..........] - ETA: 0s - loss: 1.5641 - pearson_correlation: 0.0711
32/45 [====================>.........] - ETA: 0s - loss: 1.5658 - pearson_correlation: 0.0745
34/45 [=====================>........] - ETA: 0s - loss: 1.5573 - pearson_correlation: 0.0736
36/45 [=======================>......] - ETA: 0s - loss: 1.5497 - pearson_correlation: 0.0844
38/45 [========================>.....] - ETA: 0s - loss: 1.5595 - pearson_correlation: 0.0929
40/45 [=========================>....] - ETA: 0s - loss: 1.5609 - pearson_correlation: 0.0990
42/45 [===========================>..] - ETA: 0s - loss: 1.5735 - pearson_correlation: 0.1050
44/45 [============================>.] - ETA: 0s - loss: 1.5680 - pearson_correlation: 0.1122
45/45 [==============================] - 11s 40ms/step - loss: 1.5657 - pearson_correlation: 0.1035

1/4 [======>.......................] - ETA: 2s
4/4 [==============================] - 1s 9ms/step

1/1 [==============================] - ETA: 0s
1/1 [==============================] - 0s 49ms/step

 1/32 [..............................] - ETA: 1s
 7/32 [=====>........................] - ETA: 0s
13/32 [===========>..................] - ETA: 0s
19/32 [================>.............] - ETA: 0s
25/32 [======================>.......] - ETA: 0s
31/32 [============================>.] - ETA: 0s
32/32 [==============================] - 0s 9ms/step

 1/32 [..............................] - ETA: 1s
 7/32 [=====>........................] - ETA: 0s
13/32 [===========>..................] - ETA: 0s
19/32 [================>.............] - ETA: 0s
25/32 [======================>.......] - ETA: 0s
31/32 [============================>.] - ETA: 0s
32/32 [==============================] - 0s 9ms/step

1/1 [==============================] - ETA: 0s
1/1 [==============================] - 0s 47ms/step

 1/32 [..............................] - ETA: 1s
 6/32 [====>.........................] - ETA: 0s
12/32 [==========>...................] - ETA: 0s
18/32 [===============>..............] - ETA: 0s
24/32 [=====================>........] - ETA: 0s
30/32 [===========================>..] - ETA: 0s
32/32 [==============================] - 0s 9ms/step

 1/32 [..............................] - ETA: 1s
 5/32 [===>..........................] - ETA: 0s
10/32 [========>.....................] - ETA: 0s
16/32 [==============>...............] - ETA: 0s
22/32 [===================>..........] - ETA: 0s
28/32 [=========================>....] - ETA: 0s
32/32 [==============================] - 0s 10ms/step

 1/32 [..............................] - ETA: 1s
 5/32 [===>..........................] - ETA: 0s
10/32 [========>.....................] - ETA: 0s
16/32 [==============>...............] - ETA: 0s
21/32 [==================>...........] - ETA: 0s
27/32 [========================>.....] - ETA: 0s
32/32 [==============================] - 0s 10ms/step

 1/32 [..............................] - ETA: 1s
 5/32 [===>..........................] - ETA: 0s
11/32 [=========>....................] - ETA: 0s
17/32 [==============>...............] - ETA: 0s
23/32 [====================>.........] - ETA: 0s
29/32 [==========================>...] - ETA: 0s
32/32 [==============================] - 0s 10ms/step
[ FAIL 0 | WARN 0 | SKIP 0 | PASS 13 ]
> 
> proc.time()
   user  system elapsed 
 56.828   6.837  53.759 

Example timings

ttgsea.Rcheck/ttgsea-Ex.timings

nameusersystemelapsed
bi_gru16.910 2.24538.322
bi_lstm0.5470.0340.616
fit_model40.053 3.27132.258
metric_pearson_correlation0.0230.0020.026
plot_model0.4570.0450.531
predict_model38.506 4.01030.243
sampling_generator0.0010.0000.001
text_token15.376 0.86411.077
token_vector15.474 1.02011.795