| Back to Multiple platform build/check report for BioC 3.22: simplified long |
|
This page was generated on 2025-08-15 12:07 -0400 (Fri, 15 Aug 2025).
| Hostname | OS | Arch (*) | R version | Installed pkgs |
|---|---|---|---|---|
| nebbiolo2 | Linux (Ubuntu 24.04.3 LTS) | x86_64 | 4.5.1 (2025-06-13) -- "Great Square Root" | 4818 |
| palomino8 | Windows Server 2022 Datacenter | x64 | 4.5.1 (2025-06-13 ucrt) -- "Great Square Root" | 4554 |
| lconway | macOS 12.7.1 Monterey | x86_64 | 4.5.1 (2025-06-13) -- "Great Square Root" | 4595 |
| kjohnson3 | macOS 13.7.7 Ventura | arm64 | 4.5.1 Patched (2025-06-14 r88325) -- "Great Square Root" | 4537 |
| taishan | Linux (openEuler 24.03 LTS) | aarch64 | 4.5.0 (2025-04-11) -- "How About a Twenty-Six" | 4535 |
| Click on any hostname to see more info about the system (e.g. compilers) (*) as reported by 'uname -p', except on Windows and Mac OS X | ||||
| Package 1919/2317 | Hostname | OS / Arch | INSTALL | BUILD | CHECK | BUILD BIN | ||||||||
| scRepertoire 2.5.3 (landing page) Nick Borcherding
| nebbiolo2 | Linux (Ubuntu 24.04.3 LTS) / x86_64 | OK | OK | OK | |||||||||
| palomino8 | Windows Server 2022 Datacenter / x64 | OK | OK | OK | OK | |||||||||
| lconway | macOS 12.7.1 Monterey / x86_64 | OK | OK | OK | OK | |||||||||
| kjohnson3 | macOS 13.7.7 Ventura / arm64 | OK | OK | OK | OK | |||||||||
| taishan | Linux (openEuler 24.03 LTS) / aarch64 | OK | OK | OK | ||||||||||
|
To the developers/maintainers of the scRepertoire package: - Allow up to 24 hours (and sometimes 48 hours) for your latest push to git@git.bioconductor.org:packages/scRepertoire.git to reflect on this report. See Troubleshooting Build Report for more information. - Use the following Renviron settings to reproduce errors and warnings. - If 'R CMD check' started to fail recently on the Linux builder(s) over a missing dependency, add the missing dependency to 'Suggests:' in your DESCRIPTION file. See Renviron.bioc for more information. |
| Package: scRepertoire |
| Version: 2.5.3 |
| Command: F:\biocbuild\bbs-3.22-bioc\R\bin\R.exe CMD check --no-multiarch --install=check:scRepertoire.install-out.txt --library=F:\biocbuild\bbs-3.22-bioc\R\library --no-vignettes --timings scRepertoire_2.5.3.tar.gz |
| StartedAt: 2025-08-15 07:41:30 -0400 (Fri, 15 Aug 2025) |
| EndedAt: 2025-08-15 07:53:51 -0400 (Fri, 15 Aug 2025) |
| EllapsedTime: 740.8 seconds |
| RetCode: 0 |
| Status: OK |
| CheckDir: scRepertoire.Rcheck |
| Warnings: 0 |
##############################################################################
##############################################################################
###
### Running command:
###
### F:\biocbuild\bbs-3.22-bioc\R\bin\R.exe CMD check --no-multiarch --install=check:scRepertoire.install-out.txt --library=F:\biocbuild\bbs-3.22-bioc\R\library --no-vignettes --timings scRepertoire_2.5.3.tar.gz
###
##############################################################################
##############################################################################
* using log directory 'F:/biocbuild/bbs-3.22-bioc/meat/scRepertoire.Rcheck'
* using R version 4.5.1 (2025-06-13 ucrt)
* using platform: x86_64-w64-mingw32
* R was compiled by
gcc.exe (GCC) 14.2.0
GNU Fortran (GCC) 14.2.0
* running under: Windows Server 2022 x64 (build 20348)
* using session charset: UTF-8
* using option '--no-vignettes'
* checking for file 'scRepertoire/DESCRIPTION' ... OK
* this is package 'scRepertoire' version '2.5.3'
* package encoding: UTF-8
* checking package namespace information ... OK
* checking package dependencies ... OK
* checking if this is a source package ... OK
* checking if there is a namespace ... OK
* checking for hidden files and directories ... OK
* checking for portable file names ... OK
* checking whether package 'scRepertoire' can be installed ... OK
* used C++ compiler: 'G__~1.EXE (GCC) 14.2.0'
* checking installed package size ... OK
* checking package directory ... OK
* checking 'build' directory ... OK
* checking DESCRIPTION meta-information ... OK
* checking top-level files ... OK
* checking for left-over files ... OK
* checking index information ... OK
* checking package subdirectories ... NOTE
Found the following CITATION file in a non-standard place:
CITATION.cff
Most likely 'inst/CITATION' should be used instead.
* checking code files for non-ASCII characters ... OK
* checking R files for syntax errors ... OK
* checking whether the package can be loaded ... OK
* checking whether the package can be loaded with stated dependencies ... OK
* checking whether the package can be unloaded cleanly ... OK
* checking whether the namespace can be loaded with stated dependencies ... OK
* checking whether the namespace can be unloaded cleanly ... OK
* checking whether startup messages can be suppressed ... OK
* checking dependencies in R code ... OK
* checking S3 generic/method consistency ... OK
* checking replacement functions ... OK
* checking foreign function calls ... OK
* checking R code for possible problems ... NOTE
.calculatePairwiseIndices: no visible global function definition for
'combn'
clonalSizeDistribution: no visible binding for global variable 'y'
Undefined global functions or variables:
combn y
Consider adding
importFrom("utils", "combn")
to your NAMESPACE file.
* checking Rd files ... OK
* checking Rd metadata ... OK
* checking Rd cross-references ... NOTE
Non-topic package-anchored link(s) in Rd file 'StartracDiversity.Rd':
'[grDevices:palettes]{hcl.pals}'
Non-topic package-anchored link(s) in Rd file 'alluvialClones.Rd':
'[grDevices:palettes]{hcl.pals}'
Non-topic package-anchored link(s) in Rd file 'clonalAbundance.Rd':
'[grDevices:palettes]{hcl.pals}'
Non-topic package-anchored link(s) in Rd file 'clonalBias.Rd':
'[grDevices:palettes]{hcl.pals}'
Non-topic package-anchored link(s) in Rd file 'clonalDiversity.Rd':
'[grDevices:palettes]{hcl.pals}'
Non-topic package-anchored link(s) in Rd file 'clonalHomeostasis.Rd':
'[grDevices:palettes]{hcl.pals}'
Non-topic package-anchored link(s) in Rd file 'clonalLength.Rd':
'[grDevices:palettes]{hcl.pals}'
Non-topic package-anchored link(s) in Rd file 'clonalNetwork.Rd':
'[grDevices:palettes]{hcl.pals}'
Non-topic package-anchored link(s) in Rd file 'clonalOccupy.Rd':
'[grDevices:palettes]{hcl.pals}'
Non-topic package-anchored link(s) in Rd file 'clonalOverlap.Rd':
'[grDevices:palettes]{hcl.pals}'
Non-topic package-anchored link(s) in Rd file 'clonalProportion.Rd':
'[grDevices:palettes]{hcl.pals}'
Non-topic package-anchored link(s) in Rd file 'clonalQuant.Rd':
'[grDevices:palettes]{hcl.pals}'
Non-topic package-anchored link(s) in Rd file 'clonalRarefaction.Rd':
'[grDevices:palettes]{hcl.pals}'
Non-topic package-anchored link(s) in Rd file 'clonalScatter.Rd':
'[grDevices:palettes]{hcl.pals}'
Non-topic package-anchored link(s) in Rd file 'clonalSizeDistribution.Rd':
'[grDevices:palettes]{hcl.pals}'
Non-topic package-anchored link(s) in Rd file 'percentAA.Rd':
'[grDevices:palettes]{hcl.pals}'
Non-topic package-anchored link(s) in Rd file 'percentGeneUsage.Rd':
'[grDevices:palettes]{hcl.pals}'
Non-topic package-anchored link(s) in Rd file 'percentKmer.Rd':
'[grDevices:palettes]{hcl.pals}'
Non-topic package-anchored link(s) in Rd file 'positionalEntropy.Rd':
'[grDevices:palettes]{hcl.pals}'
Non-topic package-anchored link(s) in Rd file 'positionalProperty.Rd':
'[grDevices:palettes]{hcl.pals}'
See section 'Cross-references' in the 'Writing R Extensions' manual.
* checking for missing documentation entries ... OK
* checking for code/documentation mismatches ... OK
* checking Rd \usage sections ... OK
* checking Rd contents ... OK
* checking for unstated dependencies in examples ... OK
* checking contents of 'data' directory ... OK
* checking data for non-ASCII characters ... OK
* checking LazyData ... OK
* checking data for ASCII and uncompressed saves ... OK
* checking line endings in C/C++/Fortran sources/headers ... OK
* checking compiled code ... NOTE
Note: information on .o files for x64 is not available
File 'F:/biocbuild/bbs-3.22-bioc/R/library/scRepertoire/libs/x64/scRepertoire.dll':
Found '_exit', possibly from '_exit' (C)
Found 'abort', possibly from 'abort' (C), 'runtime' (Fortran)
Found 'exit', possibly from 'exit' (C), 'stop' (Fortran)
Compiled code should not call entry points which might terminate R nor
write to stdout/stderr instead of to the console, nor use Fortran I/O
nor system RNGs nor [v]sprintf. The detected symbols are linked into
the code but might come from libraries and not actually be called.
See 'Writing portable packages' in the 'Writing R Extensions' manual.
* checking files in 'vignettes' ... OK
* checking examples ... OK
Examples with CPU (user + system) or elapsed time > 5s
user system elapsed
clonalSizeDistribution 13.06 0.81 13.89
clonalCluster 11.73 0.72 11.54
StartracDiversity 11.08 0.56 11.98
percentGeneUsage 8.86 0.19 9.05
clonalRarefaction 5.97 0.31 6.28
* checking for unstated dependencies in 'tests' ... OK
* checking tests ...
Running 'spelling.R'
Running 'testthat.R'
OK
* checking for unstated dependencies in vignettes ... OK
* checking package vignettes ... OK
* checking running R code from vignettes ... SKIPPED
* checking re-building of vignette outputs ... SKIPPED
* checking PDF version of manual ... OK
* DONE
Status: 4 NOTEs
See
'F:/biocbuild/bbs-3.22-bioc/meat/scRepertoire.Rcheck/00check.log'
for details.
scRepertoire.Rcheck/00install.out
############################################################################## ############################################################################## ### ### Running command: ### ### F:\biocbuild\bbs-3.22-bioc\R\bin\R.exe CMD INSTALL scRepertoire ### ############################################################################## ############################################################################## * installing to library 'F:/biocbuild/bbs-3.22-bioc/R/library' * installing *source* package 'scRepertoire' ... ** this is package 'scRepertoire' version '2.5.3' ** using staged installation ** libs using C++ compiler: 'G__~1.EXE (GCC) 14.2.0' g++ -std=gnu++17 -I"F:/biocbuild/bbs-3.22-bioc/R/include" -DNDEBUG -I'F:/biocbuild/bbs-3.22-bioc/R/library/Rcpp/include' -I"C:/rtools45/x86_64-w64-mingw32.static.posix/include" -O2 -Wall -mfpmath=sse -msse2 -mstackrealign -c RcppExports.cpp -o RcppExports.o g++ -std=gnu++17 -I"F:/biocbuild/bbs-3.22-bioc/R/include" -DNDEBUG -I'F:/biocbuild/bbs-3.22-bioc/R/library/Rcpp/include' -I"C:/rtools45/x86_64-w64-mingw32.static.posix/include" -O2 -Wall -mfpmath=sse -msse2 -mstackrealign -c constructConDfAndParseBCR.cpp -o constructConDfAndParseBCR.o g++ -std=gnu++17 -I"F:/biocbuild/bbs-3.22-bioc/R/include" -DNDEBUG -I'F:/biocbuild/bbs-3.22-bioc/R/library/Rcpp/include' -I"C:/rtools45/x86_64-w64-mingw32.static.posix/include" -O2 -Wall -mfpmath=sse -msse2 -mstackrealign -c constructConDfAndparseTCR.cpp -o constructConDfAndparseTCR.o g++ -std=gnu++17 -shared -s -static-libgcc -o scRepertoire.dll tmp.def RcppExports.o constructConDfAndParseBCR.o constructConDfAndparseTCR.o -LC:/rtools45/x86_64-w64-mingw32.static.posix/lib/x64 -LC:/rtools45/x86_64-w64-mingw32.static.posix/lib -LF:/biocbuild/bbs-3.22-bioc/R/bin/x64 -lR installing to F:/biocbuild/bbs-3.22-bioc/R/library/00LOCK-scRepertoire/00new/scRepertoire/libs/x64 ** R ** data *** moving datasets to lazyload DB ** inst ** byte-compile and prepare package for lazy loading Note: wrong number of arguments to 'floor' Note: wrong number of arguments to 'floor' ** help *** installing help indices *** copying figures ** building package indices ** installing vignettes ** testing if installed package can be loaded from temporary location ** testing if installed package can be loaded from final location ** testing if installed package keeps a record of temporary installation path * DONE (scRepertoire)
scRepertoire.Rcheck/tests/spelling.Rout
R version 4.5.1 (2025-06-13 ucrt) -- "Great Square Root"
Copyright (C) 2025 The R Foundation for Statistical Computing
Platform: x86_64-w64-mingw32/x64
R is free software and comes with ABSOLUTELY NO WARRANTY.
You are welcome to redistribute it under certain conditions.
Type 'license()' or 'licence()' for distribution details.
R is a collaborative project with many contributors.
Type 'contributors()' for more information and
'citation()' on how to cite R or R packages in publications.
Type 'demo()' for some demos, 'help()' for on-line help, or
'help.start()' for an HTML browser interface to help.
Type 'q()' to quit R.
> if(requireNamespace('spelling', quietly = TRUE))
+ spelling::spell_check_test(vignettes = TRUE, error = FALSE,
+ skip_on_cran = TRUE)
NULL
>
> proc.time()
user system elapsed
0.23 0.06 0.32
scRepertoire.Rcheck/tests/testthat.Rout
R version 4.5.1 (2025-06-13 ucrt) -- "Great Square Root"
Copyright (C) 2025 The R Foundation for Statistical Computing
Platform: x86_64-w64-mingw32/x64
R is free software and comes with ABSOLUTELY NO WARRANTY.
You are welcome to redistribute it under certain conditions.
Type 'license()' or 'licence()' for distribution details.
R is a collaborative project with many contributors.
Type 'contributors()' for more information and
'citation()' on how to cite R or R packages in publications.
Type 'demo()' for some demos, 'help()' for on-line help, or
'help.start()' for an HTML browser interface to help.
Type 'q()' to quit R.
> # This file is part of the standard setup for testthat.
> # It is recommended that you do not modify it.
> #
> # Where should you do additional test configuration?
> # Learn more about the roles of various files in:
> # * https://r-pkgs.org/tests.html
> # * https://testthat.r-lib.org/reference/test_package.html#special-files
>
> library(testthat)
> library(scRepertoire)
Loading required package: ggplot2
>
> test_check("scRepertoire")
Attaching package: 'igraph'
The following object is masked from 'package:testthat':
compare
The following objects are masked from 'package:stats':
decompose, spectrum
The following object is masked from 'package:base':
union
[ FAIL 0 | WARN 0 | SKIP 0 | PASS 752 ]
>
> proc.time()
user system elapsed
264.17 11.14 277.96
scRepertoire.Rcheck/scRepertoire-Ex.timings
| name | user | system | elapsed | |
| StartracDiversity | 11.08 | 0.56 | 11.98 | |
| addVariable | 1.19 | 0.05 | 1.25 | |
| alluvialClones | 4.56 | 0.12 | 4.75 | |
| annotateInvariant | 2.08 | 0.13 | 2.20 | |
| clonalAbundance | 2.22 | 0.03 | 2.25 | |
| clonalBias | 2.39 | 0.09 | 2.48 | |
| clonalCluster | 11.73 | 0.72 | 11.54 | |
| clonalCompare | 3.12 | 0.10 | 3.21 | |
| clonalDiversity | 2.19 | 0.14 | 2.33 | |
| clonalHomeostasis | 1.45 | 0.03 | 1.49 | |
| clonalLength | 2.13 | 0.11 | 2.22 | |
| clonalNetwork | 0 | 0 | 0 | |
| clonalOccupy | 2.18 | 0.03 | 2.21 | |
| clonalOverlap | 1.52 | 0.05 | 1.57 | |
| clonalOverlay | 2.28 | 0.01 | 2.45 | |
| clonalProportion | 1.50 | 0.06 | 1.56 | |
| clonalQuant | 1.45 | 0.05 | 1.52 | |
| clonalRarefaction | 5.97 | 0.31 | 6.28 | |
| clonalScatter | 1.44 | 0.07 | 1.50 | |
| clonalSizeDistribution | 13.06 | 0.81 | 13.89 | |
| combineBCR | 2.39 | 0.22 | 2.58 | |
| combineExpression | 1.93 | 0.04 | 1.97 | |
| combineTCR | 1.09 | 0.08 | 1.17 | |
| createHTOContigList | 0 | 0 | 0 | |
| exportClones | 0 | 0 | 0 | |
| getCirclize | 2.08 | 0.10 | 2.17 | |
| highlightClones | 1.84 | 0.04 | 1.89 | |
| loadContigs | 0.38 | 0.02 | 0.88 | |
| percentAA | 2.65 | 0.12 | 2.78 | |
| percentGeneUsage | 8.86 | 0.19 | 9.05 | |
| percentKmer | 2.16 | 0.00 | 2.15 | |
| positionalEntropy | 1.75 | 0.02 | 1.77 | |
| positionalProperty | 3.08 | 0.01 | 3.09 | |
| quietVDJgenes | 0.07 | 0.02 | 0.10 | |
| subsetClones | 0.99 | 0.04 | 1.03 | |