| Back to Multiple platform build/check report for BioC 3.22: simplified long |
|
This page was generated on 2025-08-15 12:07 -0400 (Fri, 15 Aug 2025).
| Hostname | OS | Arch (*) | R version | Installed pkgs |
|---|---|---|---|---|
| nebbiolo2 | Linux (Ubuntu 24.04.3 LTS) | x86_64 | 4.5.1 (2025-06-13) -- "Great Square Root" | 4818 |
| palomino8 | Windows Server 2022 Datacenter | x64 | 4.5.1 (2025-06-13 ucrt) -- "Great Square Root" | 4554 |
| lconway | macOS 12.7.1 Monterey | x86_64 | 4.5.1 (2025-06-13) -- "Great Square Root" | 4595 |
| kjohnson3 | macOS 13.7.7 Ventura | arm64 | 4.5.1 Patched (2025-06-14 r88325) -- "Great Square Root" | 4537 |
| taishan | Linux (openEuler 24.03 LTS) | aarch64 | 4.5.0 (2025-04-11) -- "How About a Twenty-Six" | 4535 |
| Click on any hostname to see more info about the system (e.g. compilers) (*) as reported by 'uname -p', except on Windows and Mac OS X | ||||
| Package 1875/2317 | Hostname | OS / Arch | INSTALL | BUILD | CHECK | BUILD BIN | ||||||||
| scBubbletree 1.11.0 (landing page) Simo Kitanovski
| nebbiolo2 | Linux (Ubuntu 24.04.3 LTS) / x86_64 | OK | OK | OK | |||||||||
| palomino8 | Windows Server 2022 Datacenter / x64 | OK | OK | OK | OK | |||||||||
| lconway | macOS 12.7.1 Monterey / x86_64 | OK | OK | OK | OK | |||||||||
| kjohnson3 | macOS 13.7.7 Ventura / arm64 | OK | OK | OK | OK | |||||||||
| taishan | Linux (openEuler 24.03 LTS) / aarch64 | OK | OK | OK | ||||||||||
|
To the developers/maintainers of the scBubbletree package: - Allow up to 24 hours (and sometimes 48 hours) for your latest push to git@git.bioconductor.org:packages/scBubbletree.git to reflect on this report. See Troubleshooting Build Report for more information. - Use the following Renviron settings to reproduce errors and warnings. - If 'R CMD check' started to fail recently on the Linux builder(s) over a missing dependency, add the missing dependency to 'Suggests:' in your DESCRIPTION file. See Renviron.bioc for more information. |
| Package: scBubbletree |
| Version: 1.11.0 |
| Command: F:\biocbuild\bbs-3.22-bioc\R\bin\R.exe CMD check --no-multiarch --install=check:scBubbletree.install-out.txt --library=F:\biocbuild\bbs-3.22-bioc\R\library --no-vignettes --timings scBubbletree_1.11.0.tar.gz |
| StartedAt: 2025-08-15 07:29:48 -0400 (Fri, 15 Aug 2025) |
| EndedAt: 2025-08-15 07:41:25 -0400 (Fri, 15 Aug 2025) |
| EllapsedTime: 697.0 seconds |
| RetCode: 0 |
| Status: OK |
| CheckDir: scBubbletree.Rcheck |
| Warnings: 0 |
##############################################################################
##############################################################################
###
### Running command:
###
### F:\biocbuild\bbs-3.22-bioc\R\bin\R.exe CMD check --no-multiarch --install=check:scBubbletree.install-out.txt --library=F:\biocbuild\bbs-3.22-bioc\R\library --no-vignettes --timings scBubbletree_1.11.0.tar.gz
###
##############################################################################
##############################################################################
* using log directory 'F:/biocbuild/bbs-3.22-bioc/meat/scBubbletree.Rcheck'
* using R version 4.5.1 (2025-06-13 ucrt)
* using platform: x86_64-w64-mingw32
* R was compiled by
gcc.exe (GCC) 14.2.0
GNU Fortran (GCC) 14.2.0
* running under: Windows Server 2022 x64 (build 20348)
* using session charset: UTF-8
* using option '--no-vignettes'
* checking for file 'scBubbletree/DESCRIPTION' ... OK
* checking extension type ... Package
* this is package 'scBubbletree' version '1.11.0'
* package encoding: UTF-8
* checking package namespace information ... OK
* checking package dependencies ... OK
* checking if this is a source package ... OK
* checking if there is a namespace ... OK
* checking for hidden files and directories ... OK
* checking for portable file names ... OK
* checking whether package 'scBubbletree' can be installed ... OK
* checking installed package size ... OK
* checking package directory ... OK
* checking 'build' directory ... OK
* checking DESCRIPTION meta-information ... OK
* checking top-level files ... OK
* checking for left-over files ... OK
* checking index information ... OK
* checking package subdirectories ... OK
* checking code files for non-ASCII characters ... OK
* checking R files for syntax errors ... OK
* checking whether the package can be loaded ... OK
* checking whether the package can be loaded with stated dependencies ... OK
* checking whether the package can be unloaded cleanly ... OK
* checking whether the namespace can be loaded with stated dependencies ... OK
* checking whether the namespace can be unloaded cleanly ... OK
* checking dependencies in R code ... NOTE
Namespace in Imports field not imported from: 'base'
All declared Imports should be used.
* checking S3 generic/method consistency ... OK
* checking replacement functions ... OK
* checking foreign function calls ... OK
* checking R code for possible problems ... NOTE
compare_bubbletrees: no visible binding for global variable 'isTip'
compare_bubbletrees: no visible binding for global variable 'Cells'
compare_bubbletrees: no visible binding for global variable 'lab_short'
compare_bubbletrees: no visible binding for global variable 'label'
compare_bubbletrees: no visible binding for global variable 'JD'
compare_bubbletrees: no visible binding for global variable
'intersection'
get_dendrogram: no visible binding for global variable 'isTip'
get_dendrogram: no visible binding for global variable 'Cells'
get_dendrogram: no visible binding for global variable 'label'
get_dendrogram: no visible binding for global variable 'lab_short'
get_dendrogram: no visible binding for global variable 'lab_long'
get_num_cell_tiles: no visible binding for global variable 'cluster'
ggplot_cat_tiles: no visible binding for global variable 'feature'
ggplot_cat_tiles: no visible binding for global variable 'cluster'
ggplot_cat_tiles: no visible binding for global variable 'percent'
ggplot_num_cell_tiles: no visible binding for global variable 'cluster'
ggplot_num_cell_tiles: no visible binding for global variable 'f'
ggplot_num_tiles: no visible binding for global variable 'feature'
ggplot_num_tiles: no visible binding for global variable 'cluster'
ggplot_num_tiles: no visible binding for global variable 'value'
ggplot_num_violins: no visible binding for global variable 'cluster'
ggplot_num_violins: no visible binding for global variable 'value'
Undefined global functions or variables:
Cells JD cluster f feature intersection isTip lab_long lab_short
label percent value
* checking Rd files ... OK
* checking Rd metadata ... OK
* checking Rd cross-references ... OK
* checking for missing documentation entries ... OK
* checking for code/documentation mismatches ... OK
* checking Rd \usage sections ... OK
* checking Rd contents ... OK
* checking for unstated dependencies in examples ... OK
* checking contents of 'data' directory ... OK
* checking data for non-ASCII characters ... OK
* checking data for ASCII and uncompressed saves ... OK
* checking files in 'vignettes' ... OK
* checking examples ... OK
Examples with CPU (user + system) or elapsed time > 5s
user system elapsed
get_bubbletree_comparison 31.98 0.62 32.64
get_bubbletree_kmeans 22.41 0.33 22.77
get_num_tiles 21.76 0.21 22.00
get_num_cell_tiles 21.00 0.23 21.24
get_r 19.97 1.03 21.00
get_bubbletree_graph 18.90 0.25 19.16
get_num_violins 18.61 0.34 18.95
get_cat_tiles 15.72 0.33 16.07
get_gini_k 12.91 0.17 13.08
get_bubbletree_dummy 11.55 0.22 11.76
* checking for unstated dependencies in 'tests' ... OK
* checking tests ...
Running 'testthat.R'
OK
* checking for unstated dependencies in vignettes ... OK
* checking package vignettes ... OK
* checking running R code from vignettes ... SKIPPED
* checking re-building of vignette outputs ... SKIPPED
* checking PDF version of manual ... OK
* DONE
Status: 2 NOTEs
See
'F:/biocbuild/bbs-3.22-bioc/meat/scBubbletree.Rcheck/00check.log'
for details.
scBubbletree.Rcheck/00install.out
############################################################################## ############################################################################## ### ### Running command: ### ### F:\biocbuild\bbs-3.22-bioc\R\bin\R.exe CMD INSTALL scBubbletree ### ############################################################################## ############################################################################## * installing to library 'F:/biocbuild/bbs-3.22-bioc/R/library' * installing *source* package 'scBubbletree' ... ** this is package 'scBubbletree' version '1.11.0' ** using staged installation ** R ** data ** inst ** byte-compile and prepare package for lazy loading ** help *** installing help indices ** building package indices ** installing vignettes ** testing if installed package can be loaded from temporary location ** testing if installed package can be loaded from final location ** testing if installed package keeps a record of temporary installation path * DONE (scBubbletree)
scBubbletree.Rcheck/tests/testthat.Rout
R version 4.5.1 (2025-06-13 ucrt) -- "Great Square Root"
Copyright (C) 2025 The R Foundation for Statistical Computing
Platform: x86_64-w64-mingw32/x64
R is free software and comes with ABSOLUTELY NO WARRANTY.
You are welcome to redistribute it under certain conditions.
Type 'license()' or 'licence()' for distribution details.
R is a collaborative project with many contributors.
Type 'contributors()' for more information and
'citation()' on how to cite R or R packages in publications.
Type 'demo()' for some demos, 'help()' for on-line help, or
'help.start()' for an HTML browser interface to help.
Type 'q()' to quit R.
> library(testthat)
> library(scBubbletree)
>
> test_check("scBubbletree")
Tests input rules of get_bubbletree_graph
Tests input rules of get_bubbletree_kmeans
Tests input rules of get_cat_tiles
Tests input rules of get_gini_k
Tests input rules of get_gini
Tests input rules of get_k
Tests input rules of get_num_tiles
Tests input rules of get_num_violins
Tests input rules of get_r
Tests input rules of util
[ FAIL 0 | WARN 118 | SKIP 0 | PASS 477 ]
[ FAIL 0 | WARN 118 | SKIP 0 | PASS 477 ]
>
> proc.time()
user system elapsed
316.87 12.12 329.20
scBubbletree.Rcheck/scBubbletree-Ex.timings
| name | user | system | elapsed | |
| d_500 | 0.01 | 0.00 | 0.02 | |
| d_ccl | 0.02 | 0.02 | 0.03 | |
| get_bubbletree_comparison | 31.98 | 0.62 | 32.64 | |
| get_bubbletree_dummy | 11.55 | 0.22 | 11.76 | |
| get_bubbletree_graph | 18.90 | 0.25 | 19.16 | |
| get_bubbletree_kmeans | 22.41 | 0.33 | 22.77 | |
| get_cat_tiles | 15.72 | 0.33 | 16.07 | |
| get_gini | 0.01 | 0.00 | 0.02 | |
| get_gini_k | 12.91 | 0.17 | 13.08 | |
| get_k | 3.58 | 0.05 | 3.62 | |
| get_num_cell_tiles | 21.00 | 0.23 | 21.24 | |
| get_num_tiles | 21.76 | 0.21 | 22.00 | |
| get_num_violins | 18.61 | 0.34 | 18.95 | |
| get_r | 19.97 | 1.03 | 21.00 | |