Back to Multiple platform build/check report for BioC 3.22:   simplified   long
ABCDEFGHIJKLMNOPQ[R]STUVWXYZ

This page was generated on 2025-11-20 12:05 -0500 (Thu, 20 Nov 2025).

HostnameOSArch (*)R versionInstalled pkgs
nebbiolo2Linux (Ubuntu 24.04.3 LTS)x86_644.5.2 (2025-10-31) -- "[Not] Part in a Rumble" 4615
merida1macOS 12.7.6 Montereyx86_644.5.2 Patched (2025-11-05 r88990) -- "[Not] Part in a Rumble" 4610
kjohnson1macOS 13.7.5 Venturaarm644.5.2 Patched (2025-11-04 r88984) -- "[Not] Part in a Rumble" 4598
taishanLinux (openEuler 24.03 LTS)aarch644.5.0 (2025-04-11) -- "How About a Twenty-Six" 4668
Click on any hostname to see more info about the system (e.g. compilers)      (*) as reported by 'uname -p', except on Windows and Mac OS X

Package 1792/2361HostnameOS / ArchINSTALLBUILDCHECKBUILD BIN
rhinotypeR 1.4.0  (landing page)
Martha Luka
Snapshot Date: 2025-11-17 13:45 -0500 (Mon, 17 Nov 2025)
git_url: https://git.bioconductor.org/packages/rhinotypeR
git_branch: RELEASE_3_22
git_last_commit: 7f9c661
git_last_commit_date: 2025-10-29 11:32:16 -0500 (Wed, 29 Oct 2025)
nebbiolo2Linux (Ubuntu 24.04.3 LTS) / x86_64  OK    OK    OK  UNNEEDED, same version is already published
merida1macOS 12.7.6 Monterey / x86_64  OK    OK    OK    OK  UNNEEDED, same version is already published
kjohnson1macOS 13.7.5 Ventura / arm64  OK    OK    OK    OK  UNNEEDED, same version is already published
taishanLinux (openEuler 24.03 LTS) / aarch64  OK    OK    OK  


CHECK results for rhinotypeR on merida1

To the developers/maintainers of the rhinotypeR package:
- Allow up to 24 hours (and sometimes 48 hours) for your latest push to git@git.bioconductor.org:packages/rhinotypeR.git to reflect on this report. See Troubleshooting Build Report for more information.
- Use the following Renviron settings to reproduce errors and warnings.
- If 'R CMD check' started to fail recently on the Linux builder(s) over a missing dependency, add the missing dependency to 'Suggests:' in your DESCRIPTION file. See Renviron.bioc for more information.

raw results


Summary

Package: rhinotypeR
Version: 1.4.0
Command: /Library/Frameworks/R.framework/Resources/bin/R CMD check --install=check:rhinotypeR.install-out.txt --library=/Library/Frameworks/R.framework/Resources/library --no-vignettes --timings rhinotypeR_1.4.0.tar.gz
StartedAt: 2025-11-18 12:58:51 -0500 (Tue, 18 Nov 2025)
EndedAt: 2025-11-18 13:27:59 -0500 (Tue, 18 Nov 2025)
EllapsedTime: 1747.8 seconds
RetCode: 0
Status:   OK  
CheckDir: rhinotypeR.Rcheck
Warnings: 0

Command output

##############################################################################
##############################################################################
###
### Running command:
###
###   /Library/Frameworks/R.framework/Resources/bin/R CMD check --install=check:rhinotypeR.install-out.txt --library=/Library/Frameworks/R.framework/Resources/library --no-vignettes --timings rhinotypeR_1.4.0.tar.gz
###
##############################################################################
##############################################################################


* using log directory ‘/Users/biocbuild/bbs-3.22-bioc/meat/rhinotypeR.Rcheck’
* using R version 4.5.2 Patched (2025-11-05 r88990)
* using platform: x86_64-apple-darwin20
* R was compiled by
    Apple clang version 14.0.0 (clang-1400.0.29.202)
    GNU Fortran (GCC) 14.2.0
* running under: macOS Monterey 12.7.6
* using session charset: UTF-8
* using option ‘--no-vignettes’
* checking for file ‘rhinotypeR/DESCRIPTION’ ... OK
* checking extension type ... Package
* this is package ‘rhinotypeR’ version ‘1.4.0’
* package encoding: UTF-8
* checking package namespace information ... OK
* checking package dependencies ... OK
* checking if this is a source package ... OK
* checking if there is a namespace ... OK
* checking for hidden files and directories ... OK
* checking for portable file names ... OK
* checking for sufficient/correct file permissions ... OK
* checking whether package ‘rhinotypeR’ can be installed ... OK
* checking installed package size ... OK
* checking package directory ... OK
* checking ‘build’ directory ... OK
* checking DESCRIPTION meta-information ... OK
* checking top-level files ... OK
* checking for left-over files ... OK
* checking index information ... OK
* checking package subdirectories ... OK
* checking code files for non-ASCII characters ... OK
* checking R files for syntax errors ... OK
* checking whether the package can be loaded ... OK
* checking whether the package can be loaded with stated dependencies ... OK
* checking whether the package can be unloaded cleanly ... OK
* checking whether the namespace can be loaded with stated dependencies ... OK
* checking whether the namespace can be unloaded cleanly ... OK
* checking dependencies in R code ... OK
* checking S3 generic/method consistency ... OK
* checking replacement functions ... OK
* checking foreign function calls ... OK
* checking R code for possible problems ... NOTE
assignTypes: no visible binding for global variable ‘prototypes’
Undefined global functions or variables:
  prototypes
* checking Rd files ... OK
* checking Rd metadata ... OK
* checking Rd cross-references ... OK
* checking for missing documentation entries ... OK
* checking for code/documentation mismatches ... OK
* checking Rd \usage sections ... OK
* checking Rd contents ... OK
* checking for unstated dependencies in examples ... OK
* checking contents of ‘data’ directory ... OK
* checking data for non-ASCII characters ... OK
* checking data for ASCII and uncompressed saves ... OK
* checking files in ‘vignettes’ ... OK
* checking examples ... OK
Examples with CPU (user + system) or elapsed time > 5s
                       user system elapsed
alignToRefs         246.472  1.350 337.301
overallMeanDistance  10.829  0.071  11.611
plotDistances         7.119  0.146   7.862
plotFrequency         6.413  0.047   7.160
plotTree              6.077  0.030   6.593
* checking for unstated dependencies in ‘tests’ ... OK
* checking tests ...
  Running ‘testthat.R’
 OK
* checking for unstated dependencies in vignettes ... OK
* checking package vignettes ... OK
* checking running R code from vignettes ... SKIPPED
* checking re-building of vignette outputs ... SKIPPED
* checking PDF version of manual ... OK
* DONE

Status: 1 NOTE
See
  ‘/Users/biocbuild/bbs-3.22-bioc/meat/rhinotypeR.Rcheck/00check.log’
for details.


Installation output

rhinotypeR.Rcheck/00install.out

##############################################################################
##############################################################################
###
### Running command:
###
###   /Library/Frameworks/R.framework/Resources/bin/R CMD INSTALL rhinotypeR
###
##############################################################################
##############################################################################


* installing to library ‘/Library/Frameworks/R.framework/Versions/4.5-x86_64/Resources/library’
* installing *source* package ‘rhinotypeR’ ...
** this is package ‘rhinotypeR’ version ‘1.4.0’
** using staged installation
** R
** data
** inst
** byte-compile and prepare package for lazy loading
** help
*** installing help indices
** building package indices
** installing vignettes
** testing if installed package can be loaded from temporary location
** testing if installed package can be loaded from final location
** testing if installed package keeps a record of temporary installation path
* DONE (rhinotypeR)

Tests output

rhinotypeR.Rcheck/tests/testthat.Rout


R version 4.5.2 Patched (2025-11-05 r88990) -- "[Not] Part in a Rumble"
Copyright (C) 2025 The R Foundation for Statistical Computing
Platform: x86_64-apple-darwin20

R is free software and comes with ABSOLUTELY NO WARRANTY.
You are welcome to redistribute it under certain conditions.
Type 'license()' or 'licence()' for distribution details.

R is a collaborative project with many contributors.
Type 'contributors()' for more information and
'citation()' on how to cite R or R packages in publications.

Type 'demo()' for some demos, 'help()' for on-line help, or
'help.start()' for an HTML browser interface to help.
Type 'q()' to quit R.

> # This file is part of the standard setup for testthat.
> # It is recommended that you do not modify it.
> #
> # Where should you do additional test configuration?
> # Learn more about the roles of various files in:
> # * https://r-pkgs.org/testing-design.html#sec-tests-files-overview
> # * https://testthat.r-lib.org/articles/special-files.html
> 
> library(testthat)
> library(rhinotypeR)
> 
> test_check("rhinotypeR")
use default substitution matrix
use default substitution matrix
use default substitution matrix
use default substitution matrix
use default substitution matrix

Computing: [==============                          ] 35%  (~1s remaining)       
Computing: [========================================] 100% (done)                         

Computing: [========================================] 100% (done)                         

Computing: [========================================] 100% (done)                         

Computing: [========================================] 100% (done)                         

Computing: [========================================] 100% (done)                         

Computing: [========================================] 100% (done)                         

Computing: [========================================] 100% (done)                         

Computing: [========================================] 100% (done)                         

Computing: [========================================] 100% (done)                         

Computing: [========================================] 100% (done)                         

Computing: [========================================] 100% (done)                         

Computing: [========================================] 100% (done)                         

Computing: [========================================] 100% (done)                         

Computing: [==                                      ] 5%  (~19s remaining)       
Computing: [====                                    ] 9%  (~19s remaining)       
Computing: [======                                  ] 14%  (~19s remaining)       
Computing: [========                                ] 18%  (~17s remaining)       
Computing: [==========                              ] 23%  (~16s remaining)       
Computing: [============                            ] 29%  (~14s remaining)       
Computing: [==============                          ] 35%  (~13s remaining)       
Computing: [=================                       ] 41%  (~11s remaining)       
Computing: [====================                    ] 48%  (~9s remaining)       
Computing: [=======================                 ] 56%  (~7s remaining)       
Computing: [===========================             ] 66%  (~5s remaining)       
Computing: [=================================       ] 81%  (~2s remaining)       
Computing: [========================================] 100% (done)                         

Computing: [==                                      ] 5%  (~20s remaining)       
Computing: [====                                    ] 9%  (~21s remaining)       
Computing: [======                                  ] 13%  (~20s remaining)       
Computing: [=======                                 ] 17%  (~19s remaining)       
Computing: [=========                               ] 22%  (~18s remaining)       
Computing: [===========                             ] 27%  (~16s remaining)       
Computing: [==============                          ] 33%  (~14s remaining)       
Computing: [================                        ] 40%  (~12s remaining)       
Computing: [===================                     ] 47%  (~10s remaining)       
Computing: [======================                  ] 55%  (~8s remaining)       
Computing: [==========================              ] 65%  (~5s remaining)       
Computing: [=================================       ] 82%  (~2s remaining)       
Computing: [========================================] 100% (done)                         

Computing: [==                                      ] 5%  (~19s remaining)       
Computing: [====                                    ] 10%  (~18s remaining)       
Computing: [======                                  ] 14%  (~18s remaining)       
Computing: [========                                ] 19%  (~16s remaining)       
Computing: [==========                              ] 24%  (~15s remaining)       
Computing: [============                            ] 30%  (~13s remaining)       
Computing: [===============                         ] 37%  (~12s remaining)       
Computing: [==================                      ] 43%  (~10s remaining)       
Computing: [====================                    ] 50%  (~8s remaining)       
Computing: [========================                ] 59%  (~7s remaining)       
Computing: [============================            ] 70%  (~4s remaining)       
Computing: [====================================    ] 88%  (~1s remaining)       
Computing: [========================================] 100% (done)                         

Computing: [==                                      ] 5%  (~18s remaining)       
Computing: [====                                    ] 10%  (~18s remaining)       
Computing: [======                                  ] 15%  (~17s remaining)       
Computing: [========                                ] 20%  (~15s remaining)       
Computing: [===========                             ] 26%  (~14s remaining)       
Computing: [=============                           ] 31%  (~13s remaining)       
Computing: [================                        ] 38%  (~11s remaining)       
Computing: [==================                      ] 45%  (~9s remaining)       
Computing: [======================                  ] 53%  (~8s remaining)       
Computing: [==========================              ] 63%  (~5s remaining)       
Computing: [===============================         ] 76%  (~3s remaining)       
Computing: [========================================] 100% (done)                         

Computing: [==                                      ] 5%  (~21s remaining)       
Computing: [====                                    ] 9%  (~20s remaining)       
Computing: [======                                  ] 14%  (~17s remaining)       
Computing: [========                                ] 19%  (~16s remaining)       
Computing: [==========                              ] 25%  (~15s remaining)       
Computing: [============                            ] 30%  (~13s remaining)       
Computing: [===============                         ] 36%  (~12s remaining)       
Computing: [==================                      ] 43%  (~10s remaining)       
Computing: [====================                    ] 50%  (~8s remaining)       
Computing: [========================                ] 60%  (~6s remaining)       
Computing: [==============================          ] 73%  (~4s remaining)       
Computing: [========================================] 100% (done)                         

Computing: [==                                      ] 5%  (~21s remaining)       
Computing: [====                                    ] 9%  (~20s remaining)       
Computing: [======                                  ] 14%  (~19s remaining)       
Computing: [========                                ] 18%  (~17s remaining)       
Computing: [==========                              ] 23%  (~16s remaining)       
Computing: [============                            ] 28%  (~15s remaining)       
Computing: [==============                          ] 34%  (~13s remaining)       
Computing: [=================                       ] 41%  (~11s remaining)       
Computing: [====================                    ] 48%  (~9s remaining)       
Computing: [=======================                 ] 57%  (~7s remaining)       
Computing: [============================            ] 68%  (~5s remaining)       
Computing: [====================================    ] 90%  (~1s remaining)       
Computing: [========================================] 100% (done)                         

Computing: [==                                      ] 5%  (~19s remaining)       
Computing: [====                                    ] 10%  (~18s remaining)       
Computing: [======                                  ] 15%  (~17s remaining)       
Computing: [=========                               ] 21%  (~15s remaining)       
Computing: [===========                             ] 27%  (~13s remaining)       
Computing: [===============                         ] 36%  (~10s remaining)       
Computing: [===================                     ] 47%  (~7s remaining)       
Computing: [=======================                 ] 56%  (~6s remaining)       
Computing: [============================            ] 70%  (~3s remaining)       
Computing: [========================================] 100% (done)                         

Computing: [==                                      ] 5%  (~17s remaining)       
Computing: [=====                                   ] 11%  (~15s remaining)       
Computing: [=======                                 ] 17%  (~14s remaining)       
Computing: [==========                              ] 23%  (~13s remaining)       
Computing: [============                            ] 29%  (~12s remaining)       
Computing: [===============                         ] 36%  (~10s remaining)       
Computing: [==================                      ] 44%  (~8s remaining)       
Computing: [======================                  ] 53%  (~7s remaining)       
Computing: [============================            ] 69%  (~4s remaining)       
Computing: [========================================] 100% (done)                         

Computing: [===                                     ] 6%  (~15s remaining)       
Computing: [=====                                   ] 11%  (~16s remaining)       
Computing: [=======                                 ] 16%  (~16s remaining)       
Computing: [========                                ] 20%  (~15s remaining)       
Computing: [===========                             ] 27%  (~13s remaining)       
Computing: [=============                           ] 32%  (~12s remaining)       
Computing: [================                        ] 40%  (~10s remaining)       
Computing: [===================                     ] 47%  (~9s remaining)       
Computing: [======================                  ] 55%  (~7s remaining)       
Computing: [===========================             ] 66%  (~5s remaining)       
Computing: [==================================      ] 83%  (~2s remaining)       
Computing: [========================================] 100% (done)                         

Computing: [==                                      ] 5%  (~19s remaining)       
Computing: [====                                    ] 10%  (~18s remaining)       
Computing: [======                                  ] 15%  (~17s remaining)       
Computing: [=========                               ] 21%  (~15s remaining)       
Computing: [===========                             ] 27%  (~13s remaining)       
Computing: [==============                          ] 33%  (~11s remaining)       
Computing: [=================                       ] 41%  (~10s remaining)       
Computing: [=====================                   ] 51%  (~7s remaining)       
Computing: [==========================              ] 63%  (~5s remaining)       
Computing: [=================================       ] 82%  (~2s remaining)       
Computing: [========================================] 100% (done)                         

Computing: [==                                      ] 5%  (~18s remaining)       
Computing: [=====                                   ] 11%  (~16s remaining)       
Computing: [=======                                 ] 17%  (~14s remaining)       
Computing: [==========                              ] 23%  (~13s remaining)       
Computing: [============                            ] 29%  (~12s remaining)       
Computing: [===============                         ] 36%  (~10s remaining)       
Computing: [==================                      ] 43%  (~9s remaining)       
Computing: [=====================                   ] 51%  (~7s remaining)       
Computing: [========================                ] 60%  (~6s remaining)       
Computing: [=============================           ] 72%  (~3s remaining)       
Computing: [========================================] 100% (done)                         

Computing: [========================================] 100% (done)                         

Computing: [========================================] 100% (done)                         

Computing: [========================================] 100% (done)                         

Computing: [========================================] 100% (done)                         

Computing: [========================================] 100% (done)                         

Computing: [========================================] 100% (done)                         

Computing: [========================================] 100% (done)                         

Computing: [========================================] 100% (done)                         

Computing: [========================================] 100% (done)                         

Computing: [========================================] 100% (done)                         

Computing: [========================================] 100% (done)                         

Computing: [========================================] 100% (done)                         
[ FAIL 0 | WARN 0 | SKIP 0 | PASS 140 ]
> 
> proc.time()
    user   system  elapsed 
 699.425    5.685 1136.630 

Example timings

rhinotypeR.Rcheck/rhinotypeR-Ex.timings

nameusersystemelapsed
SNPeek-internal0.0010.0020.002
SNPeek1.1460.0841.710
alignToRefs246.472 1.350337.301
assignTypes0.0010.0010.003
countSNPs0.0010.0010.001
getPrototypeSeqs0.0010.0010.001
overallMeanDistance10.829 0.07111.611
pairwiseDistances0.0010.0010.002
plotAA0.0830.0070.090
plotDistances7.1190.1467.862
plotFrequency6.4130.0477.160
plotTree6.0770.0306.593
rhinovirusPrototypesVP40.0680.0060.073
rhinovirusVP40.0520.0070.059