Back to Multiple platform build/check report for BioC 3.22:   simplified   long
ABCDEFGHIJKLMNOPQ[R]STUVWXYZ

This page was generated on 2025-10-29 12:04 -0400 (Wed, 29 Oct 2025).

HostnameOSArch (*)R versionInstalled pkgs
nebbiolo2Linux (Ubuntu 24.04.3 LTS)x86_644.5.1 Patched (2025-08-23 r88802) -- "Great Square Root" 4901
lconwaymacOS 12.7.6 Montereyx86_644.5.1 Patched (2025-09-10 r88807) -- "Great Square Root" 4691
kjohnson3macOS 13.7.7 Venturaarm644.5.1 Patched (2025-09-10 r88807) -- "Great Square Root" 4637
Click on any hostname to see more info about the system (e.g. compilers)      (*) as reported by 'uname -p', except on Windows and Mac OS X

All results for package regioneR


To the developers/maintainers of the regioneR package:
- Allow up to 24 hours (and sometimes 48 hours) for your latest push to git@git.bioconductor.org:packages/regioneR.git to reflect on this report. See Troubleshooting Build Report for more information.
- Use the following Renviron settings to reproduce errors and warnings.
- If 'R CMD check' started to fail recently on the Linux builder(s) over a missing dependency, add the missing dependency to 'Suggests:' in your DESCRIPTION file. See Renviron.bioc for more information.

raw results

Package 1761/2361HostnameOS / ArchINSTALLBUILDCHECKBUILD BIN
regioneR 1.41.3  (landing page)
Bernat Gel
Snapshot Date: 2025-10-28 13:45 -0400 (Tue, 28 Oct 2025)
git_url: https://git.bioconductor.org/packages/regioneR
git_branch: devel
git_last_commit: 140bec6
git_last_commit_date: 2025-06-21 01:57:42 -0400 (Sat, 21 Jun 2025)
nebbiolo2Linux (Ubuntu 24.04.3 LTS) / x86_64  OK    OK    OK  UNNEEDED, same version is already published
lconwaymacOS 12.7.6 Monterey / x86_64  OK    OK    OK    OK  UNNEEDED, same version is already published
kjohnson3macOS 13.7.7 Ventura / arm64  OK    OK    OK    OK  UNNEEDED, same version is already published



Results for Bioconductor software packages that depend directly on package regioneR

QUICK STATSOS / ArchINSTALLBUILDCHECKBUILD BIN
nebbiolo2Linux (Ubuntu 24.04.3 LTS) / x86_64
008
017
0007
lconwaymacOS 12.7.6 Monterey / x86_64
008
017
0007
007
kjohnson3macOS 13.7.7 Ventura / arm64
008
017
0007
007
Package 1/8HostnameOS / ArchINSTALLBUILDCHECKBUILD BIN
annotatr 1.35.2  (landing page)
Raymond G. Cavalcante
git_last_commit: 0d39a96
git_last_commit_date: 2025-10-14 11:25:15 -0400
nebbiolo2Linux (Ubuntu 24.04.3 LTS) / x86_64  OK    OK    OK  UNNEEDED, same version is already published
lconwaymacOS 12.7.6 Monterey / x86_64  OK    OK    OK    OK  UNNEEDED, same version is already published
kjohnson3macOS 13.7.7 Ventura / arm64  OK    OK    OK    OK  UNNEEDED, same version is already published
Package 2/8HostnameOS / ArchINSTALLBUILDCHECKBUILD BIN
ChIPpeakAnno 3.43.2  (landing page)
Jianhong Ou
git_last_commit: 7fc2367
git_last_commit_date: 2025-10-15 16:45:05 -0400
nebbiolo2Linux (Ubuntu 24.04.3 LTS) / x86_64  OK    OK    OK  UNNEEDED, same version is already published
lconwaymacOS 12.7.6 Monterey / x86_64  OK    OK    OK    OK  UNNEEDED, same version is already published
kjohnson3macOS 13.7.7 Ventura / arm64  OK    OK    OK    OK  UNNEEDED, same version is already published
Package 3/8HostnameOS / ArchINSTALLBUILDCHECKBUILD BIN
CNVfilteR 1.23.0  (landing page)
Jose Marcos Moreno-Cabrera
git_last_commit: f8c607e
git_last_commit_date: 2025-04-15 11:51:14 -0400
nebbiolo2Linux (Ubuntu 24.04.3 LTS) / x86_64  OK    OK    OK  UNNEEDED, same version is already published
lconwaymacOS 12.7.6 Monterey / x86_64  OK    OK    OK    OK  UNNEEDED, same version is already published
kjohnson3macOS 13.7.7 Ventura / arm64  OK    OK    OK    OK  UNNEEDED, same version is already published
Package 4/8HostnameOS / ArchINSTALLBUILDCHECKBUILD BIN
CopyNumberPlots 1.25.0  (landing page)
Bernat Gel
git_last_commit: 6dbbfbd
git_last_commit_date: 2025-04-15 11:43:55 -0400
nebbiolo2Linux (Ubuntu 24.04.3 LTS) / x86_64  OK    OK    OK  UNNEEDED, same version is already published
lconwaymacOS 12.7.6 Monterey / x86_64  OK    OK    OK    OK  UNNEEDED, same version is already published
kjohnson3macOS 13.7.7 Ventura / arm64  OK    OK    OK    OK  UNNEEDED, same version is already published
Package 5/8HostnameOS / ArchINSTALLBUILDCHECKBUILD BIN
karyoploteR 1.35.3  (landing page)
Bernat Gel
git_last_commit: e4bd027
git_last_commit_date: 2025-06-21 02:09:56 -0400
nebbiolo2Linux (Ubuntu 24.04.3 LTS) / x86_64  OK    OK    OK  UNNEEDED, same version is already published
lconwaymacOS 12.7.6 Monterey / x86_64  OK    OK    OK    OK  UNNEEDED, same version is already published
kjohnson3macOS 13.7.7 Ventura / arm64  OK    OK    OK    OK  UNNEEDED, same version is already published
Package 6/8HostnameOS / ArchINSTALLBUILDCHECKBUILD BIN
regioneReloaded 1.11.0  (landing page)
Roberto Malinverni
git_last_commit: 77d07c6
git_last_commit_date: 2025-04-15 12:55:23 -0400
nebbiolo2Linux (Ubuntu 24.04.3 LTS) / x86_64  OK    OK    OK  UNNEEDED, same version is already published
lconwaymacOS 12.7.6 Monterey / x86_64  OK    OK    OK    OK  UNNEEDED, same version is already published
kjohnson3macOS 13.7.7 Ventura / arm64  OK    OK    OK    OK  UNNEEDED, same version is already published
Package 7/8HostnameOS / ArchINSTALLBUILDCHECKBUILD BIN
RgnTX 1.11.1  (landing page)
Yue Wang
git_last_commit: 8a121cf
git_last_commit_date: 2025-07-22 22:00:01 -0400
nebbiolo2Linux (Ubuntu 24.04.3 LTS) / x86_64  OK    ERROR  skipped
lconwaymacOS 12.7.6 Monterey / x86_64  OK    ERROR  skippedskipped
kjohnson3macOS 13.7.7 Ventura / arm64  OK    ERROR  skippedskipped
Package 8/8HostnameOS / ArchINSTALLBUILDCHECKBUILD BIN
UMI4Cats 1.19.3  (landing page)
Mireia Ramos-Rodriguez
git_last_commit: 2dfa73c
git_last_commit_date: 2025-10-21 06:59:01 -0400
nebbiolo2Linux (Ubuntu 24.04.3 LTS) / x86_64  OK    OK    OK  UNNEEDED, same version is already published
lconwaymacOS 12.7.6 Monterey / x86_64  OK    OK    OK    OK  UNNEEDED, same version is already published
kjohnson3macOS 13.7.7 Ventura / arm64  OK    OK    OK    OK  UNNEEDED, same version is already published