| Back to Multiple platform build/check report for BioC 3.22: simplified long |
|
This page was generated on 2025-08-15 12:07 -0400 (Fri, 15 Aug 2025).
| Hostname | OS | Arch (*) | R version | Installed pkgs |
|---|---|---|---|---|
| nebbiolo2 | Linux (Ubuntu 24.04.3 LTS) | x86_64 | 4.5.1 (2025-06-13) -- "Great Square Root" | 4818 |
| palomino8 | Windows Server 2022 Datacenter | x64 | 4.5.1 (2025-06-13 ucrt) -- "Great Square Root" | 4554 |
| lconway | macOS 12.7.1 Monterey | x86_64 | 4.5.1 (2025-06-13) -- "Great Square Root" | 4595 |
| kjohnson3 | macOS 13.7.7 Ventura | arm64 | 4.5.1 Patched (2025-06-14 r88325) -- "Great Square Root" | 4537 |
| taishan | Linux (openEuler 24.03 LTS) | aarch64 | 4.5.0 (2025-04-11) -- "How About a Twenty-Six" | 4535 |
| Click on any hostname to see more info about the system (e.g. compilers) (*) as reported by 'uname -p', except on Windows and Mac OS X | ||||
| Package 1751/2317 | Hostname | OS / Arch | INSTALL | BUILD | CHECK | BUILD BIN | ||||||||
| rGREAT 2.11.0 (landing page) Zuguang Gu
| nebbiolo2 | Linux (Ubuntu 24.04.3 LTS) / x86_64 | OK | OK | OK | |||||||||
| palomino8 | Windows Server 2022 Datacenter / x64 | OK | OK | OK | OK | |||||||||
| lconway | macOS 12.7.1 Monterey / x86_64 | OK | OK | OK | OK | |||||||||
| kjohnson3 | macOS 13.7.7 Ventura / arm64 | OK | OK | OK | OK | |||||||||
| taishan | Linux (openEuler 24.03 LTS) / aarch64 | OK | OK | OK | ||||||||||
|
To the developers/maintainers of the rGREAT package: - Allow up to 24 hours (and sometimes 48 hours) for your latest push to git@git.bioconductor.org:packages/rGREAT.git to reflect on this report. See Troubleshooting Build Report for more information. - Use the following Renviron settings to reproduce errors and warnings. - If 'R CMD check' started to fail recently on the Linux builder(s) over a missing dependency, add the missing dependency to 'Suggests:' in your DESCRIPTION file. See Renviron.bioc for more information. |
| Package: rGREAT |
| Version: 2.11.0 |
| Command: F:\biocbuild\bbs-3.22-bioc\R\bin\R.exe CMD check --no-multiarch --install=check:rGREAT.install-out.txt --library=F:\biocbuild\bbs-3.22-bioc\R\library --no-vignettes --timings rGREAT_2.11.0.tar.gz |
| StartedAt: 2025-08-15 07:03:28 -0400 (Fri, 15 Aug 2025) |
| EndedAt: 2025-08-15 07:09:41 -0400 (Fri, 15 Aug 2025) |
| EllapsedTime: 372.8 seconds |
| RetCode: 0 |
| Status: OK |
| CheckDir: rGREAT.Rcheck |
| Warnings: 0 |
##############################################################################
##############################################################################
###
### Running command:
###
### F:\biocbuild\bbs-3.22-bioc\R\bin\R.exe CMD check --no-multiarch --install=check:rGREAT.install-out.txt --library=F:\biocbuild\bbs-3.22-bioc\R\library --no-vignettes --timings rGREAT_2.11.0.tar.gz
###
##############################################################################
##############################################################################
* using log directory 'F:/biocbuild/bbs-3.22-bioc/meat/rGREAT.Rcheck'
* using R version 4.5.1 (2025-06-13 ucrt)
* using platform: x86_64-w64-mingw32
* R was compiled by
gcc.exe (GCC) 14.2.0
GNU Fortran (GCC) 14.2.0
* running under: Windows Server 2022 x64 (build 20348)
* using session charset: UTF-8
* using option '--no-vignettes'
* checking for file 'rGREAT/DESCRIPTION' ... OK
* checking extension type ... Package
* this is package 'rGREAT' version '2.11.0'
* checking package namespace information ... OK
* checking package dependencies ... INFO
Package which this enhances but not available for checking: 'BioMartGOGeneSets'
Imports includes 21 non-default packages.
Importing from so many packages makes the package vulnerable to any of
them becoming unavailable. Move as many as possible to Suggests and
use conditionally.
* checking if this is a source package ... OK
* checking if there is a namespace ... OK
* checking for hidden files and directories ... OK
* checking for portable file names ... OK
* checking whether package 'rGREAT' can be installed ... OK
* used C++ compiler: 'G__~1.EXE (GCC) 14.2.0'
* checking installed package size ... OK
* checking package directory ... OK
* checking 'build' directory ... OK
* checking DESCRIPTION meta-information ... OK
* checking top-level files ... OK
* checking for left-over files ... OK
* checking index information ... OK
* checking package subdirectories ... OK
* checking code files for non-ASCII characters ... OK
* checking R files for syntax errors ... OK
* checking whether the package can be loaded ... OK
* checking whether the package can be loaded with stated dependencies ... OK
* checking whether the package can be unloaded cleanly ... OK
* checking whether the namespace can be loaded with stated dependencies ... OK
* checking whether the namespace can be unloaded cleanly ... OK
* checking whether startup messages can be suppressed ... OK
* checking dependencies in R code ... OK
* checking S3 generic/method consistency ... OK
* checking replacement functions ... OK
* checking foreign function calls ... OK
* checking R code for possible problems ... OK
* checking Rd files ... OK
* checking Rd metadata ... OK
* checking Rd cross-references ... NOTE
Found the following Rd file(s) with Rd \link{} targets missing package
anchors:
getRefSeqGenesFromUCSC.Rd: GenomicRanges
Please provide package anchors for all Rd \link{} targets not in the
package itself and the base packages.
* checking for missing documentation entries ... OK
* checking for code/documentation mismatches ... OK
* checking Rd \usage sections ... OK
* checking Rd contents ... OK
* checking for unstated dependencies in examples ... OK
* checking line endings in C/C++/Fortran sources/headers ... OK
* checking compiled code ... NOTE
Note: information on .o files for x64 is not available
File 'F:/biocbuild/bbs-3.22-bioc/R/library/rGREAT/libs/x64/rGREAT.dll':
Found '_exit', possibly from '_exit' (C)
Found 'abort', possibly from 'abort' (C), 'runtime' (Fortran)
Found 'exit', possibly from 'exit' (C), 'stop' (Fortran)
Compiled code should not call entry points which might terminate R nor
write to stdout/stderr instead of to the console, nor use Fortran I/O
nor system RNGs nor [v]sprintf. The detected symbols are linked into
the code but might come from libraries and not actually be called.
See 'Writing portable packages' in the 'Writing R Extensions' manual.
* checking files in 'vignettes' ... OK
* checking examples ... OK
Examples with CPU (user + system) or elapsed time > 5s
user system elapsed
plotRegionGeneAssociations-GreatObject-method 5.13 0.02 5.14
submitGreatJob 0.42 0.01 6.57
* checking for unstated dependencies in 'tests' ... OK
* checking tests ...
Running 'test-all.R'
OK
* checking for unstated dependencies in vignettes ... OK
* checking package vignettes ... OK
* checking running R code from vignettes ... SKIPPED
* checking re-building of vignette outputs ... SKIPPED
* checking PDF version of manual ... OK
* DONE
Status: 2 NOTEs
See
'F:/biocbuild/bbs-3.22-bioc/meat/rGREAT.Rcheck/00check.log'
for details.
rGREAT.Rcheck/00install.out
############################################################################## ############################################################################## ### ### Running command: ### ### F:\biocbuild\bbs-3.22-bioc\R\bin\R.exe CMD INSTALL rGREAT ### ############################################################################## ############################################################################## * installing to library 'F:/biocbuild/bbs-3.22-bioc/R/library' * installing *source* package 'rGREAT' ... ** this is package 'rGREAT' version '2.11.0' ** using staged installation ** libs using C++ compiler: 'G__~1.EXE (GCC) 14.2.0' g++ -std=gnu++17 -I"F:/biocbuild/bbs-3.22-bioc/R/include" -DNDEBUG -I'F:/biocbuild/bbs-3.22-bioc/R/library/Rcpp/include' -I"C:/rtools45/x86_64-w64-mingw32.static.posix/include" -O2 -Wall -mfpmath=sse -msse2 -mstackrealign -c RcppExports.cpp -o RcppExports.o g++ -std=gnu++17 -I"F:/biocbuild/bbs-3.22-bioc/R/include" -DNDEBUG -I'F:/biocbuild/bbs-3.22-bioc/R/library/Rcpp/include' -I"C:/rtools45/x86_64-w64-mingw32.static.posix/include" -O2 -Wall -mfpmath=sse -msse2 -mstackrealign -c reduce_by_start_and_end.cpp -o reduce_by_start_and_end.o g++ -std=gnu++17 -shared -s -static-libgcc -o rGREAT.dll tmp.def RcppExports.o reduce_by_start_and_end.o -LC:/rtools45/x86_64-w64-mingw32.static.posix/lib/x64 -LC:/rtools45/x86_64-w64-mingw32.static.posix/lib -LF:/biocbuild/bbs-3.22-bioc/R/bin/x64 -lR installing to F:/biocbuild/bbs-3.22-bioc/R/library/00LOCK-rGREAT/00new/rGREAT/libs/x64 ** R ** inst ** byte-compile and prepare package for lazy loading ** help *** installing help indices ** building package indices ** installing vignettes ** testing if installed package can be loaded from temporary location ** testing if installed package can be loaded from final location ** testing if installed package keeps a record of temporary installation path * DONE (rGREAT)
rGREAT.Rcheck/tests/test-all.Rout
R version 4.5.1 (2025-06-13 ucrt) -- "Great Square Root"
Copyright (C) 2025 The R Foundation for Statistical Computing
Platform: x86_64-w64-mingw32/x64
R is free software and comes with ABSOLUTELY NO WARRANTY.
You are welcome to redistribute it under certain conditions.
Type 'license()' or 'licence()' for distribution details.
R is a collaborative project with many contributors.
Type 'contributors()' for more information and
'citation()' on how to cite R or R packages in publications.
Type 'demo()' for some demos, 'help()' for on-line help, or
'help.start()' for an HTML browser interface to help.
Type 'q()' to quit R.
> library(testthat)
> suppressWarnings(suppressPackageStartupMessages(library(rGREAT)))
>
> test_check("rGREAT")
[ FAIL 0 | WARN 0 | SKIP 0 | PASS 2 ]
>
> proc.time()
user system elapsed
17.00 1.32 18.35
rGREAT.Rcheck/rGREAT-Ex.timings
| name | user | system | elapsed | |
| GreatJob-class | 0 | 0 | 0 | |
| GreatJob | 0 | 0 | 0 | |
| GreatObject-class | 0 | 0 | 0 | |
| GreatObject | 0 | 0 | 0 | |
| availableCategories-GreatJob-method | 0.11 | 0.00 | 0.11 | |
| availableOntologies-GreatJob-method | 0.08 | 0.00 | 0.08 | |
| extendTSS | 0 | 0 | 0 | |
| extendTSSFromDataFrame | 0 | 0 | 0 | |
| extendTSSFromOrgDb | 0 | 0 | 0 | |
| extendTSSFromTxDb | 0 | 0 | 0 | |
| getEnrichmentTable-GreatJob-method | 0.09 | 0.00 | 0.09 | |
| getEnrichmentTable-GreatObject-method | 0.07 | 0.00 | 0.07 | |
| getEnrichmentTable-dispatch | 0 | 0 | 0 | |
| getEnrichmentTables-GreatJob-method | 0.14 | 0.00 | 0.14 | |
| getEnrichmentTables-GreatObject-method | 0 | 0 | 0 | |
| getEnrichmentTables-dispatch | 0 | 0 | 0 | |
| getGREATDefaultTSS | 0 | 0 | 0 | |
| getGapFromUCSC | 0.09 | 0.02 | 0.11 | |
| getGeneSetsFromBioMart | 0 | 0 | 0 | |
| getGeneSetsFromOrgDb | 0 | 0 | 0 | |
| getGenesFromGencode | 0 | 0 | 0 | |
| getGenomeDataFromNCBI | 0 | 0 | 0 | |
| getKEGGGenome | 0 | 0 | 0 | |
| getKEGGPathways | 0 | 0 | 0 | |
| getRefSeqGenesFromUCSC | 0 | 0 | 0 | |
| getRegionGeneAssociations-GreatJob-method | 0.52 | 0.00 | 0.51 | |
| getRegionGeneAssociations-GreatObject-method | 3.17 | 0.12 | 3.30 | |
| getRegionGeneAssociations-dispatch | 0 | 0 | 0 | |
| getTSS | 0 | 0 | 0 | |
| great | 0 | 0 | 0 | |
| great_opt | 0.01 | 0.00 | 0.02 | |
| plotRegionGeneAssociationGraphs-GreatJob-method | 0 | 0 | 0 | |
| plotRegionGeneAssociations-GreatJob-method | 1.19 | 0.11 | 1.29 | |
| plotRegionGeneAssociations-GreatObject-method | 5.13 | 0.02 | 5.14 | |
| plotRegionGeneAssociations-dispatch | 0 | 0 | 0 | |
| plotVolcano-GreatJob-method | 0 | 0 | 0 | |
| plotVolcano-GreatObject-method | 0 | 0 | 0 | |
| plotVolcano-dispatch | 0 | 0 | 0 | |
| randomRegions | 0.28 | 0.07 | 0.36 | |
| randomRegionsFromBioMartGenome | 0 | 0 | 0 | |
| read_gmt | 0.03 | 0.04 | 1.08 | |
| reduce_by_start_and_end | 0 | 0 | 0 | |
| shinyReport-GreatJob-method | 0 | 0 | 0 | |
| shinyReport-GreatObject-method | 0 | 0 | 0 | |
| shinyReport-dispatch | 0 | 0 | 0 | |
| submitGreatJob | 0.42 | 0.01 | 6.57 | |