| Back to Multiple platform build/check report for BioC 3.22: simplified long |
|
This page was generated on 2025-08-15 12:07 -0400 (Fri, 15 Aug 2025).
| Hostname | OS | Arch (*) | R version | Installed pkgs |
|---|---|---|---|---|
| nebbiolo2 | Linux (Ubuntu 24.04.3 LTS) | x86_64 | 4.5.1 (2025-06-13) -- "Great Square Root" | 4818 |
| palomino8 | Windows Server 2022 Datacenter | x64 | 4.5.1 (2025-06-13 ucrt) -- "Great Square Root" | 4554 |
| lconway | macOS 12.7.1 Monterey | x86_64 | 4.5.1 (2025-06-13) -- "Great Square Root" | 4595 |
| kjohnson3 | macOS 13.7.7 Ventura | arm64 | 4.5.1 Patched (2025-06-14 r88325) -- "Great Square Root" | 4537 |
| taishan | Linux (openEuler 24.03 LTS) | aarch64 | 4.5.0 (2025-04-11) -- "How About a Twenty-Six" | 4535 |
| Click on any hostname to see more info about the system (e.g. compilers) (*) as reported by 'uname -p', except on Windows and Mac OS X | ||||
| Package 1538/2317 | Hostname | OS / Arch | INSTALL | BUILD | CHECK | BUILD BIN | ||||||||
| peakPantheR 1.23.0 (landing page) Arnaud Wolfer
| nebbiolo2 | Linux (Ubuntu 24.04.3 LTS) / x86_64 | OK | OK | OK | |||||||||
| palomino8 | Windows Server 2022 Datacenter / x64 | OK | OK | OK | OK | |||||||||
| lconway | macOS 12.7.1 Monterey / x86_64 | OK | OK | OK | OK | |||||||||
| kjohnson3 | macOS 13.7.7 Ventura / arm64 | OK | OK | ERROR | OK | |||||||||
| taishan | Linux (openEuler 24.03 LTS) / aarch64 | OK | OK | ERROR | ||||||||||
|
To the developers/maintainers of the peakPantheR package: - Allow up to 24 hours (and sometimes 48 hours) for your latest push to git@git.bioconductor.org:packages/peakPantheR.git to reflect on this report. See Troubleshooting Build Report for more information. - Use the following Renviron settings to reproduce errors and warnings. - If 'R CMD check' started to fail recently on the Linux builder(s) over a missing dependency, add the missing dependency to 'Suggests:' in your DESCRIPTION file. See Renviron.bioc for more information. |
| Package: peakPantheR |
| Version: 1.23.0 |
| Command: F:\biocbuild\bbs-3.22-bioc\R\bin\R.exe CMD check --no-multiarch --install=check:peakPantheR.install-out.txt --library=F:\biocbuild\bbs-3.22-bioc\R\library --no-vignettes --timings peakPantheR_1.23.0.tar.gz |
| StartedAt: 2025-08-15 06:18:05 -0400 (Fri, 15 Aug 2025) |
| EndedAt: 2025-08-15 06:42:58 -0400 (Fri, 15 Aug 2025) |
| EllapsedTime: 1493.9 seconds |
| RetCode: 0 |
| Status: OK |
| CheckDir: peakPantheR.Rcheck |
| Warnings: 0 |
##############################################################################
##############################################################################
###
### Running command:
###
### F:\biocbuild\bbs-3.22-bioc\R\bin\R.exe CMD check --no-multiarch --install=check:peakPantheR.install-out.txt --library=F:\biocbuild\bbs-3.22-bioc\R\library --no-vignettes --timings peakPantheR_1.23.0.tar.gz
###
##############################################################################
##############################################################################
* using log directory 'F:/biocbuild/bbs-3.22-bioc/meat/peakPantheR.Rcheck'
* using R version 4.5.1 (2025-06-13 ucrt)
* using platform: x86_64-w64-mingw32
* R was compiled by
gcc.exe (GCC) 14.2.0
GNU Fortran (GCC) 14.2.0
* running under: Windows Server 2022 x64 (build 20348)
* using session charset: UTF-8
* using option '--no-vignettes'
* checking for file 'peakPantheR/DESCRIPTION' ... OK
* this is package 'peakPantheR' version '1.23.0'
* package encoding: UTF-8
* checking package namespace information ... OK
* checking package dependencies ... OK
* checking if this is a source package ... OK
* checking if there is a namespace ... OK
* checking for hidden files and directories ... OK
* checking for portable file names ... OK
* checking whether package 'peakPantheR' can be installed ... OK
* checking installed package size ... OK
* checking package directory ... OK
* checking 'build' directory ... OK
* checking DESCRIPTION meta-information ... OK
* checking top-level files ... OK
* checking for left-over files ... OK
* checking index information ... OK
* checking package subdirectories ... OK
* checking code files for non-ASCII characters ... OK
* checking R files for syntax errors ... OK
* checking whether the package can be loaded ... OK
* checking whether the package can be loaded with stated dependencies ... OK
* checking whether the package can be unloaded cleanly ... OK
* checking whether the namespace can be loaded with stated dependencies ... OK
* checking whether the namespace can be unloaded cleanly ... OK
* checking whether startup messages can be suppressed ... OK
* checking dependencies in R code ... OK
* checking S3 generic/method consistency ... OK
* checking replacement functions ... OK
* checking foreign function calls ... OK
* checking R code for possible problems ... OK
* checking Rd files ... OK
* checking Rd metadata ... OK
* checking Rd cross-references ... OK
* checking for missing documentation entries ... OK
* checking for code/documentation mismatches ... OK
* checking Rd \usage sections ... OK
* checking Rd contents ... OK
* checking for unstated dependencies in examples ... OK
* checking files in 'vignettes' ... OK
* checking examples ... OK
Examples with CPU (user + system) or elapsed time > 5s
user system elapsed
peakPantheR_ROIStatistics 24.47 0.33 24.82
peakPantheR_parallelAnnotation 18.24 0.12 18.36
outputAnnotationResult-peakPantheRAnnotation-method 17.81 0.14 17.95
outputAnnotationDiagnostic-peakPantheRAnnotation-method 17.59 0.12 17.78
EICs-peakPantheRAnnotation-method 14.17 0.82 15.74
retentionTimeCorrection-peakPantheRAnnotation-method 11.69 0.07 11.75
peakPantheR_singleFileSearch 6.09 0.01 6.12
peakPantheR_quickEIC 5.08 0.05 5.13
* checking for unstated dependencies in 'tests' ... OK
* checking tests ...
Running 'testthat.R'
OK
* checking for unstated dependencies in vignettes ... OK
* checking package vignettes ... OK
* checking running R code from vignettes ... SKIPPED
* checking re-building of vignette outputs ... SKIPPED
* checking PDF version of manual ... OK
* DONE
Status: OK
peakPantheR.Rcheck/00install.out
############################################################################## ############################################################################## ### ### Running command: ### ### F:\biocbuild\bbs-3.22-bioc\R\bin\R.exe CMD INSTALL peakPantheR ### ############################################################################## ############################################################################## * installing to library 'F:/biocbuild/bbs-3.22-bioc/R/library' * installing *source* package 'peakPantheR' ... ** this is package 'peakPantheR' version '1.23.0' ** using staged installation ** R ** inst ** byte-compile and prepare package for lazy loading ** help *** installing help indices *** copying figures ** building package indices ** installing vignettes ** testing if installed package can be loaded from temporary location ** testing if installed package can be loaded from final location ** testing if installed package keeps a record of temporary installation path * DONE (peakPantheR)
peakPantheR.Rcheck/tests/testthat.Rout
R version 4.5.1 (2025-06-13 ucrt) -- "Great Square Root"
Copyright (C) 2025 The R Foundation for Statistical Computing
Platform: x86_64-w64-mingw32/x64
R is free software and comes with ABSOLUTELY NO WARRANTY.
You are welcome to redistribute it under certain conditions.
Type 'license()' or 'licence()' for distribution details.
R is a collaborative project with many contributors.
Type 'contributors()' for more information and
'citation()' on how to cite R or R packages in publications.
Type 'demo()' for some demos, 'help()' for on-line help, or
'help.start()' for an HTML browser interface to help.
Type 'q()' to quit R.
> library(testthat)
> library(peakPantheR)
This is peakPantheR version 1.23.0
>
> test_check("peakPantheR")
[ FAIL 0 | WARN 1 | SKIP 0 | PASS 1478 ]
[ FAIL 0 | WARN 1 | SKIP 0 | PASS 1478 ]
Warning messages:
1: In .Internal(gc(verbose, reset, full)) :
closing unused connection 10 (F:\biocbuild\bbs-3.22-bioc\tmpdir\Rtmp2rB5QS\notValidXML.mzML)
2: In .Internal(gc(verbose, reset, full)) :
closing unused connection 9 (F:\biocbuild\bbs-3.22-bioc\tmpdir\Rtmp2rB5QS\notValidXML.mzML)
3: In .Internal(gc(verbose, reset, full)) :
closing unused connection 8 (F:\biocbuild\bbs-3.22-bioc\tmpdir\Rtmp2rB5QS\notValidXML.mzML)
4: In .Internal(gc(verbose, reset, full)) :
closing unused connection 7 (F:\biocbuild\bbs-3.22-bioc\tmpdir\Rtmp2rB5QS\notValidXML.mzML)
5: In .Internal(gc(verbose, reset, full)) :
closing unused connection 6 (F:\biocbuild\bbs-3.22-bioc\R\library\peakPantheR\extdata\test_fakemzML.mzML)
6: In .Internal(gc(verbose, reset, full)) :
closing unused connection 5 (F:\biocbuild\bbs-3.22-bioc\R\library\peakPantheR\extdata\test_fakemzML.mzML)
>
> proc.time()
user system elapsed
891.50 8.57 1255.00
peakPantheR.Rcheck/peakPantheR-Ex.timings
| name | user | system | elapsed | |
| EICs-peakPantheRAnnotation-method | 14.17 | 0.82 | 15.74 | |
| FIR-peakPantheRAnnotation-method | 0.04 | 0.00 | 0.03 | |
| ROI-peakPantheRAnnotation-method | 0.03 | 0.00 | 0.03 | |
| TIC-peakPantheRAnnotation-method | 0.02 | 0.00 | 0.02 | |
| acquisitionTime-peakPantheRAnnotation-method | 0.01 | 0.01 | 0.03 | |
| annotationDiagnosticPlots-peakPantheRAnnotation-method | 0.04 | 0.00 | 0.03 | |
| annotationParamsDiagnostic-peakPantheRAnnotation-method | 0.01 | 0.00 | 0.01 | |
| annotationTable-peakPantheRAnnotation-method | 0.03 | 0.00 | 0.03 | |
| annotation_diagnostic_multiplot_UI_helper | 0.15 | 0.00 | 0.16 | |
| annotation_fit_summary_UI_helper | 0.02 | 0.00 | 0.01 | |
| annotation_showMethod_UI_helper | 0 | 0 | 0 | |
| annotation_showText_UI_helper | 0.00 | 0.00 | 0.02 | |
| cpdID-peakPantheRAnnotation-method | 0.03 | 0.00 | 0.03 | |
| cpdMetadata-peakPantheRAnnotation-method | 0.03 | 0.00 | 0.03 | |
| cpdName-peakPantheRAnnotation-method | 0.01 | 0.00 | 0.01 | |
| dataPoints-peakPantheRAnnotation-method | 0.01 | 0.00 | 0.01 | |
| filename-peakPantheRAnnotation-method | 0.02 | 0.00 | 0.02 | |
| filepath-peakPantheRAnnotation-method | 0.03 | 0.00 | 0.03 | |
| initialise_annotation_from_files_UI_helper | 0.01 | 0.00 | 0.03 | |
| isAnnotated-peakPantheRAnnotation-method | 0.03 | 0.00 | 0.03 | |
| load_annotation_from_file_UI_helper | 0.00 | 0.00 | 0.02 | |
| nbCompounds-peakPantheRAnnotation-method | 0.02 | 0.02 | 0.03 | |
| nbSamples-peakPantheRAnnotation-method | 0.03 | 0.00 | 0.03 | |
| outputAnnotationDiagnostic-peakPantheRAnnotation-method | 17.59 | 0.12 | 17.78 | |
| outputAnnotationFeatureMetadata_UI_helper | 0 | 0 | 0 | |
| outputAnnotationParamsCSV-peakPantheRAnnotation-method | 0.03 | 0.00 | 0.04 | |
| outputAnnotationResult-peakPantheRAnnotation-method | 17.81 | 0.14 | 17.95 | |
| outputAnnotationSpectraMetadata_UI_helper | 0 | 0 | 0 | |
| peakFit-peakPantheRAnnotation-method | 0.05 | 0.00 | 0.05 | |
| peakPantheRAnnotation | 0.04 | 0.02 | 0.06 | |
| peakPantheR_ROIStatistics | 24.47 | 0.33 | 24.82 | |
| peakPantheR_loadAnnotationParamsCSV | 0.00 | 0.00 | 0.01 | |
| peakPantheR_parallelAnnotation | 18.24 | 0.12 | 18.36 | |
| peakPantheR_plotEICFit | 0.39 | 0.00 | 0.39 | |
| peakPantheR_plotPeakwidth | 0.75 | 0.00 | 0.75 | |
| peakPantheR_quickEIC | 5.08 | 0.05 | 5.13 | |
| peakPantheR_singleFileSearch | 6.09 | 0.01 | 6.12 | |
| peakPantheR_start_GUI | 0 | 0 | 0 | |
| peakTables-peakPantheRAnnotation-method | 0.03 | 0.00 | 0.03 | |
| resetAnnotation-peakPantheRAnnotation-method | 0.04 | 0.00 | 0.05 | |
| resetFIR-peakPantheRAnnotation-method | 0 | 0 | 0 | |
| retentionTimeCorrection-peakPantheRAnnotation-method | 11.69 | 0.07 | 11.75 | |
| spectraMetadata-peakPantheRAnnotation-method | 0.03 | 0.00 | 0.03 | |
| spectraPaths_and_metadata_UI_helper | 0.00 | 0.00 | 0.02 | |
| spectra_metadata_colourScheme_UI_helper | 0 | 0 | 0 | |
| uROI-peakPantheRAnnotation-method | 0.03 | 0.00 | 0.03 | |
| uROIExist-peakPantheRAnnotation-method | 0.01 | 0.01 | 0.03 | |
| useFIR-peakPantheRAnnotation-method | 0.02 | 0.00 | 0.01 | |
| useUROI-peakPantheRAnnotation-method | 0.01 | 0.00 | 0.02 | |