| Back to Multiple platform build/check report for BioC 3.22: simplified long |
|
This page was generated on 2025-08-15 12:07 -0400 (Fri, 15 Aug 2025).
| Hostname | OS | Arch (*) | R version | Installed pkgs |
|---|---|---|---|---|
| nebbiolo2 | Linux (Ubuntu 24.04.3 LTS) | x86_64 | 4.5.1 (2025-06-13) -- "Great Square Root" | 4818 |
| palomino8 | Windows Server 2022 Datacenter | x64 | 4.5.1 (2025-06-13 ucrt) -- "Great Square Root" | 4554 |
| lconway | macOS 12.7.1 Monterey | x86_64 | 4.5.1 (2025-06-13) -- "Great Square Root" | 4595 |
| kjohnson3 | macOS 13.7.7 Ventura | arm64 | 4.5.1 Patched (2025-06-14 r88325) -- "Great Square Root" | 4537 |
| taishan | Linux (openEuler 24.03 LTS) | aarch64 | 4.5.0 (2025-04-11) -- "How About a Twenty-Six" | 4535 |
| Click on any hostname to see more info about the system (e.g. compilers) (*) as reported by 'uname -p', except on Windows and Mac OS X | ||||
| Package 1365/2317 | Hostname | OS / Arch | INSTALL | BUILD | CHECK | BUILD BIN | ||||||||
| mspms 1.1.0 (landing page) Charlie Bayne
| nebbiolo2 | Linux (Ubuntu 24.04.3 LTS) / x86_64 | OK | OK | OK | |||||||||
| palomino8 | Windows Server 2022 Datacenter / x64 | OK | OK | OK | OK | |||||||||
| lconway | macOS 12.7.1 Monterey / x86_64 | OK | OK | OK | OK | |||||||||
| kjohnson3 | macOS 13.7.7 Ventura / arm64 | OK | OK | OK | OK | |||||||||
| taishan | Linux (openEuler 24.03 LTS) / aarch64 | OK | OK | OK | ||||||||||
|
To the developers/maintainers of the mspms package: - Allow up to 24 hours (and sometimes 48 hours) for your latest push to git@git.bioconductor.org:packages/mspms.git to reflect on this report. See Troubleshooting Build Report for more information. - Use the following Renviron settings to reproduce errors and warnings. - If 'R CMD check' started to fail recently on the Linux builder(s) over a missing dependency, add the missing dependency to 'Suggests:' in your DESCRIPTION file. See Renviron.bioc for more information. |
| Package: mspms |
| Version: 1.1.0 |
| Command: F:\biocbuild\bbs-3.22-bioc\R\bin\R.exe CMD check --no-multiarch --install=check:mspms.install-out.txt --library=F:\biocbuild\bbs-3.22-bioc\R\library --no-vignettes --timings mspms_1.1.0.tar.gz |
| StartedAt: 2025-08-15 05:33:45 -0400 (Fri, 15 Aug 2025) |
| EndedAt: 2025-08-15 05:47:45 -0400 (Fri, 15 Aug 2025) |
| EllapsedTime: 839.6 seconds |
| RetCode: 0 |
| Status: OK |
| CheckDir: mspms.Rcheck |
| Warnings: 0 |
##############################################################################
##############################################################################
###
### Running command:
###
### F:\biocbuild\bbs-3.22-bioc\R\bin\R.exe CMD check --no-multiarch --install=check:mspms.install-out.txt --library=F:\biocbuild\bbs-3.22-bioc\R\library --no-vignettes --timings mspms_1.1.0.tar.gz
###
##############################################################################
##############################################################################
* using log directory 'F:/biocbuild/bbs-3.22-bioc/meat/mspms.Rcheck'
* using R version 4.5.1 (2025-06-13 ucrt)
* using platform: x86_64-w64-mingw32
* R was compiled by
gcc.exe (GCC) 14.2.0
GNU Fortran (GCC) 14.2.0
* running under: Windows Server 2022 x64 (build 20348)
* using session charset: UTF-8
* using option '--no-vignettes'
* checking for file 'mspms/DESCRIPTION' ... OK
* checking extension type ... Package
* this is package 'mspms' version '1.1.0'
* package encoding: UTF-8
* checking package namespace information ... OK
* checking package dependencies ... OK
* checking if this is a source package ... OK
* checking if there is a namespace ... OK
* checking for hidden files and directories ... OK
* checking for portable file names ... OK
* checking whether package 'mspms' can be installed ... OK
* checking installed package size ... OK
* checking package directory ... OK
* checking 'build' directory ... OK
* checking DESCRIPTION meta-information ... OK
* checking top-level files ... OK
* checking for left-over files ... OK
* checking index information ... OK
* checking package subdirectories ... OK
* checking code files for non-ASCII characters ... OK
* checking R files for syntax errors ... OK
* checking whether the package can be loaded ... OK
* checking whether the package can be loaded with stated dependencies ... OK
* checking whether the package can be unloaded cleanly ... OK
* checking whether the namespace can be loaded with stated dependencies ... OK
* checking whether the namespace can be unloaded cleanly ... OK
* checking dependencies in R code ... OK
* checking S3 generic/method consistency ... OK
* checking replacement functions ... OK
* checking foreign function calls ... OK
* checking R code for possible problems ... NOTE
calc_limma_design_matrix: no visible global function definition for
'model.matrix'
limma_stats: no visible binding for global variable 'peptide'
limma_stats: no visible binding for global variable 'contrast'
limma_stats: no visible binding for global variable 'group1'
limma_stats: no visible binding for global variable 'time'
Undefined global functions or variables:
contrast group1 model.matrix peptide time
Consider adding
importFrom("stats", "model.matrix", "time")
to your NAMESPACE file.
* checking Rd files ... OK
* checking Rd metadata ... OK
* checking Rd cross-references ... NOTE
Non-topic package-anchored link(s) in Rd file 'pipe.Rd':
'[magrittr:pipe]{%>%}'
See section 'Cross-references' in the 'Writing R Extensions' manual.
* checking for missing documentation entries ... OK
* checking for code/documentation mismatches ... OK
* checking Rd \usage sections ... OK
* checking Rd contents ... OK
* checking for unstated dependencies in examples ... OK
* checking contents of 'data' directory ... OK
* checking data for non-ASCII characters ... OK
* checking LazyData ... OK
* checking data for ASCII and uncompressed saves ... OK
* checking files in 'vignettes' ... OK
* checking examples ... OK
Examples with CPU (user + system) or elapsed time > 5s
user system elapsed
log2fc_t_test 143.98 1.04 145.05
plot_heatmap 24.69 1.58 28.00
limma_stats 10.30 0.60 10.90
prepare_peaks 7.97 0.16 9.06
prepare_fragpipe 6.84 0.42 7.29
* checking for unstated dependencies in 'tests' ... OK
* checking tests ...
Running 'testthat.R'
OK
* checking for unstated dependencies in vignettes ... OK
* checking package vignettes ... OK
* checking running R code from vignettes ... SKIPPED
* checking re-building of vignette outputs ... SKIPPED
* checking PDF version of manual ... OK
* DONE
Status: 2 NOTEs
See
'F:/biocbuild/bbs-3.22-bioc/meat/mspms.Rcheck/00check.log'
for details.
mspms.Rcheck/00install.out
############################################################################## ############################################################################## ### ### Running command: ### ### F:\biocbuild\bbs-3.22-bioc\R\bin\R.exe CMD INSTALL mspms ### ############################################################################## ############################################################################## * installing to library 'F:/biocbuild/bbs-3.22-bioc/R/library' * installing *source* package 'mspms' ... ** this is package 'mspms' version '1.1.0' ** using staged installation ** R ** data *** moving datasets to lazyload DB ** inst ** byte-compile and prepare package for lazy loading ** help *** installing help indices *** copying figures ** building package indices ** installing vignettes ** testing if installed package can be loaded from temporary location ** testing if installed package can be loaded from final location ** testing if installed package keeps a record of temporary installation path * DONE (mspms)
mspms.Rcheck/tests/testthat.Rout
R version 4.5.1 (2025-06-13 ucrt) -- "Great Square Root"
Copyright (C) 2025 The R Foundation for Statistical Computing
Platform: x86_64-w64-mingw32/x64
R is free software and comes with ABSOLUTELY NO WARRANTY.
You are welcome to redistribute it under certain conditions.
Type 'license()' or 'licence()' for distribution details.
R is a collaborative project with many contributors.
Type 'contributors()' for more information and
'citation()' on how to cite R or R packages in publications.
Type 'demo()' for some demos, 'help()' for on-line help, or
'help.start()' for an HTML browser interface to help.
Type 'q()' to quit R.
> # This file is part of the standard setup for testthat.
> # It is recommended that you do not modify it.
> #
> # Where should you do additional test configuration?
> # Learn more about the roles of various files in:
> # * https://r-pkgs.org/testing-design.html#sec-tests-files-overview
> # * https://testthat.r-lib.org/articles/special-files.html
>
> library(testthat)
> library(mspms)
>
> test_check("mspms")
Loading required namespace: QFeatures
Joining with `by = join_by(quantCols)`
Joining with `by = join_by(quantCols)`
Joining with `by = join_by(quantCols)`
Joining with `by = join_by(quantCols)`
Scale for x is already present.
Adding another scale for x, which will replace the existing scale.
Scale for x is already present.
Adding another scale for x, which will replace the existing scale.
Rows: 2444 Columns: 32
-- Column specification --------------------------------------------------------
Delimiter: ","
chr (6): Protein Accession, Peptide, Used, Candidate, Sample Profile (Ratio...
dbl (25): Protein Group, Protein ID, Quality, Significance, Avg. ppm, Avg. A...
lgl (1): PTM
i Use `spec()` to retrieve the full column specification for this data.
i Specify the column types or set `show_col_types = FALSE` to quiet this message.
841 peptides were removed because they had a quality score < 0.3 (34%)
Rows: 12 Columns: 4
-- Column specification --------------------------------------------------------
Delimiter: ","
chr (3): quantCols, group, condition
dbl (1): time
i Use `spec()` to retrieve the full column specification for this data.
i Specify the column types or set `show_col_types = FALSE` to quiet this message.
Checking arguments.
Loading data as a 'SummarizedExperiment' object.
Formatting sample annotations (colData).
Formatting data as a 'QFeatures' object.
Setting assay rownames.
Loading required namespace: imputeLCMD
Imputing along margin 2 (samples/columns).
Your row data contain missing values. Please read the relevant
section(s) in the aggregateFeatures manual page regarding the effects
of missing values on data aggregation.
Aggregated: 1/1
Joining with `by = join_by(quantCols)`
Joining with `by = join_by(quantCols)`
Scale for x is already present.
Adding another scale for x, which will replace the existing scale.
Scale for x is already present.
Adding another scale for x, which will replace the existing scale.
Joining with `by = join_by(quantCols)`
Joining with `by = join_by(quantCols)`
Joining with `by = join_by(quantCols)`
Joining with `by = join_by(quantCols)`
Joining with `by = join_by(quantCols)`
Rows: 1847 Columns: 63
-- Column specification --------------------------------------------------------
Delimiter: "\t"
chr (19): Peptide Sequence, Prev AA, Next AA, Protein, Protein ID, Entry Nam...
dbl (40): Start, End, Peptide Length, CatA_0000_1 Spectral Count, CatA_0000_...
num (1): Charges
lgl (3): Gene, Mapped Genes, Mapped Proteins
i Use `spec()` to retrieve the full column specification for this data.
i Specify the column types or set `show_col_types = FALSE` to quiet this message.
Rows: 12 Columns: 4
-- Column specification --------------------------------------------------------
Delimiter: ","
chr (3): quantCols, group, condition
dbl (1): time
i Use `spec()` to retrieve the full column specification for this data.
i Specify the column types or set `show_col_types = FALSE` to quiet this message.
Checking arguments.
Loading data as a 'SummarizedExperiment' object.
Formatting sample annotations (colData).
Formatting data as a 'QFeatures' object.
Setting assay rownames.
Rows: 2444 Columns: 1
-- Column specification --------------------------------------------------------
Delimiter: "\t"
chr (1): Protein Group,Protein ID,Protein Accession,Peptide,Used,Candidate,Q...
i Use `spec()` to retrieve the full column specification for this data.
i Specify the column types or set `show_col_types = FALSE` to quiet this message.
Rows: 1207 Columns: 68
-- Column specification --------------------------------------------------------
Delimiter: "\t"
chr (17): Confidence, Annotated Sequence, Master Protein Accessions, Positio...
dbl (48): Peptide Groups Peptide Group ID, Qvality PEP, Qvality q-value, # P...
lgl (3): Checked, Modifications, Modifications in Master Proteins
i Use `spec()` to retrieve the full column specification for this data.
i Specify the column types or set `show_col_types = FALSE` to quiet this message.
Rows: 12 Columns: 4
-- Column specification --------------------------------------------------------
Delimiter: ","
chr (3): quantCols, group, condition
dbl (1): time
i Use `spec()` to retrieve the full column specification for this data.
i Specify the column types or set `show_col_types = FALSE` to quiet this message.
Checking arguments.
Loading data as a 'SummarizedExperiment' object.
Formatting sample annotations (colData).
Formatting data as a 'QFeatures' object.
Setting assay rownames.
Rows: 1207 Columns: 68
-- Column specification --------------------------------------------------------
Delimiter: "\t"
chr (17): Confidence, Annotated Sequence, Master Protein Accessions, Positio...
dbl (48): Peptide Groups Peptide Group ID, Qvality PEP, Qvality q-value, # P...
lgl (3): Checked, Modifications, Modifications in Master Proteins
i Use `spec()` to retrieve the full column specification for this data.
i Specify the column types or set `show_col_types = FALSE` to quiet this message.
Rows: 12 Columns: 4
-- Column specification --------------------------------------------------------
Delimiter: ","
chr (3): quantCols, group, condition
dbl (1): time
i Use `spec()` to retrieve the full column specification for this data.
i Specify the column types or set `show_col_types = FALSE` to quiet this message.
Checking arguments.
Loading data as a 'SummarizedExperiment' object.
Formatting sample annotations (colData).
Formatting data as a 'QFeatures' object.
Setting assay rownames.
Rows: 2444 Columns: 32
-- Column specification --------------------------------------------------------
Delimiter: ","
chr (6): Protein Accession, Peptide, Used, Candidate, Sample Profile (Ratio...
dbl (25): Protein Group, Protein ID, Quality, Significance, Avg. ppm, Avg. A...
lgl (1): PTM
i Use `spec()` to retrieve the full column specification for this data.
i Specify the column types or set `show_col_types = FALSE` to quiet this message.
841 peptides were removed because they had a quality score < 0.3 (34%)
Rows: 12 Columns: 4
-- Column specification --------------------------------------------------------
Delimiter: ","
chr (3): quantCols, group, condition
dbl (1): time
i Use `spec()` to retrieve the full column specification for this data.
i Specify the column types or set `show_col_types = FALSE` to quiet this message.
Checking arguments.
Loading data as a 'SummarizedExperiment' object.
Formatting sample annotations (colData).
Formatting data as a 'QFeatures' object.
Setting assay rownames.
Rows: 2444 Columns: 32
-- Column specification --------------------------------------------------------
Delimiter: ","
chr (6): Protein Accession, Peptide, Used, Candidate, Sample Profile (Ratio...
dbl (25): Protein Group, Protein ID, Quality, Significance, Avg. ppm, Avg. A...
lgl (1): PTM
i Use `spec()` to retrieve the full column specification for this data.
i Specify the column types or set `show_col_types = FALSE` to quiet this message.
Rows: 1 Columns: 1
-- Column specification --------------------------------------------------------
Delimiter: ","
chr (1): tests/testdata/
i Use `spec()` to retrieve the full column specification for this data.
i Specify the column types or set `show_col_types = FALSE` to quiet this message.
Joining with `by = join_by(quantCols)`
Joining with `by = join_by(quantCols)`
Checking arguments.
Loading data as a 'SummarizedExperiment' object.
Formatting sample annotations (colData).
Formatting data as a 'QFeatures' object.
Setting assay rownames.
Imputing along margin 2 (samples/columns).
Your row data contain missing values. Please read the relevant
section(s) in the aggregateFeatures manual page regarding the effects
of missing values on data aggregation.
Aggregated: 1/1
Joining with `by = join_by(quantCols)`
Joining with `by = join_by(quantCols)`
Joining with `by = join_by(quantCols)`
[ FAIL 0 | WARN 7 | SKIP 0 | PASS 118 ]
[ FAIL 0 | WARN 7 | SKIP 0 | PASS 118 ]
>
> proc.time()
user system elapsed
552.04 7.76 559.78
mspms.Rcheck/mspms-Ex.timings
| name | user | system | elapsed | |
| calculate_all_cleavages | 0.01 | 0.01 | 0.03 | |
| generate_report | 0 | 0 | 0 | |
| limma_stats | 10.3 | 0.6 | 10.9 | |
| log2fc_t_test | 143.98 | 1.04 | 145.05 | |
| mspms_tidy | 0.05 | 0.03 | 0.08 | |
| plot_all_icelogos | 1.42 | 0.13 | 1.59 | |
| plot_cleavages_per_pos | 0.65 | 0.00 | 0.66 | |
| plot_heatmap | 24.69 | 1.58 | 28.00 | |
| plot_icelogo | 0.56 | 0.03 | 0.59 | |
| plot_nd_peptides | 0.41 | 0.01 | 0.42 | |
| plot_pca | 3.48 | 0.16 | 3.64 | |
| plot_qc_check | 0.94 | 0.05 | 0.98 | |
| plot_time_course | 0.03 | 0.00 | 0.03 | |
| plot_volcano | 0.53 | 0.00 | 0.54 | |
| prepare_fragpipe | 6.84 | 0.42 | 7.29 | |
| prepare_pd | 0 | 0 | 0 | |
| prepare_peaks | 7.97 | 0.16 | 9.06 | |
| process_qf | 1.28 | 0.04 | 1.33 | |