Back to Multiple platform build/check report for BioC 3.22:   simplified   long
ABCDEFGHIJKL[M]NOPQRSTUVWXYZ

This page was generated on 2025-10-18 12:03 -0400 (Sat, 18 Oct 2025).

HostnameOSArch (*)R versionInstalled pkgs
nebbiolo2Linux (Ubuntu 24.04.3 LTS)x86_644.5.1 Patched (2025-08-23 r88802) -- "Great Square Root" 4887
lconwaymacOS 12.7.6 Montereyx86_644.5.1 Patched (2025-09-10 r88807) -- "Great Square Root" 4677
kjohnson3macOS 13.7.7 Venturaarm644.5.1 Patched (2025-09-10 r88807) -- "Great Square Root" 4622
taishanLinux (openEuler 24.03 LTS)aarch644.5.0 (2025-04-11) -- "How About a Twenty-Six" 4632
Click on any hostname to see more info about the system (e.g. compilers)      (*) as reported by 'uname -p', except on Windows and Mac OS X

Package 1335/2353HostnameOS / ArchINSTALLBUILDCHECKBUILD BIN
mobileRNA 1.5.1  (landing page)
Katie Jeynes-Cupper
Snapshot Date: 2025-10-17 13:45 -0400 (Fri, 17 Oct 2025)
git_url: https://git.bioconductor.org/packages/mobileRNA
git_branch: devel
git_last_commit: 072fb25
git_last_commit_date: 2025-07-23 12:46:28 -0400 (Wed, 23 Jul 2025)
nebbiolo2Linux (Ubuntu 24.04.3 LTS) / x86_64  OK    OK    OK  UNNEEDED, same version is already published
lconwaymacOS 12.7.6 Monterey / x86_64  OK    OK    OK    OK  UNNEEDED, same version is already published
kjohnson3macOS 13.7.7 Ventura / arm64  OK    OK    OK    OK  UNNEEDED, same version is already published
taishanLinux (openEuler 24.03 LTS) / aarch64  OK    OK    OK  


CHECK results for mobileRNA on nebbiolo2

To the developers/maintainers of the mobileRNA package:
- Allow up to 24 hours (and sometimes 48 hours) for your latest push to git@git.bioconductor.org:packages/mobileRNA.git to reflect on this report. See Troubleshooting Build Report for more information.
- Use the following Renviron settings to reproduce errors and warnings.
- If 'R CMD check' started to fail recently on the Linux builder(s) over a missing dependency, add the missing dependency to 'Suggests:' in your DESCRIPTION file. See Renviron.bioc for more information.

raw results


Summary

Package: mobileRNA
Version: 1.5.1
Command: /home/biocbuild/bbs-3.22-bioc/R/bin/R CMD check --install=check:mobileRNA.install-out.txt --library=/home/biocbuild/bbs-3.22-bioc/R/site-library --timings mobileRNA_1.5.1.tar.gz
StartedAt: 2025-10-18 02:02:33 -0400 (Sat, 18 Oct 2025)
EndedAt: 2025-10-18 02:08:24 -0400 (Sat, 18 Oct 2025)
EllapsedTime: 351.3 seconds
RetCode: 0
Status:   OK  
CheckDir: mobileRNA.Rcheck
Warnings: 0

Command output

##############################################################################
##############################################################################
###
### Running command:
###
###   /home/biocbuild/bbs-3.22-bioc/R/bin/R CMD check --install=check:mobileRNA.install-out.txt --library=/home/biocbuild/bbs-3.22-bioc/R/site-library --timings mobileRNA_1.5.1.tar.gz
###
##############################################################################
##############################################################################


* using log directory ‘/home/biocbuild/bbs-3.22-bioc/meat/mobileRNA.Rcheck’
* using R version 4.5.1 Patched (2025-08-23 r88802)
* using platform: x86_64-pc-linux-gnu
* R was compiled by
    gcc (Ubuntu 13.3.0-6ubuntu2~24.04) 13.3.0
    GNU Fortran (Ubuntu 13.3.0-6ubuntu2~24.04) 13.3.0
* running under: Ubuntu 24.04.3 LTS
* using session charset: UTF-8
* checking for file ‘mobileRNA/DESCRIPTION’ ... OK
* checking extension type ... Package
* this is package ‘mobileRNA’ version ‘1.5.1’
* package encoding: UTF-8
* checking package namespace information ... OK
* checking package dependencies ... INFO
Imports includes 24 non-default packages.
Importing from so many packages makes the package vulnerable to any of
them becoming unavailable.  Move as many as possible to Suggests and
use conditionally.
* checking if this is a source package ... OK
* checking if there is a namespace ... OK
* checking for hidden files and directories ... OK
* checking for portable file names ... OK
* checking for sufficient/correct file permissions ... OK
* checking whether package ‘mobileRNA’ can be installed ... OK
* checking installed package size ... OK
* checking package directory ... OK
* checking ‘build’ directory ... OK
* checking DESCRIPTION meta-information ... OK
* checking top-level files ... OK
* checking for left-over files ... OK
* checking index information ... OK
* checking package subdirectories ... OK
* checking code files for non-ASCII characters ... OK
* checking R files for syntax errors ... OK
* checking whether the package can be loaded ... OK
* checking whether the package can be loaded with stated dependencies ... OK
* checking whether the package can be unloaded cleanly ... OK
* checking whether the namespace can be loaded with stated dependencies ... OK
* checking whether the namespace can be unloaded cleanly ... OK
* checking loading without being on the library search path ... OK
* checking dependencies in R code ... OK
* checking S3 generic/method consistency ... OK
* checking replacement functions ... OK
* checking foreign function calls ... OK
* checking R code for possible problems ... OK
* checking Rd files ... OK
* checking Rd metadata ... OK
* checking Rd cross-references ... OK
* checking for missing documentation entries ... OK
* checking for code/documentation mismatches ... OK
* checking Rd \usage sections ... OK
* checking Rd contents ... OK
* checking for unstated dependencies in examples ... OK
* checking contents of ‘data’ directory ... OK
* checking data for non-ASCII characters ... OK
* checking data for ASCII and uncompressed saves ... OK
* checking files in ‘vignettes’ ... OK
* checking examples ... OK
Examples with CPU (user + system) or elapsed time > 5s
                          user system elapsed
RNAdistribution         16.493  0.133  19.795
RNAdicercall            13.583  0.254  14.587
RNAsubset               10.116  0.059  10.176
RNAdifferentialAnalysis  7.051  0.142   7.251
RNAsummary               5.658  0.174   5.833
* checking for unstated dependencies in vignettes ... OK
* checking package vignettes ... OK
* checking re-building of vignette outputs ... OK
* checking PDF version of manual ... OK
* DONE

Status: OK


Installation output

mobileRNA.Rcheck/00install.out

##############################################################################
##############################################################################
###
### Running command:
###
###   /home/biocbuild/bbs-3.22-bioc/R/bin/R CMD INSTALL mobileRNA
###
##############################################################################
##############################################################################


* installing to library ‘/home/biocbuild/bbs-3.22-bioc/R/site-library’
* installing *source* package ‘mobileRNA’ ...
** this is package ‘mobileRNA’ version ‘1.5.1’
** using staged installation
** R
** data
** inst
** byte-compile and prepare package for lazy loading
** help
*** installing help indices
*** copying figures
** building package indices
** installing vignettes
** testing if installed package can be loaded from temporary location
** testing if installed package can be loaded from final location
** testing if installed package keeps a record of temporary installation path
* DONE (mobileRNA)

Tests output


Example timings

mobileRNA.Rcheck/mobileRNA-Ex.timings

nameusersystemelapsed
RNAattributes1.4470.0201.478
RNAdf2se0.4320.0060.447
RNAdicercall13.583 0.25414.587
RNAdifferentialAnalysis7.0510.1427.251
RNAdistribution16.493 0.13319.795
RNAfeatures1.2390.0181.257
RNAimport000
RNAmergeAnnotations0.2630.0000.263
RNAmergeGenomes0.0610.0010.063
RNAmobile0.5680.0120.580
RNApopulation1.8920.0051.896
RNAreorder0.1590.0030.162
RNAsequences1.3120.0101.323
RNAsubset10.116 0.05910.176
RNAsummary5.6580.1745.833
mRNA_data0.0390.0020.041
mapRNA0.0010.0000.000
plotHeatmap0.5650.0040.569
plotRNAfeatures1.0360.0171.053
plotSampleDistance2.3320.0322.364
plotSamplePCA2.7940.0222.816
sRNA_data0.1350.0040.139