Back to Multiple platform build/check report for BioC 3.22: simplified long |
|
This page was generated on 2025-10-18 12:05 -0400 (Sat, 18 Oct 2025).
Hostname | OS | Arch (*) | R version | Installed pkgs |
---|---|---|---|---|
nebbiolo2 | Linux (Ubuntu 24.04.3 LTS) | x86_64 | 4.5.1 Patched (2025-08-23 r88802) -- "Great Square Root" | 4887 |
lconway | macOS 12.7.6 Monterey | x86_64 | 4.5.1 Patched (2025-09-10 r88807) -- "Great Square Root" | 4677 |
kjohnson3 | macOS 13.7.7 Ventura | arm64 | 4.5.1 Patched (2025-09-10 r88807) -- "Great Square Root" | 4622 |
taishan | Linux (openEuler 24.03 LTS) | aarch64 | 4.5.0 (2025-04-11) -- "How About a Twenty-Six" | 4632 |
Click on any hostname to see more info about the system (e.g. compilers) (*) as reported by 'uname -p', except on Windows and Mac OS X |
Package 1044/2353 | Hostname | OS / Arch | INSTALL | BUILD | CHECK | BUILD BIN | ||||||||
imcRtools 1.15.4 (landing page) Daniel Schulz
| nebbiolo2 | Linux (Ubuntu 24.04.3 LTS) / x86_64 | OK | OK | ERROR | |||||||||
lconway | macOS 12.7.6 Monterey / x86_64 | OK | OK | ERROR | OK | |||||||||
kjohnson3 | macOS 13.7.7 Ventura / arm64 | OK | OK | ERROR | OK | |||||||||
taishan | Linux (openEuler 24.03 LTS) / aarch64 | OK | OK | ERROR | ||||||||||
To the developers/maintainers of the imcRtools package: - Allow up to 24 hours (and sometimes 48 hours) for your latest push to git@git.bioconductor.org:packages/imcRtools.git to reflect on this report. See Troubleshooting Build Report for more information. - Use the following Renviron settings to reproduce errors and warnings. - If 'R CMD check' started to fail recently on the Linux builder(s) over a missing dependency, add the missing dependency to 'Suggests:' in your DESCRIPTION file. See Renviron.bioc for more information. |
Package: imcRtools |
Version: 1.15.4 |
Command: /Library/Frameworks/R.framework/Resources/bin/R CMD check --install=check:imcRtools.install-out.txt --library=/Library/Frameworks/R.framework/Resources/library --no-vignettes --timings imcRtools_1.15.4.tar.gz |
StartedAt: 2025-10-17 23:00:06 -0400 (Fri, 17 Oct 2025) |
EndedAt: 2025-10-17 23:23:50 -0400 (Fri, 17 Oct 2025) |
EllapsedTime: 1423.8 seconds |
RetCode: 1 |
Status: ERROR |
CheckDir: imcRtools.Rcheck |
Warnings: NA |
############################################################################## ############################################################################## ### ### Running command: ### ### /Library/Frameworks/R.framework/Resources/bin/R CMD check --install=check:imcRtools.install-out.txt --library=/Library/Frameworks/R.framework/Resources/library --no-vignettes --timings imcRtools_1.15.4.tar.gz ### ############################################################################## ############################################################################## * using log directory ‘/Users/biocbuild/bbs-3.22-bioc/meat/imcRtools.Rcheck’ * using R version 4.5.1 Patched (2025-09-10 r88807) * using platform: x86_64-apple-darwin20 * R was compiled by Apple clang version 14.0.0 (clang-1400.0.29.202) GNU Fortran (GCC) 14.2.0 * running under: macOS Monterey 12.7.6 * using session charset: UTF-8 * using option ‘--no-vignettes’ * checking for file ‘imcRtools/DESCRIPTION’ ... OK * this is package ‘imcRtools’ version ‘1.15.4’ * package encoding: UTF-8 * checking package namespace information ... OK * checking package dependencies ... INFO Imports includes 29 non-default packages. Importing from so many packages makes the package vulnerable to any of them becoming unavailable. Move as many as possible to Suggests and use conditionally. * checking if this is a source package ... OK * checking if there is a namespace ... OK * checking for hidden files and directories ... OK * checking for portable file names ... OK * checking for sufficient/correct file permissions ... OK * checking whether package ‘imcRtools’ can be installed ... OK * checking installed package size ... INFO installed size is 8.0Mb sub-directories of 1Mb or more: extdata 7.6Mb * checking package directory ... OK * checking ‘build’ directory ... OK * checking DESCRIPTION meta-information ... OK * checking top-level files ... OK * checking for left-over files ... OK * checking index information ... OK * checking package subdirectories ... OK * checking code files for non-ASCII characters ... OK * checking R files for syntax errors ... OK * checking whether the package can be loaded ... OK * checking whether the package can be loaded with stated dependencies ... OK * checking whether the package can be unloaded cleanly ... OK * checking whether the namespace can be loaded with stated dependencies ... OK * checking whether the namespace can be unloaded cleanly ... OK * checking dependencies in R code ... OK * checking S3 generic/method consistency ... OK * checking replacement functions ... OK * checking foreign function calls ... OK * checking R code for possible problems ... NOTE .generateInteractionsPlot: no visible binding for global variable ‘weight’ .valid.plotInteractions.input: no visible binding for global variable ‘from_label’ .valid.plotInteractions.input: no visible binding for global variable ‘to_label’ .valid.plotInteractions.input: no visible global function definition for ‘n_distinct’ .valid.plotInteractions.input: no visible global function definition for ‘capture.output’ plotInteractions: no visible binding for global variable ‘from_label’ plotInteractions: no visible binding for global variable ‘to_label’ plotInteractions: no visible binding for global variable ‘weight’ plotInteractions: no visible global function definition for ‘everything’ readSCEfromTIFF: no visible global function definition for ‘read.csv’ Undefined global functions or variables: capture.output everything from_label n_distinct read.csv to_label weight Consider adding importFrom("utils", "capture.output", "read.csv") to your NAMESPACE file. * checking Rd files ... NOTE checkRd: (-1) aggregateNeighbors.Rd:52: Lost braces; missing escapes or markup? 52 | \code{summarize_by = "metadata"} or "{statistic}_aggregatedExpression" when | ^ checkRd: (-1) testInteractions.Rd:64: Lost braces in \itemize; \value handles \item{}{} directly checkRd: (-1) testInteractions.Rd:65-66: Lost braces in \itemize; \value handles \item{}{} directly checkRd: (-1) testInteractions.Rd:67-68: Lost braces in \itemize; \value handles \item{}{} directly checkRd: (-1) testInteractions.Rd:69-71: Lost braces in \itemize; \value handles \item{}{} directly checkRd: (-1) testInteractions.Rd:72: Lost braces in \itemize; \value handles \item{}{} directly checkRd: (-1) testInteractions.Rd:73: Lost braces in \itemize; \value handles \item{}{} directly checkRd: (-1) testInteractions.Rd:74: Lost braces in \itemize; \value handles \item{}{} directly checkRd: (-1) testInteractions.Rd:76: Lost braces in \itemize; \value handles \item{}{} directly checkRd: (-1) testInteractions.Rd:77: Lost braces in \itemize; \value handles \item{}{} directly checkRd: (-1) testInteractions.Rd:78: Lost braces in \itemize; \value handles \item{}{} directly * checking Rd metadata ... OK * checking Rd cross-references ... NOTE Found the following Rd file(s) with Rd \link{} targets missing package anchors: plotSpatial.Rd: ggraph readImagefromTXT.Rd: Image-class, CytoImageList-class readSCEfromTIFF.Rd: SingleCellExperiment-class readSCEfromTXT.Rd: SingleCellExperiment-class read_cpout.Rd: SpatialExperiment-class, SingleCellExperiment-class read_steinbock.Rd: SpatialExperiment-class, SingleCellExperiment-class Please provide package anchors for all Rd \link{} targets not in the package itself and the base packages. * checking for missing documentation entries ... OK * checking for code/documentation mismatches ... OK * checking Rd \usage sections ... OK * checking Rd contents ... OK * checking for unstated dependencies in examples ... OK * checking files in ‘vignettes’ ... OK * checking examples ... OK Examples with CPU (user + system) or elapsed time > 5s user system elapsed testInteractions 172.770 2.492 177.138 read_steinbock 22.073 6.301 20.466 buildSpatialGraph 10.332 0.809 10.696 plotInteractions 7.498 0.124 7.684 plotSpatial 5.396 0.224 5.690 plotSpatialContext 5.224 0.089 5.346 filterSpatialContext 5.040 0.057 5.123 * checking for unstated dependencies in ‘tests’ ... OK * checking tests ... Running ‘testthat.R’ ERROR Running the tests in ‘tests/testthat.R’ failed. Last 13 lines of output: Backtrace: ▆ 1. ├─testthat::expect_error(...) at test_plotSpatialContext.R:238:3 2. │ └─testthat:::quasi_capture(...) 3. │ ├─testthat (local) .capture(...) 4. │ │ └─base::withCallingHandlers(...) 5. │ └─rlang::eval_bare(quo_get_expr(.quo), quo_get_env(.quo)) 6. └─imcRtools::plotSpatialContext(sce, group_by = "ImageNb") 7. └─igraph::graph_from_data_frame(d = edges, directed = TRUE, vertices = anno) 8. └─cli::cli_abort("{.arg d} should contain at least two columns") 9. └─rlang::abort(...) [ FAIL 1 | WARN 4 | SKIP 0 | PASS 3002 ] Error: Test failures Execution halted * checking for unstated dependencies in vignettes ... OK * checking package vignettes ... OK * checking running R code from vignettes ... SKIPPED * checking re-building of vignette outputs ... SKIPPED * checking PDF version of manual ... OK * DONE Status: 1 ERROR, 3 NOTEs See ‘/Users/biocbuild/bbs-3.22-bioc/meat/imcRtools.Rcheck/00check.log’ for details.
imcRtools.Rcheck/00install.out
############################################################################## ############################################################################## ### ### Running command: ### ### /Library/Frameworks/R.framework/Resources/bin/R CMD INSTALL imcRtools ### ############################################################################## ############################################################################## * installing to library ‘/Library/Frameworks/R.framework/Versions/4.5-x86_64/Resources/library’ * installing *source* package ‘imcRtools’ ... ** this is package ‘imcRtools’ version ‘1.15.4’ ** using staged installation ** R ** inst ** byte-compile and prepare package for lazy loading ** help *** installing help indices ** building package indices ** installing vignettes ** testing if installed package can be loaded from temporary location ** testing if installed package can be loaded from final location ** testing if installed package keeps a record of temporary installation path * DONE (imcRtools)
imcRtools.Rcheck/tests/testthat.Rout.fail
R version 4.5.1 Patched (2025-09-10 r88807) -- "Great Square Root" Copyright (C) 2025 The R Foundation for Statistical Computing Platform: x86_64-apple-darwin20 R is free software and comes with ABSOLUTELY NO WARRANTY. You are welcome to redistribute it under certain conditions. Type 'license()' or 'licence()' for distribution details. R is a collaborative project with many contributors. Type 'contributors()' for more information and 'citation()' on how to cite R or R packages in publications. Type 'demo()' for some demos, 'help()' for on-line help, or 'help.start()' for an HTML browser interface to help. Type 'q()' to quit R. > library(testthat) > library(imcRtools) Loading required package: SpatialExperiment Loading required package: SingleCellExperiment Loading required package: SummarizedExperiment Loading required package: MatrixGenerics Loading required package: matrixStats Attaching package: 'MatrixGenerics' The following objects are masked from 'package:matrixStats': colAlls, colAnyNAs, colAnys, colAvgsPerRowSet, colCollapse, colCounts, colCummaxs, colCummins, colCumprods, colCumsums, colDiffs, colIQRDiffs, colIQRs, colLogSumExps, colMadDiffs, colMads, colMaxs, colMeans2, colMedians, colMins, colOrderStats, colProds, colQuantiles, colRanges, colRanks, colSdDiffs, colSds, colSums2, colTabulates, colVarDiffs, colVars, colWeightedMads, colWeightedMeans, colWeightedMedians, colWeightedSds, colWeightedVars, rowAlls, rowAnyNAs, rowAnys, rowAvgsPerColSet, rowCollapse, rowCounts, rowCummaxs, rowCummins, rowCumprods, rowCumsums, rowDiffs, rowIQRDiffs, rowIQRs, rowLogSumExps, rowMadDiffs, rowMads, rowMaxs, rowMeans2, rowMedians, rowMins, rowOrderStats, rowProds, rowQuantiles, rowRanges, rowRanks, rowSdDiffs, rowSds, rowSums2, rowTabulates, rowVarDiffs, rowVars, rowWeightedMads, rowWeightedMeans, rowWeightedMedians, rowWeightedSds, rowWeightedVars Loading required package: GenomicRanges Loading required package: stats4 Loading required package: BiocGenerics Loading required package: generics Attaching package: 'generics' The following objects are masked from 'package:base': as.difftime, as.factor, as.ordered, intersect, is.element, setdiff, setequal, union Attaching package: 'BiocGenerics' The following objects are masked from 'package:stats': IQR, mad, sd, var, xtabs The following objects are masked from 'package:base': Filter, Find, Map, Position, Reduce, anyDuplicated, aperm, append, as.data.frame, basename, cbind, colnames, dirname, do.call, duplicated, eval, evalq, get, grep, grepl, is.unsorted, lapply, mapply, match, mget, order, paste, pmax, pmax.int, pmin, pmin.int, rank, rbind, rownames, sapply, saveRDS, table, tapply, unique, unsplit, which.max, which.min Loading required package: S4Vectors Attaching package: 'S4Vectors' The following object is masked from 'package:utils': findMatches The following objects are masked from 'package:base': I, expand.grid, unname Loading required package: IRanges Loading required package: Seqinfo Loading required package: Biobase Welcome to Bioconductor Vignettes contain introductory material; view with 'browseVignettes()'. To cite Bioconductor, see 'citation("Biobase")', and for packages 'citation("pkgname")'. Attaching package: 'Biobase' The following object is masked from 'package:MatrixGenerics': rowMedians The following objects are masked from 'package:matrixStats': anyMissing, rowMedians > > test_check("imcRtools") [ FAIL 1 | WARN 4 | SKIP 0 | PASS 3002 ] ══ Failed tests ════════════════════════════════════════════════════════════════ ── Failure ('test_plotSpatialContext.R:238:3'): plotSpatialContext function works ── `plotSpatialContext(sce, group_by = "ImageNb")` threw an error with unexpected message. Expected match: "the data frame should contain at least two columns" Actual message: "`d` should contain at least two columns" Backtrace: ▆ 1. ├─testthat::expect_error(...) at test_plotSpatialContext.R:238:3 2. │ └─testthat:::quasi_capture(...) 3. │ ├─testthat (local) .capture(...) 4. │ │ └─base::withCallingHandlers(...) 5. │ └─rlang::eval_bare(quo_get_expr(.quo), quo_get_env(.quo)) 6. └─imcRtools::plotSpatialContext(sce, group_by = "ImageNb") 7. └─igraph::graph_from_data_frame(d = edges, directed = TRUE, vertices = anno) 8. └─cli::cli_abort("{.arg d} should contain at least two columns") 9. └─rlang::abort(...) [ FAIL 1 | WARN 4 | SKIP 0 | PASS 3002 ] Error: Test failures Execution halted
imcRtools.Rcheck/imcRtools-Ex.timings
name | user | system | elapsed | |
aggregateNeighbors | 0.961 | 0.070 | 1.042 | |
binAcrossPixels | 1.112 | 0.259 | 1.301 | |
buildSpatialGraph | 10.332 | 0.809 | 10.696 | |
countInteractions | 0.707 | 0.016 | 0.725 | |
detectCommunity | 2.255 | 0.032 | 2.298 | |
detectSpatialContext | 2.137 | 0.028 | 2.178 | |
distToCells | 2.557 | 0.067 | 2.656 | |
filterPixels | 2.582 | 0.456 | 3.033 | |
filterSpatialContext | 5.040 | 0.057 | 5.123 | |
findBorderCells | 0.636 | 0.020 | 0.661 | |
patchDetection | 2.881 | 0.045 | 2.937 | |
patchSize | 1.162 | 0.035 | 1.194 | |
plotInteractions | 7.498 | 0.124 | 7.684 | |
plotSpatial | 5.396 | 0.224 | 5.690 | |
plotSpatialContext | 5.224 | 0.089 | 5.346 | |
plotSpotHeatmap | 0.601 | 0.102 | 0.635 | |
readImagefromTXT | 0.462 | 0.259 | 0.439 | |
readSCEfromTIFF | 0.364 | 0.014 | 0.385 | |
readSCEfromTXT | 0.340 | 0.114 | 0.367 | |
read_cpout | 1.324 | 0.475 | 1.422 | |
read_steinbock | 22.073 | 6.301 | 20.466 | |
show_cpout_features | 0.208 | 0.098 | 0.311 | |
testInteractions | 172.770 | 2.492 | 177.138 | |