| Back to Multiple platform build/check report for BioC 3.22: simplified long |
|
This page was generated on 2025-10-20 12:05 -0400 (Mon, 20 Oct 2025).
| Hostname | OS | Arch (*) | R version | Installed pkgs |
|---|---|---|---|---|
| nebbiolo2 | Linux (Ubuntu 24.04.3 LTS) | x86_64 | 4.5.1 Patched (2025-08-23 r88802) -- "Great Square Root" | 4887 |
| lconway | macOS 12.7.6 Monterey | x86_64 | 4.5.1 Patched (2025-09-10 r88807) -- "Great Square Root" | 4677 |
| kjohnson3 | macOS 13.7.7 Ventura | arm64 | 4.5.1 Patched (2025-09-10 r88807) -- "Great Square Root" | 4622 |
| taishan | Linux (openEuler 24.03 LTS) | aarch64 | 4.5.0 (2025-04-11) -- "How About a Twenty-Six" | 4632 |
| Click on any hostname to see more info about the system (e.g. compilers) (*) as reported by 'uname -p', except on Windows and Mac OS X | ||||
| Package 1037/2353 | Hostname | OS / Arch | INSTALL | BUILD | CHECK | BUILD BIN | ||||||||
| igvR 1.29.0 (landing page) Arkadiusz Gladki
| nebbiolo2 | Linux (Ubuntu 24.04.3 LTS) / x86_64 | OK | OK | OK | |||||||||
| lconway | macOS 12.7.6 Monterey / x86_64 | OK | OK | OK | OK | |||||||||
| kjohnson3 | macOS 13.7.7 Ventura / arm64 | OK | OK | OK | OK | |||||||||
| taishan | Linux (openEuler 24.03 LTS) / aarch64 | OK | OK | OK | ||||||||||
|
To the developers/maintainers of the igvR package: - Allow up to 24 hours (and sometimes 48 hours) for your latest push to git@git.bioconductor.org:packages/igvR.git to reflect on this report. See Troubleshooting Build Report for more information. - Use the following Renviron settings to reproduce errors and warnings. - If 'R CMD check' started to fail recently on the Linux builder(s) over a missing dependency, add the missing dependency to 'Suggests:' in your DESCRIPTION file. See Renviron.bioc for more information. |
| Package: igvR |
| Version: 1.29.0 |
| Command: /Library/Frameworks/R.framework/Resources/bin/R CMD check --install=check:igvR.install-out.txt --library=/Library/Frameworks/R.framework/Resources/library --no-vignettes --timings igvR_1.29.0.tar.gz |
| StartedAt: 2025-10-19 23:10:55 -0400 (Sun, 19 Oct 2025) |
| EndedAt: 2025-10-19 23:16:09 -0400 (Sun, 19 Oct 2025) |
| EllapsedTime: 314.5 seconds |
| RetCode: 0 |
| Status: OK |
| CheckDir: igvR.Rcheck |
| Warnings: 0 |
##############################################################################
##############################################################################
###
### Running command:
###
### /Library/Frameworks/R.framework/Resources/bin/R CMD check --install=check:igvR.install-out.txt --library=/Library/Frameworks/R.framework/Resources/library --no-vignettes --timings igvR_1.29.0.tar.gz
###
##############################################################################
##############################################################################
* using log directory ‘/Users/biocbuild/bbs-3.22-bioc/meat/igvR.Rcheck’
* using R version 4.5.1 Patched (2025-09-10 r88807)
* using platform: x86_64-apple-darwin20
* R was compiled by
Apple clang version 14.0.0 (clang-1400.0.29.202)
GNU Fortran (GCC) 14.2.0
* running under: macOS Monterey 12.7.6
* using session charset: UTF-8
* using option ‘--no-vignettes’
* checking for file ‘igvR/DESCRIPTION’ ... OK
* checking extension type ... Package
* this is package ‘igvR’ version ‘1.29.0’
* package encoding: UTF-8
* checking package namespace information ... OK
* checking package dependencies ... OK
* checking if this is a source package ... OK
* checking if there is a namespace ... OK
* checking for hidden files and directories ... OK
* checking for portable file names ... OK
* checking for sufficient/correct file permissions ... OK
* checking whether package ‘igvR’ can be installed ... OK
* checking installed package size ... INFO
installed size is 21.8Mb
sub-directories of 1Mb or more:
browserCode 14.9Mb
extdata 6.3Mb
* checking package directory ... OK
* checking ‘build’ directory ... OK
* checking DESCRIPTION meta-information ... NOTE
License stub is invalid DCF.
* checking top-level files ... OK
* checking for left-over files ... OK
* checking index information ... OK
* checking package subdirectories ... OK
* checking code files for non-ASCII characters ... OK
* checking R files for syntax errors ... OK
* checking whether the package can be loaded ... OK
* checking whether the package can be loaded with stated dependencies ... OK
* checking whether the package can be unloaded cleanly ... OK
* checking whether the namespace can be loaded with stated dependencies ... OK
* checking whether the namespace can be unloaded cleanly ... OK
* checking whether startup messages can be suppressed ... OK
* checking dependencies in R code ... OK
* checking S3 generic/method consistency ... OK
* checking replacement functions ... OK
* checking foreign function calls ... OK
* checking R code for possible problems ... NOTE
.writeMotifLogoImagesUpdateTrackNames: no visible binding for global
variable ‘MotifDb’
.writeMotifLogoImagesUpdateTrackNames: no visible global function
definition for ‘seqLogo’
Undefined global functions or variables:
MotifDb seqLogo
* checking Rd files ... OK
* checking Rd metadata ... OK
* checking Rd cross-references ... OK
* checking for missing documentation entries ... OK
* checking for code/documentation mismatches ... OK
* checking Rd \usage sections ... OK
* checking Rd contents ... OK
* checking for unstated dependencies in examples ... OK
* checking include directives in Makefiles ... OK
* checking files in ‘vignettes’ ... OK
* checking examples ... OK
* checking for unstated dependencies in vignettes ... OK
* checking package vignettes ... OK
* checking running R code from vignettes ... SKIPPED
* checking re-building of vignette outputs ... SKIPPED
* checking PDF version of manual ... OK
* DONE
Status: 2 NOTEs
See
‘/Users/biocbuild/bbs-3.22-bioc/meat/igvR.Rcheck/00check.log’
for details.
igvR.Rcheck/00install.out
############################################################################## ############################################################################## ### ### Running command: ### ### /Library/Frameworks/R.framework/Resources/bin/R CMD INSTALL igvR ### ############################################################################## ############################################################################## * installing to library ‘/Library/Frameworks/R.framework/Versions/4.5-x86_64/Resources/library’ * installing *source* package ‘igvR’ ... ** this is package ‘igvR’ version ‘1.29.0’ ** using staged installation ** R ** inst ** byte-compile and prepare package for lazy loading ** help *** installing help indices ** building package indices ** installing vignettes ** testing if installed package can be loaded from temporary location ** testing if installed package can be loaded from final location ** testing if installed package keeps a record of temporary installation path * DONE (igvR)
igvR.Rcheck/igvR-Ex.timings
| name | user | system | elapsed | |
| BedpeInteractionsTrack-class | 0.014 | 0.002 | 0.017 | |
| DataFrameAnnotationTrack-class | 0.016 | 0.002 | 0.018 | |
| DataFrameQuantitativeTrack-class | 0.133 | 0.005 | 0.140 | |
| GFF3Track-class | 0.016 | 0.002 | 0.019 | |
| GRangesAnnotationTrack-class | 0.065 | 0.002 | 0.067 | |
| GRangesQuantitativeTrack-class | 0.018 | 0.001 | 0.019 | |
| GWASTrack-class | 0.138 | 0.008 | 0.148 | |
| GWASUrlTrack-class | 0.004 | 0.000 | 0.005 | |
| GenomicAlignmentTrack-class | 0.161 | 0.007 | 0.172 | |
| UCSCBedAnnotationTrack-class | 0.292 | 0.033 | 0.328 | |
| UCSCBedGraphQuantitativeTrack-class | 1.041 | 0.006 | 1.051 | |
| VariantTrack-class | 0.508 | 0.017 | 0.530 | |
| displayTrack | 0.001 | 0.000 | 0.001 | |
| enableMotifLogoPopups | 0.001 | 0.000 | 0.001 | |
| getGenomicRegion | 0 | 0 | 0 | |
| getSupportedGenomes | 0.000 | 0.000 | 0.001 | |
| getTrackNames | 0 | 0 | 0 | |
| igvR-class | 0.001 | 0.001 | 0.001 | |
| parseAndValidateGenomeSpec | 0.041 | 0.008 | 0.890 | |
| ping | 0.000 | 0.000 | 0.001 | |
| removeTracksByName | 0.002 | 0.001 | 0.002 | |
| setCustomGenome | 0.001 | 0.001 | 0.001 | |
| setGenome | 0.000 | 0.001 | 0.000 | |
| showGenomicRegion | 0.000 | 0.000 | 0.001 | |
| trackSize-DataFrameAnnotationTrack-method | 0.004 | 0.000 | 0.005 | |
| trackSize-UCSCBedAnnotationTrack-method | 0.113 | 0.013 | 0.126 | |
| url.exists | 0.000 | 0.000 | 0.001 | |