| Back to Multiple platform build/check report for BioC 3.22: simplified long |
|
This page was generated on 2025-08-15 12:06 -0400 (Fri, 15 Aug 2025).
| Hostname | OS | Arch (*) | R version | Installed pkgs |
|---|---|---|---|---|
| nebbiolo2 | Linux (Ubuntu 24.04.3 LTS) | x86_64 | 4.5.1 (2025-06-13) -- "Great Square Root" | 4818 |
| palomino8 | Windows Server 2022 Datacenter | x64 | 4.5.1 (2025-06-13 ucrt) -- "Great Square Root" | 4554 |
| lconway | macOS 12.7.1 Monterey | x86_64 | 4.5.1 (2025-06-13) -- "Great Square Root" | 4595 |
| kjohnson3 | macOS 13.7.7 Ventura | arm64 | 4.5.1 Patched (2025-06-14 r88325) -- "Great Square Root" | 4537 |
| taishan | Linux (openEuler 24.03 LTS) | aarch64 | 4.5.0 (2025-04-11) -- "How About a Twenty-Six" | 4535 |
| Click on any hostname to see more info about the system (e.g. compilers) (*) as reported by 'uname -p', except on Windows and Mac OS X | ||||
| Package 1007/2317 | Hostname | OS / Arch | INSTALL | BUILD | CHECK | BUILD BIN | ||||||||
| iCheck 1.39.0 (landing page) Weiliang Qiu
| nebbiolo2 | Linux (Ubuntu 24.04.3 LTS) / x86_64 | OK | OK | OK | |||||||||
| palomino8 | Windows Server 2022 Datacenter / x64 | OK | OK | OK | OK | |||||||||
| lconway | macOS 12.7.1 Monterey / x86_64 | OK | OK | OK | OK | |||||||||
| kjohnson3 | macOS 13.7.7 Ventura / arm64 | OK | OK | OK | OK | |||||||||
| taishan | Linux (openEuler 24.03 LTS) / aarch64 | OK | OK | OK | ||||||||||
|
To the developers/maintainers of the iCheck package: - Allow up to 24 hours (and sometimes 48 hours) for your latest push to git@git.bioconductor.org:packages/iCheck.git to reflect on this report. See Troubleshooting Build Report for more information. - Use the following Renviron settings to reproduce errors and warnings. - If 'R CMD check' started to fail recently on the Linux builder(s) over a missing dependency, add the missing dependency to 'Suggests:' in your DESCRIPTION file. See Renviron.bioc for more information. |
| Package: iCheck |
| Version: 1.39.0 |
| Command: F:\biocbuild\bbs-3.22-bioc\R\bin\R.exe CMD check --no-multiarch --install=check:iCheck.install-out.txt --library=F:\biocbuild\bbs-3.22-bioc\R\library --no-vignettes --timings iCheck_1.39.0.tar.gz |
| StartedAt: 2025-08-15 04:15:19 -0400 (Fri, 15 Aug 2025) |
| EndedAt: 2025-08-15 04:21:51 -0400 (Fri, 15 Aug 2025) |
| EllapsedTime: 391.8 seconds |
| RetCode: 0 |
| Status: OK |
| CheckDir: iCheck.Rcheck |
| Warnings: 0 |
##############################################################################
##############################################################################
###
### Running command:
###
### F:\biocbuild\bbs-3.22-bioc\R\bin\R.exe CMD check --no-multiarch --install=check:iCheck.install-out.txt --library=F:\biocbuild\bbs-3.22-bioc\R\library --no-vignettes --timings iCheck_1.39.0.tar.gz
###
##############################################################################
##############################################################################
* using log directory 'F:/biocbuild/bbs-3.22-bioc/meat/iCheck.Rcheck'
* using R version 4.5.1 (2025-06-13 ucrt)
* using platform: x86_64-w64-mingw32
* R was compiled by
gcc.exe (GCC) 14.2.0
GNU Fortran (GCC) 14.2.0
* running under: Windows Server 2022 x64 (build 20348)
* using session charset: UTF-8
* using option '--no-vignettes'
* checking for file 'iCheck/DESCRIPTION' ... OK
* checking extension type ... Package
* this is package 'iCheck' version '1.39.0'
* checking package namespace information ... OK
* checking package dependencies ... OK
* checking if this is a source package ... OK
* checking if there is a namespace ... OK
* checking for hidden files and directories ... OK
* checking for portable file names ... OK
* checking whether package 'iCheck' can be installed ... OK
* checking installed package size ... OK
* checking package directory ... OK
* checking 'build' directory ... OK
* checking DESCRIPTION meta-information ... OK
* checking top-level files ... OK
* checking for left-over files ... OK
* checking index information ... OK
* checking package subdirectories ... OK
* checking code files for non-ASCII characters ... OK
* checking R files for syntax errors ... OK
* checking whether the package can be loaded ... OK
* checking whether the package can be loaded with stated dependencies ... OK
* checking whether the package can be unloaded cleanly ... OK
* checking whether the namespace can be loaded with stated dependencies ... OK
* checking whether the namespace can be unloaded cleanly ... OK
* checking dependencies in R code ... OK
* checking S3 generic/method consistency ... OK
* checking replacement functions ... OK
* checking foreign function calls ... OK
* checking R code for possible problems ... OK
* checking Rd files ... NOTE
checkRd: (-1) R2PlotFunc.Rd:74: Lost braces; missing escapes or markup?
74 | 'las' numeric in {0,1,2,3}; the style of axis labels.
| ^
checkRd: (-1) genSimData.BayesNormal.Rd:93: Lost braces; missing escapes or markup?
93 | contains 2 columns: \code{arrayID} (array id) and {memSubj} (subject
| ^
checkRd: (-1) lmFitWrapper.Rd:85: Lost braces
85 | code{pval} (p-values of the tests for the covariate of interest, i.e.
| ^
checkRd: (-1) plotCurves.Rd:75: Lost braces; missing escapes or markup?
75 | 'las' numeric in {0,1,2,3}; the style of axis labels.
| ^
checkRd: (-1) plotQCCurves.Rd:102: Lost braces; missing escapes or markup?
102 | 'las' numeric in {0,1,2,3}; the style of axis labels.
| ^
checkRd: (-1) plotSamplep95p05.Rd:92: Lost braces; missing escapes or markup?
92 | 'las' numeric in {0,1,2,3}; the style of axis labels.
| ^
checkRd: (-1) quantilePlot.Rd:78: Lost braces; missing escapes or markup?
78 | 'las' numeric in {0,1,2,3}; the style of axis labels.
| ^
* checking Rd metadata ... OK
* checking Rd cross-references ... NOTE
Found the following Rd file(s) with Rd \link{} targets missing package
anchors:
R2PlotFunc.Rd: heatmap.2
Please provide package anchors for all Rd \link{} targets not in the
package itself and the base packages.
* checking for missing documentation entries ... OK
* checking for code/documentation mismatches ... OK
* checking Rd \usage sections ... OK
* checking Rd contents ... OK
* checking for unstated dependencies in examples ... OK
* checking sizes of PDF files under 'inst/doc' ... OK
* checking files in 'vignettes' ... OK
* checking examples ... OK
* checking for unstated dependencies in vignettes ... OK
* checking package vignettes ... OK
* checking running R code from vignettes ... SKIPPED
* checking re-building of vignette outputs ... SKIPPED
* checking PDF version of manual ... OK
* DONE
Status: 2 NOTEs
See
'F:/biocbuild/bbs-3.22-bioc/meat/iCheck.Rcheck/00check.log'
for details.
iCheck.Rcheck/00install.out
############################################################################## ############################################################################## ### ### Running command: ### ### F:\biocbuild\bbs-3.22-bioc\R\bin\R.exe CMD INSTALL iCheck ### ############################################################################## ############################################################################## * installing to library 'F:/biocbuild/bbs-3.22-bioc/R/library' * installing *source* package 'iCheck' ... ** this is package 'iCheck' version '1.39.0' ** using staged installation ** R ** byte-compile and prepare package for lazy loading No methods found in package 'RSQLite' for request: 'dbListFields' when loading 'lumi' ** help *** installing help indices ** building package indices ** installing vignettes ** testing if installed package can be loaded from temporary location No methods found in package 'RSQLite' for request: 'dbListFields' when loading 'lumi' ** testing if installed package can be loaded from final location No methods found in package 'RSQLite' for request: 'dbListFields' when loading 'lumi' ** testing if installed package keeps a record of temporary installation path * DONE (iCheck)
iCheck.Rcheck/iCheck-Ex.timings
| name | user | system | elapsed | |
| LumiBatch2Table | 0.16 | 0.00 | 0.16 | |
| R2PlotFunc | 0.19 | 0.04 | 0.22 | |
| boxPlots | 0.16 | 0.03 | 0.19 | |
| densityPlots | 0.11 | 0.02 | 0.12 | |
| genSimData.BayesNormal | 0.04 | 0.00 | 0.05 | |
| getPCAFunc | 0.07 | 0.01 | 0.08 | |
| glmWrapper | 0.39 | 0.00 | 0.39 | |
| lkhrWrapper | 0.54 | 0.07 | 0.61 | |
| lmFitPaired | 0.07 | 0.00 | 0.06 | |
| lmFitWrapper | 0.06 | 0.00 | 0.06 | |
| pca2DPlot | 0.09 | 0.01 | 0.11 | |
| pca3DPlot | 0.08 | 0.02 | 0.10 | |
| plotCurves | 0.06 | 0.00 | 0.06 | |
| plotQCCurves | 0.05 | 0.01 | 0.06 | |
| plotSamplep95p05 | 0.06 | 0.02 | 0.08 | |
| quantilePlot | 0.05 | 0.01 | 0.08 | |
| scatterPlots | 0.12 | 0.05 | 0.18 | |
| sortExpressionSet | 0.08 | 0.00 | 0.07 | |