| Back to Multiple platform build/check report for BioC 3.22: simplified long |
|
This page was generated on 2025-08-15 12:06 -0400 (Fri, 15 Aug 2025).
| Hostname | OS | Arch (*) | R version | Installed pkgs |
|---|---|---|---|---|
| nebbiolo2 | Linux (Ubuntu 24.04.3 LTS) | x86_64 | 4.5.1 (2025-06-13) -- "Great Square Root" | 4818 |
| palomino8 | Windows Server 2022 Datacenter | x64 | 4.5.1 (2025-06-13 ucrt) -- "Great Square Root" | 4554 |
| lconway | macOS 12.7.1 Monterey | x86_64 | 4.5.1 (2025-06-13) -- "Great Square Root" | 4595 |
| kjohnson3 | macOS 13.7.7 Ventura | arm64 | 4.5.1 Patched (2025-06-14 r88325) -- "Great Square Root" | 4537 |
| taishan | Linux (openEuler 24.03 LTS) | aarch64 | 4.5.0 (2025-04-11) -- "How About a Twenty-Six" | 4535 |
| Click on any hostname to see more info about the system (e.g. compilers) (*) as reported by 'uname -p', except on Windows and Mac OS X | ||||
| Package 788/2317 | Hostname | OS / Arch | INSTALL | BUILD | CHECK | BUILD BIN | ||||||||
| gDRimport 1.7.4 (landing page) Arkadiusz Gladki
| nebbiolo2 | Linux (Ubuntu 24.04.3 LTS) / x86_64 | OK | OK | OK | |||||||||
| palomino8 | Windows Server 2022 Datacenter / x64 | OK | OK | OK | OK | |||||||||
| lconway | macOS 12.7.1 Monterey / x86_64 | OK | OK | OK | OK | |||||||||
| kjohnson3 | macOS 13.7.7 Ventura / arm64 | OK | OK | OK | OK | |||||||||
| taishan | Linux (openEuler 24.03 LTS) / aarch64 | OK | OK | OK | ||||||||||
|
To the developers/maintainers of the gDRimport package: - Allow up to 24 hours (and sometimes 48 hours) for your latest push to git@git.bioconductor.org:packages/gDRimport.git to reflect on this report. See Troubleshooting Build Report for more information. - Use the following Renviron settings to reproduce errors and warnings. - If 'R CMD check' started to fail recently on the Linux builder(s) over a missing dependency, add the missing dependency to 'Suggests:' in your DESCRIPTION file. See Renviron.bioc for more information. |
| Package: gDRimport |
| Version: 1.7.4 |
| Command: F:\biocbuild\bbs-3.22-bioc\R\bin\R.exe CMD check --no-multiarch --install=check:gDRimport.install-out.txt --library=F:\biocbuild\bbs-3.22-bioc\R\library --no-vignettes --timings gDRimport_1.7.4.tar.gz |
| StartedAt: 2025-08-15 03:26:17 -0400 (Fri, 15 Aug 2025) |
| EndedAt: 2025-08-15 03:30:03 -0400 (Fri, 15 Aug 2025) |
| EllapsedTime: 225.7 seconds |
| RetCode: 0 |
| Status: OK |
| CheckDir: gDRimport.Rcheck |
| Warnings: 0 |
##############################################################################
##############################################################################
###
### Running command:
###
### F:\biocbuild\bbs-3.22-bioc\R\bin\R.exe CMD check --no-multiarch --install=check:gDRimport.install-out.txt --library=F:\biocbuild\bbs-3.22-bioc\R\library --no-vignettes --timings gDRimport_1.7.4.tar.gz
###
##############################################################################
##############################################################################
* using log directory 'F:/biocbuild/bbs-3.22-bioc/meat/gDRimport.Rcheck'
* using R version 4.5.1 (2025-06-13 ucrt)
* using platform: x86_64-w64-mingw32
* R was compiled by
gcc.exe (GCC) 14.2.0
GNU Fortran (GCC) 14.2.0
* running under: Windows Server 2022 x64 (build 20348)
* using session charset: UTF-8
* using option '--no-vignettes'
* checking for file 'gDRimport/DESCRIPTION' ... OK
* checking extension type ... Package
* this is package 'gDRimport' version '1.7.4'
* package encoding: UTF-8
* checking package namespace information ... OK
* checking package dependencies ... OK
* checking if this is a source package ... OK
* checking if there is a namespace ... OK
* checking for hidden files and directories ... OK
* checking for portable file names ... OK
* checking whether package 'gDRimport' can be installed ... OK
* checking installed package size ... OK
* checking package directory ... OK
* checking 'build' directory ... OK
* checking DESCRIPTION meta-information ... OK
* checking top-level files ... OK
* checking for left-over files ... OK
* checking index information ... OK
* checking package subdirectories ... OK
* checking code files for non-ASCII characters ... OK
* checking R files for syntax errors ... OK
* checking whether the package can be loaded ... OK
* checking whether the package can be loaded with stated dependencies ... OK
* checking whether the package can be unloaded cleanly ... OK
* checking whether the namespace can be loaded with stated dependencies ... OK
* checking whether the namespace can be unloaded cleanly ... OK
* checking dependencies in R code ... OK
* checking S3 generic/method consistency ... OK
* checking replacement functions ... OK
* checking foreign function calls ... OK
* checking R code for possible problems ... OK
* checking Rd files ... OK
* checking Rd metadata ... OK
* checking Rd cross-references ... OK
* checking for missing documentation entries ... OK
* checking for code/documentation mismatches ... OK
* checking Rd \usage sections ... OK
* checking Rd contents ... OK
* checking for unstated dependencies in examples ... OK
* checking files in 'vignettes' ... OK
* checking examples ... OK
Examples with CPU (user + system) or elapsed time > 5s
user system elapsed
convert_MAE_to_PSet 8.74 0.37 9.11
import_D300 3.33 0.80 5.42
* checking for unstated dependencies in 'tests' ... OK
* checking tests ...
Running 'testthat.R'
OK
* checking for unstated dependencies in vignettes ... OK
* checking package vignettes ... OK
* checking running R code from vignettes ... SKIPPED
* checking re-building of vignette outputs ... SKIPPED
* checking PDF version of manual ... OK
* DONE
Status: OK
gDRimport.Rcheck/00install.out
############################################################################## ############################################################################## ### ### Running command: ### ### F:\biocbuild\bbs-3.22-bioc\R\bin\R.exe CMD INSTALL gDRimport ### ############################################################################## ############################################################################## * installing to library 'F:/biocbuild/bbs-3.22-bioc/R/library' * installing *source* package 'gDRimport' ... ** this is package 'gDRimport' version '1.7.4' ** using staged installation ** R ** inst ** byte-compile and prepare package for lazy loading ** help *** installing help indices ** building package indices ** installing vignettes ** testing if installed package can be loaded from temporary location ** testing if installed package can be loaded from final location ** testing if installed package keeps a record of temporary installation path * DONE (gDRimport)
gDRimport.Rcheck/tests/testthat.Rout
R version 4.5.1 (2025-06-13 ucrt) -- "Great Square Root"
Copyright (C) 2025 The R Foundation for Statistical Computing
Platform: x86_64-w64-mingw32/x64
R is free software and comes with ABSOLUTELY NO WARRANTY.
You are welcome to redistribute it under certain conditions.
Type 'license()' or 'licence()' for distribution details.
R is a collaborative project with many contributors.
Type 'contributors()' for more information and
'citation()' on how to cite R or R packages in publications.
Type 'demo()' for some demos, 'help()' for on-line help, or
'help.start()' for an HTML browser interface to help.
Type 'q()' to quit R.
> library(testthat)
> library(gDRimport)
>
> test_check("gDRimport")
2025-08-15 03:29:26 Building assay index...
2025-08-15 03:29:26 Joining rowData to assayIndex...
2025-08-15 03:29:27 Joining colData to assayIndex...
2025-08-15 03:29:28 Joining assays to assayIndex...
2025-08-15 03:29:29 Setting assayIndex key...
2025-08-15 03:29:30 Building LongTable...
2025-08-15 03:29:31 Building assay index...
2025-08-15 03:29:31 Joining rowData to assayIndex...
2025-08-15 03:29:32 Joining colData to assayIndex...
2025-08-15 03:29:33 Joining assays to assayIndex...
2025-08-15 03:29:35 Setting assayIndex key...
2025-08-15 03:29:36 Building LongTable...
INFO [2025-08-15 03:29:36] Manifest loaded successfully
INFO [2025-08-15 03:29:36] Manifest loaded successfully
INFO [2025-08-15 03:29:37] Reading file F:/biocbuild/bbs-3.22-bioc/R/library/gDRimport/extdata/data1/RawData_day0.xlsx, sheet Readout_0077vs0068_day7
INFO [2025-08-15 03:29:37] Plate 201904190a read; 384 wells
INFO [2025-08-15 03:29:37] Plate 201904190b read; 384 wells
INFO [2025-08-15 03:29:37] Plate 201904190c read; 384 wells
INFO [2025-08-15 03:29:37] Plate 201904190d read; 384 wells
INFO [2025-08-15 03:29:37] Plate 201904190e read; 384 wells
INFO [2025-08-15 03:29:37] Plate 201904190f read; 384 wells
INFO [2025-08-15 03:29:37] File done
INFO [2025-08-15 03:29:37] Reading file F:/biocbuild/bbs-3.22-bioc/R/library/gDRimport/extdata/data1/RawData_day7.xlsx, sheet Readout_0077vs0068_day7
INFO [2025-08-15 03:29:38] Plate 201904197a read; 384 wells
INFO [2025-08-15 03:29:38] Plate 201904197b read; 384 wells
INFO [2025-08-15 03:29:38] Plate 201904197c read; 384 wells
INFO [2025-08-15 03:29:38] Plate 201904197d read; 384 wells
INFO [2025-08-15 03:29:38] Plate 201904197e read; 384 wells
INFO [2025-08-15 03:29:38] Plate 201904197f read; 384 wells
INFO [2025-08-15 03:29:38] File done
INFO [2025-08-15 03:29:38] Reading file F:/biocbuild/bbs-3.22-bioc/R/library/gDRimport/extdata/data1/RawData_day0.xlsx, sheet Readout_0077vs0068_day7
INFO [2025-08-15 03:29:38] Plate 201904190a read; 384 wells
INFO [2025-08-15 03:29:38] Plate 201904190b read; 384 wells
INFO [2025-08-15 03:29:38] Plate 201904190c read; 384 wells
INFO [2025-08-15 03:29:38] Plate 201904190d read; 384 wells
INFO [2025-08-15 03:29:38] Plate 201904190e read; 384 wells
INFO [2025-08-15 03:29:38] Plate 201904190f read; 384 wells
INFO [2025-08-15 03:29:38] File done
INFO [2025-08-15 03:29:38] Reading file F:/biocbuild/bbs-3.22-bioc/R/library/gDRimport/extdata/data1/RawData_day7.xlsx, sheet Readout_0077vs0068_day7
INFO [2025-08-15 03:29:39] Plate 201904197a read; 384 wells
INFO [2025-08-15 03:29:39] Plate 201904197b read; 384 wells
INFO [2025-08-15 03:29:39] Plate 201904197c read; 384 wells
INFO [2025-08-15 03:29:39] Plate 201904197d read; 384 wells
INFO [2025-08-15 03:29:39] Plate 201904197e read; 384 wells
INFO [2025-08-15 03:29:39] Plate 201904197f read; 384 wells
INFO [2025-08-15 03:29:39] File done
INFO [2025-08-15 03:29:39] Reading file F:/biocbuild/bbs-3.22-bioc/R/library/gDRimport/extdata/data1/RawData_day0.xlsx, sheet Readout_0077vs0068_day7
INFO [2025-08-15 03:29:40] Plate 201904190a read; 384 wells
INFO [2025-08-15 03:29:40] Plate 201904190b read; 384 wells
INFO [2025-08-15 03:29:40] Plate 201904190c read; 384 wells
INFO [2025-08-15 03:29:40] Plate 201904190d read; 384 wells
INFO [2025-08-15 03:29:40] Plate 201904190e read; 384 wells
INFO [2025-08-15 03:29:40] Plate 201904190f read; 384 wells
INFO [2025-08-15 03:29:40] File done
INFO [2025-08-15 03:29:40] Reading file F:/biocbuild/bbs-3.22-bioc/R/library/gDRimport/extdata/data2/RawData_Tecan_96_well_plates.xlsx, sheet H2122-2
INFO [2025-08-15 03:29:40] Reading file F:/biocbuild/bbs-3.22-bioc/R/library/gDRimport/extdata/data2/RawData_Tecan_96_well_plates.xlsx, sheet H358-2
INFO [2025-08-15 03:29:40] Reading file F:/biocbuild/bbs-3.22-bioc/R/library/gDRimport/extdata/data2/RawData_Tecan_96_well_plates.xlsx, sheet H358-1
INFO [2025-08-15 03:29:40] Reading file F:/biocbuild/bbs-3.22-bioc/R/library/gDRimport/extdata/data2/RawData_Tecan_96_well_plates.xlsx, sheet H2122-1
INFO [2025-08-15 03:29:40] Reading Template_7daytreated.xlsx with load_templates_xlsx
INFO [2025-08-15 03:29:41] Loading Template_7daytreated.xlsx
INFO [2025-08-15 03:29:41] Loading Template_Untreated.xlsx
INFO [2025-08-15 03:29:41] Templates loaded successfully!
INFO [2025-08-15 03:29:41] Reading Template_7daytreated.xlsx with load_templates_xlsx
INFO [2025-08-15 03:29:41] Loading Template_7daytreated.xlsx
INFO [2025-08-15 03:29:41] Loading Template_Untreated.xlsx
INFO [2025-08-15 03:29:41] Templates loaded successfully!
INFO [2025-08-15 03:29:41] Reading D300_trt_Tecan_96_well_plates.xlsx with load_templates_xlsx
INFO [2025-08-15 03:29:41] Loading D300_trt_Tecan_96_well_plates.xlsx
INFO [2025-08-15 03:29:42] Templates loaded successfully!
INFO [2025-08-15 03:29:42] Reading Template_7daytreated.xlsx with load_templates_xlsx
INFO [2025-08-15 03:29:42] Loading Template_7daytreated.xlsx
INFO [2025-08-15 03:29:42] Templates loaded successfully!
INFO [2025-08-15 03:29:42] Manifest loaded successfully
INFO [2025-08-15 03:29:42] Reading Template_7daytreated.xlsx with load_templates_xlsx
INFO [2025-08-15 03:29:42] Loading Template_7daytreated.xlsx
INFO [2025-08-15 03:29:42] Loading Template_Untreated.xlsx
INFO [2025-08-15 03:29:42] Templates loaded successfully!
INFO [2025-08-15 03:29:42] Reading file F:/biocbuild/bbs-3.22-bioc/R/library/gDRimport/extdata/data1/RawData_day0.xlsx, sheet Readout_0077vs0068_day7
INFO [2025-08-15 03:29:43] Plate 201904190a read; 384 wells
INFO [2025-08-15 03:29:43] Plate 201904190b read; 384 wells
INFO [2025-08-15 03:29:43] Plate 201904190c read; 384 wells
INFO [2025-08-15 03:29:43] Plate 201904190d read; 384 wells
INFO [2025-08-15 03:29:43] Plate 201904190e read; 384 wells
INFO [2025-08-15 03:29:43] Plate 201904190f read; 384 wells
INFO [2025-08-15 03:29:43] File done
INFO [2025-08-15 03:29:43] Reading file F:/biocbuild/bbs-3.22-bioc/R/library/gDRimport/extdata/data1/RawData_day7.xlsx, sheet Readout_0077vs0068_day7
INFO [2025-08-15 03:29:43] Plate 201904197a read; 384 wells
INFO [2025-08-15 03:29:43] Plate 201904197b read; 384 wells
INFO [2025-08-15 03:29:43] Plate 201904197c read; 384 wells
INFO [2025-08-15 03:29:43] Plate 201904197d read; 384 wells
INFO [2025-08-15 03:29:43] Plate 201904197e read; 384 wells
INFO [2025-08-15 03:29:43] Plate 201904197f read; 384 wells
INFO [2025-08-15 03:29:43] File done
INFO [2025-08-15 03:29:43] Manifest loaded successfully
INFO [2025-08-15 03:29:43] Reading D300_trt_Tecan_96_well_plates.xlsx with load_templates_xlsx
INFO [2025-08-15 03:29:44] Loading D300_trt_Tecan_96_well_plates.xlsx
INFO [2025-08-15 03:29:44] Templates loaded successfully!
INFO [2025-08-15 03:29:44] Reading file F:/biocbuild/bbs-3.22-bioc/R/library/gDRimport/extdata/data2/RawData_Tecan_96_well_plates.xlsx, sheet H2122-2
INFO [2025-08-15 03:29:44] Reading file F:/biocbuild/bbs-3.22-bioc/R/library/gDRimport/extdata/data2/RawData_Tecan_96_well_plates.xlsx, sheet H358-2
INFO [2025-08-15 03:29:44] Reading file F:/biocbuild/bbs-3.22-bioc/R/library/gDRimport/extdata/data2/RawData_Tecan_96_well_plates.xlsx, sheet H358-1
INFO [2025-08-15 03:29:45] Reading file F:/biocbuild/bbs-3.22-bioc/R/library/gDRimport/extdata/data2/RawData_Tecan_96_well_plates.xlsx, sheet H2122-1
INFO [2025-08-15 03:29:45] Manifest loaded successfully
INFO [2025-08-15 03:29:45] Reading Project40.treated.template.xlsx with load_templates_xlsx
INFO [2025-08-15 03:29:45] Loading Project40.treated.template.xlsx
INFO [2025-08-15 03:29:45] Loading Project40.untreated.template.xlsx
INFO [2025-08-15 03:29:45] Templates loaded successfully!
INFO [2025-08-15 03:29:45] Reading file F:/biocbuild/bbs-3.22-bioc/R/library/gDRimport/extdata/data4/H0109269D00.csv, sheet 0
INFO [2025-08-15 03:29:45] Plate H0109269D00 read; 384 wells
INFO [2025-08-15 03:29:45] File done
INFO [2025-08-15 03:29:45] Reading file F:/biocbuild/bbs-3.22-bioc/R/library/gDRimport/extdata/data4/H0109269D01.csv, sheet 0
INFO [2025-08-15 03:29:45] Plate H0109269D01 read; 384 wells
INFO [2025-08-15 03:29:45] File done
INFO [2025-08-15 03:29:45] Reading file F:/biocbuild/bbs-3.22-bioc/R/library/gDRimport/extdata/data4/H0309269D00.csv, sheet 0
INFO [2025-08-15 03:29:45] Plate H0309269D00 read; 384 wells
INFO [2025-08-15 03:29:45] File done
INFO [2025-08-15 03:29:45] Reading file F:/biocbuild/bbs-3.22-bioc/R/library/gDRimport/extdata/data4/H0309269D01.csv, sheet 0
INFO [2025-08-15 03:29:45] Plate H0309269D01 read; 384 wells
INFO [2025-08-15 03:29:45] File done
INFO [2025-08-15 03:29:45] Reading file F:/biocbuild/bbs-3.22-bioc/R/library/gDRimport/extdata/data4/H0409269D00.csv, sheet 0
INFO [2025-08-15 03:29:45] Plate H0409269D00 read; 384 wells
INFO [2025-08-15 03:29:45] File done
INFO [2025-08-15 03:29:45] Reading file F:/biocbuild/bbs-3.22-bioc/R/library/gDRimport/extdata/data4/H0409269D01.csv, sheet 0
INFO [2025-08-15 03:29:45] Plate H0409269D01 read; 384 wells
INFO [2025-08-15 03:29:45] File done
INFO [2025-08-15 03:29:45] Reading file F:/biocbuild/bbs-3.22-bioc/R/library/gDRimport/extdata/data4/H0509269D00.csv, sheet 0
INFO [2025-08-15 03:29:45] Plate H0509269D00 read; 384 wells
INFO [2025-08-15 03:29:45] File done
INFO [2025-08-15 03:29:45] Reading file F:/biocbuild/bbs-3.22-bioc/R/library/gDRimport/extdata/data4/H0509269D01.csv, sheet 0
INFO [2025-08-15 03:29:45] Plate H0509269D01 read; 384 wells
INFO [2025-08-15 03:29:45] File done
INFO [2025-08-15 03:29:45] Reading file F:/biocbuild/bbs-3.22-bioc/R/library/gDRimport/extdata/data4/H0609269D00.csv, sheet 0
INFO [2025-08-15 03:29:45] Plate H0609269D00 read; 384 wells
INFO [2025-08-15 03:29:45] File done
INFO [2025-08-15 03:29:45] Reading file F:/biocbuild/bbs-3.22-bioc/R/library/gDRimport/extdata/data4/H0609269D01.csv, sheet 0
INFO [2025-08-15 03:29:45] Plate H0609269D01 read; 384 wells
INFO [2025-08-15 03:29:45] File done
INFO [2025-08-15 03:29:45] Reading file F:/biocbuild/bbs-3.22-bioc/R/library/gDRimport/extdata/data4/H0709269D00.csv, sheet 0
INFO [2025-08-15 03:29:45] Plate H0709269D00 read; 384 wells
INFO [2025-08-15 03:29:45] File done
INFO [2025-08-15 03:29:45] Reading file F:/biocbuild/bbs-3.22-bioc/R/library/gDRimport/extdata/data4/H0709269D01.csv, sheet 0
INFO [2025-08-15 03:29:46] Plate H0709269D01 read; 384 wells
INFO [2025-08-15 03:29:46] File done
INFO [2025-08-15 03:29:46] Reading file F:/biocbuild/bbs-3.22-bioc/R/library/gDRimport/extdata/data4/H0809269D00.csv, sheet 0
INFO [2025-08-15 03:29:46] Plate H0809269D00 read; 384 wells
INFO [2025-08-15 03:29:46] File done
INFO [2025-08-15 03:29:46] Reading file F:/biocbuild/bbs-3.22-bioc/R/library/gDRimport/extdata/data4/H0809269D01.csv, sheet 0
INFO [2025-08-15 03:29:46] Plate H0809269D01 read; 384 wells
INFO [2025-08-15 03:29:46] File done
INFO [2025-08-15 03:29:46] Reading file F:/biocbuild/bbs-3.22-bioc/R/library/gDRimport/extdata/data4/H0909269D00.csv, sheet 0
INFO [2025-08-15 03:29:46] Plate H0909269D00 read; 384 wells
INFO [2025-08-15 03:29:46] File done
INFO [2025-08-15 03:29:46] Reading file F:/biocbuild/bbs-3.22-bioc/R/library/gDRimport/extdata/data4/H0909269D01.csv, sheet 0
INFO [2025-08-15 03:29:46] Plate H0909269D01 read; 384 wells
INFO [2025-08-15 03:29:46] File done
INFO [2025-08-15 03:29:46] Reading file F:/biocbuild/bbs-3.22-bioc/R/library/gDRimport/extdata/data4/H1109269D00.csv, sheet 0
INFO [2025-08-15 03:29:46] Plate H1109269D00 read; 384 wells
INFO [2025-08-15 03:29:46] File done
INFO [2025-08-15 03:29:46] Reading file F:/biocbuild/bbs-3.22-bioc/R/library/gDRimport/extdata/data4/H1109269D01.csv, sheet 0
INFO [2025-08-15 03:29:46] Plate H1109269D01 read; 384 wells
INFO [2025-08-15 03:29:46] File done
INFO [2025-08-15 03:29:46] Reading file F:/biocbuild/bbs-3.22-bioc/R/library/gDRimport/extdata/data4/H1209269D00.csv, sheet 0
INFO [2025-08-15 03:29:46] Plate H1209269D00 read; 384 wells
INFO [2025-08-15 03:29:46] File done
INFO [2025-08-15 03:29:46] Reading file F:/biocbuild/bbs-3.22-bioc/R/library/gDRimport/extdata/data4/H1209269D01.csv, sheet 0
INFO [2025-08-15 03:29:46] Plate H1209269D01 read; 384 wells
INFO [2025-08-15 03:29:46] File done
INFO [2025-08-15 03:29:46] Reading file F:/biocbuild/bbs-3.22-bioc/R/library/gDRimport/extdata/data4/H1409269D00.csv, sheet 0
INFO [2025-08-15 03:29:46] Plate H1409269D00 read; 384 wells
INFO [2025-08-15 03:29:46] File done
INFO [2025-08-15 03:29:46] Reading file F:/biocbuild/bbs-3.22-bioc/R/library/gDRimport/extdata/data4/H1409269D01.csv, sheet 0
INFO [2025-08-15 03:29:46] Plate H1409269D01 read; 384 wells
INFO [2025-08-15 03:29:46] File done
INFO [2025-08-15 03:29:46] Reading file F:/biocbuild/bbs-3.22-bioc/R/library/gDRimport/extdata/data4/K0209269D00.csv, sheet 0
INFO [2025-08-15 03:29:46] Plate K0209269D00 read; 384 wells
INFO [2025-08-15 03:29:46] File done
INFO [2025-08-15 03:29:46] Reading file F:/biocbuild/bbs-3.22-bioc/R/library/gDRimport/extdata/data4/K0209269D01.csv, sheet 0
INFO [2025-08-15 03:29:46] Plate K0209269D01 read; 384 wells
INFO [2025-08-15 03:29:46] File done
INFO [2025-08-15 03:29:46] Reading file F:/biocbuild/bbs-3.22-bioc/R/library/gDRimport/extdata/data4/K0809269D00.csv, sheet 0
INFO [2025-08-15 03:29:46] Plate K0809269D00 read; 384 wells
INFO [2025-08-15 03:29:46] File done
INFO [2025-08-15 03:29:46] Reading file F:/biocbuild/bbs-3.22-bioc/R/library/gDRimport/extdata/data4/K0809269D01.csv, sheet 0
INFO [2025-08-15 03:29:46] Plate K0809269D01 read; 384 wells
INFO [2025-08-15 03:29:46] File done
INFO [2025-08-15 03:29:46] Reading file F:/biocbuild/bbs-3.22-bioc/R/library/gDRimport/extdata/data4/K1009269D00.csv, sheet 0
INFO [2025-08-15 03:29:46] Plate K1009269D00 read; 384 wells
INFO [2025-08-15 03:29:46] File done
INFO [2025-08-15 03:29:46] Reading file F:/biocbuild/bbs-3.22-bioc/R/library/gDRimport/extdata/data4/K1009269D01.csv, sheet 0
INFO [2025-08-15 03:29:46] Plate K1009269D01 read; 384 wells
INFO [2025-08-15 03:29:46] File done
INFO [2025-08-15 03:29:46] Manifest loaded successfully
INFO [2025-08-15 03:29:46] Reading Template_7daytreated.xlsx with load_templates_xlsx
INFO [2025-08-15 03:29:47] Loading Template_7daytreated.xlsx
INFO [2025-08-15 03:29:47] Loading Template_Untreated.xlsx
INFO [2025-08-15 03:29:47] Templates loaded successfully!
INFO [2025-08-15 03:29:47] Manifest loaded successfully
INFO [2025-08-15 03:29:47] Reading Template_7daytreated.xlsx with load_templates_xlsx
INFO [2025-08-15 03:29:47] Loading Template_7daytreated.xlsx
INFO [2025-08-15 03:29:47] Loading Template_Untreated.xlsx
INFO [2025-08-15 03:29:47] Templates loaded successfully!
INFO [2025-08-15 03:29:47] Manifest loaded successfully
INFO [2025-08-15 03:29:47] Reading Template_trt.tsv with load_templates_tsv
INFO [2025-08-15 03:29:48] Loading Template_trt.tsv
INFO [2025-08-15 03:29:48] Loading Template_untrt.tsv
INFO [2025-08-15 03:29:48] Templates loaded successfully!
INFO [2025-08-15 03:29:48] Reading file F:/biocbuild/bbs-3.22-bioc/R/library/gDRimport/extdata/data5/RawData.tsv
WARN [2025-08-15 03:29:49] Metadata field names for cannot contain spaces --> corrected to: Gnumber
WARN [2025-08-15 03:29:49] Header Gnumber in corrected to Gnumber
[ FAIL 0 | WARN 0 | SKIP 0 | PASS 156 ]
>
>
> proc.time()
user system elapsed
54.15 3.75 60.29
gDRimport.Rcheck/gDRimport-Ex.timings
| name | user | system | elapsed | |
| check_metadata_names | 0.06 | 0.03 | 0.10 | |
| convert_LEVEL5_prism_to_gDR_input | 0.01 | 0.02 | 0.03 | |
| convert_LEVEL6_prism_to_gDR_input | 0.03 | 0.00 | 0.04 | |
| convert_MAE_to_PSet | 8.74 | 0.37 | 9.11 | |
| convert_pset_to_df | 0.18 | 0.00 | 0.21 | |
| detect_file_format | 0.30 | 0.06 | 0.37 | |
| getPSet | 0.15 | 0.00 | 0.16 | |
| get_exception_data | 0.02 | 0.00 | 0.02 | |
| get_test_D300_data | 0.00 | 0.02 | 0.01 | |
| get_test_EnVision_data | 0 | 0 | 0 | |
| get_test_Tecan_data | 0 | 0 | 0 | |
| get_test_data | 0.01 | 0.00 | 0.02 | |
| get_test_tsv_data | 0 | 0 | 0 | |
| import_D300 | 3.33 | 0.80 | 5.42 | |
| is_readable_v | 0 | 0 | 0 | |
| load_data | 1.72 | 0.09 | 1.81 | |
| load_manifest | 0.08 | 0.00 | 0.08 | |
| load_results | 1.09 | 0.04 | 1.14 | |
| load_templates | 0.33 | 0.08 | 0.40 | |
| manifest_path-method | 0 | 0 | 0 | |
| parse_D300_xml | 1.45 | 0.03 | 1.49 | |
| read_excel_to_dt | 0.02 | 0.00 | 0.04 | |
| result_path-method | 0.01 | 0.00 | 0.02 | |
| setEnvForPSet | 0 | 0 | 0 | |
| standardize_record_values | 0 | 0 | 0 | |
| template_path-method | 0 | 0 | 0 | |