Back to Multiple platform build/check report for BioC 3.22:   simplified   long
ABCDE[F]GHIJKLMNOPQRSTUVWXYZ

This page was generated on 2025-10-18 12:06 -0400 (Sat, 18 Oct 2025).

HostnameOSArch (*)R versionInstalled pkgs
nebbiolo2Linux (Ubuntu 24.04.3 LTS)x86_644.5.1 Patched (2025-08-23 r88802) -- "Great Square Root" 4887
lconwaymacOS 12.7.6 Montereyx86_644.5.1 Patched (2025-09-10 r88807) -- "Great Square Root" 4677
kjohnson3macOS 13.7.7 Venturaarm644.5.1 Patched (2025-09-10 r88807) -- "Great Square Root" 4622
taishanLinux (openEuler 24.03 LTS)aarch644.5.0 (2025-04-11) -- "How About a Twenty-Six" 4632
Click on any hostname to see more info about the system (e.g. compilers)      (*) as reported by 'uname -p', except on Windows and Mac OS X

Package 754/2353HostnameOS / ArchINSTALLBUILDCHECKBUILD BIN
flowGraph 1.17.0  (landing page)
Alice Yue
Snapshot Date: 2025-10-17 13:45 -0400 (Fri, 17 Oct 2025)
git_url: https://git.bioconductor.org/packages/flowGraph
git_branch: devel
git_last_commit: 16b2487
git_last_commit_date: 2025-04-15 12:15:54 -0400 (Tue, 15 Apr 2025)
nebbiolo2Linux (Ubuntu 24.04.3 LTS) / x86_64  OK    OK    OK  UNNEEDED, same version is already published
lconwaymacOS 12.7.6 Monterey / x86_64  OK    OK    OK    OK  UNNEEDED, same version is already published
kjohnson3macOS 13.7.7 Ventura / arm64  OK    OK    OK    OK  UNNEEDED, same version is already published
taishanLinux (openEuler 24.03 LTS) / aarch64  OK    OK    OK  


CHECK results for flowGraph on kjohnson3

To the developers/maintainers of the flowGraph package:
- Allow up to 24 hours (and sometimes 48 hours) for your latest push to git@git.bioconductor.org:packages/flowGraph.git to reflect on this report. See Troubleshooting Build Report for more information.
- Use the following Renviron settings to reproduce errors and warnings.
- If 'R CMD check' started to fail recently on the Linux builder(s) over a missing dependency, add the missing dependency to 'Suggests:' in your DESCRIPTION file. See Renviron.bioc for more information.

raw results


Summary

Package: flowGraph
Version: 1.17.0
Command: /Library/Frameworks/R.framework/Resources/bin/R CMD check --install=check:flowGraph.install-out.txt --library=/Library/Frameworks/R.framework/Resources/library --no-vignettes --timings flowGraph_1.17.0.tar.gz
StartedAt: 2025-10-17 19:50:54 -0400 (Fri, 17 Oct 2025)
EndedAt: 2025-10-17 19:52:40 -0400 (Fri, 17 Oct 2025)
EllapsedTime: 105.4 seconds
RetCode: 0
Status:   OK  
CheckDir: flowGraph.Rcheck
Warnings: 0

Command output

##############################################################################
##############################################################################
###
### Running command:
###
###   /Library/Frameworks/R.framework/Resources/bin/R CMD check --install=check:flowGraph.install-out.txt --library=/Library/Frameworks/R.framework/Resources/library --no-vignettes --timings flowGraph_1.17.0.tar.gz
###
##############################################################################
##############################################################################


* using log directory ‘/Users/biocbuild/bbs-3.22-bioc/meat/flowGraph.Rcheck’
* using R version 4.5.1 Patched (2025-09-10 r88807)
* using platform: aarch64-apple-darwin20
* R was compiled by
    Apple clang version 16.0.0 (clang-1600.0.26.6)
    GNU Fortran (GCC) 14.2.0
* running under: macOS Ventura 13.7.7
* using session charset: UTF-8
* using option ‘--no-vignettes’
* checking for file ‘flowGraph/DESCRIPTION’ ... OK
* checking extension type ... Package
* this is package ‘flowGraph’ version ‘1.17.0’
* checking package namespace information ... OK
* checking package dependencies ... OK
* checking if this is a source package ... OK
* checking if there is a namespace ... OK
* checking for hidden files and directories ... OK
* checking for portable file names ... OK
* checking for sufficient/correct file permissions ... OK
* checking whether package ‘flowGraph’ can be installed ... OK
* checking installed package size ... OK
* checking package directory ... OK
* checking ‘build’ directory ... OK
* checking DESCRIPTION meta-information ... OK
* checking top-level files ... OK
* checking for left-over files ... OK
* checking index information ... OK
* checking package subdirectories ... OK
* checking code files for non-ASCII characters ... OK
* checking R files for syntax errors ... OK
* checking whether the package can be loaded ... OK
* checking whether the package can be loaded with stated dependencies ... OK
* checking whether the package can be unloaded cleanly ... OK
* checking whether the namespace can be loaded with stated dependencies ... OK
* checking whether the namespace can be unloaded cleanly ... OK
* checking dependencies in R code ... OK
* checking S3 generic/method consistency ... OK
* checking replacement functions ... OK
* checking foreign function calls ... OK
* checking R code for possible problems ... NOTE
get_child: no visible binding for global variable ‘no_cores’
get_paren: no visible binding for global variable ‘no_cores’
ms_psig: no visible binding for global variable ‘meta’
Undefined global functions or variables:
  meta no_cores
* checking Rd files ... NOTE
checkRd: (-1) fg_get_graph.Rd:13: Lost braces
    13 | A list containing two data frames (\code{v} and ]code{e})
       |                                                      ^
checkRd: (-1) ggdf.Rd:22: Lost braces
    22 | code{ggdf} adds to the data frames \code{v} and \code{e} in slot
       |     ^
* checking Rd metadata ... OK
* checking Rd cross-references ... OK
* checking for missing documentation entries ... OK
* checking for code/documentation mismatches ... OK
* checking Rd \usage sections ... OK
* checking Rd contents ... OK
* checking for unstated dependencies in examples ... OK
* checking contents of ‘data’ directory ... OK
* checking data for non-ASCII characters ... OK
* checking data for ASCII and uncompressed saves ... OK
* checking files in ‘vignettes’ ... OK
* checking examples ... OK
Examples with CPU (user + system) or elapsed time > 5s
                user system elapsed
fg_save_plots 20.625  0.088  21.062
fg_load       20.474  0.102  20.931
fg_save       20.447  0.070  20.903
* checking for unstated dependencies in ‘tests’ ... OK
* checking tests ...
  Running ‘testthat.R’
 OK
* checking for unstated dependencies in vignettes ... OK
* checking package vignettes ... OK
* checking running R code from vignettes ... SKIPPED
* checking re-building of vignette outputs ... SKIPPED
* checking PDF version of manual ... OK
* DONE

Status: 2 NOTEs
See
  ‘/Users/biocbuild/bbs-3.22-bioc/meat/flowGraph.Rcheck/00check.log’
for details.


Installation output

flowGraph.Rcheck/00install.out

##############################################################################
##############################################################################
###
### Running command:
###
###   /Library/Frameworks/R.framework/Resources/bin/R CMD INSTALL flowGraph
###
##############################################################################
##############################################################################


* installing to library ‘/Library/Frameworks/R.framework/Versions/4.5-arm64/Resources/library’
* installing *source* package ‘flowGraph’ ...
** this is package ‘flowGraph’ version ‘1.17.0’
** using staged installation
** R
** data
** inst
** byte-compile and prepare package for lazy loading
** help
Loading required namespace: flowGraph
*** installing help indices
** building package indices
** installing vignettes
** testing if installed package can be loaded from temporary location
** testing if installed package can be loaded from final location
** testing if installed package keeps a record of temporary installation path
* DONE (flowGraph)

Tests output

flowGraph.Rcheck/tests/testthat.Rout


R version 4.5.1 Patched (2025-09-10 r88807) -- "Great Square Root"
Copyright (C) 2025 The R Foundation for Statistical Computing
Platform: aarch64-apple-darwin20

R is free software and comes with ABSOLUTELY NO WARRANTY.
You are welcome to redistribute it under certain conditions.
Type 'license()' or 'licence()' for distribution details.

R is a collaborative project with many contributors.
Type 'contributors()' for more information and
'citation()' on how to cite R or R packages in publications.

Type 'demo()' for some demos, 'help()' for on-line help, or
'help.start()' for an HTML browser interface to help.
Type 'q()' to quit R.

> library(testthat)
> library(flowGraph)
> 
> test_check("flowGraph")
[ FAIL 0 | WARN 1 | SKIP 0 | PASS 34 ]

[ FAIL 0 | WARN 1 | SKIP 0 | PASS 34 ]
> 
> proc.time()
   user  system elapsed 
  1.892   0.093   1.985 

Example timings

flowGraph.Rcheck/flowGraph-Ex.timings

nameusersystemelapsed
cell_type_layers0.0010.0000.002
fg_add_feature0.1130.0030.115
fg_add_summary0.2830.0030.299
fg_clean_phen0.0000.0000.001
fg_clear_features0.2490.0020.253
fg_clear_summary0.1040.0020.114
fg_extract_phenotypes0.0820.0010.087
fg_extract_raw0.2430.0020.245
fg_extract_samples0.0850.0010.092
fg_feat_cumsum0.0810.0010.084
fg_feat_edge_specenr0.1360.0020.138
fg_feat_mean_class0.0790.0010.081
fg_feat_node_prop0.0790.0010.079
fg_feat_node_specenr0.1350.0010.136
fg_feat_prop_edge0.0860.0010.091
fg_get_feature0.0820.0010.083
fg_get_feature_desc0.2560.0020.258
fg_get_feature_means0.3840.0020.393
fg_get_graph0.0820.0020.083
fg_get_markers0.0810.0010.089
fg_get_meta0.0780.0010.079
fg_get_summary0.5480.0080.567
fg_get_summary_desc0.2270.0010.229
fg_get_summary_index0.4590.0020.462
fg_get_summary_tables0.3340.0020.336
fg_gsub_ids0.0710.0010.072
fg_gsub_markers0.0920.0010.093
fg_load20.474 0.10220.931
fg_merge0.0880.0010.090
fg_merge_samples0.0970.0010.098
fg_plot0.1650.0020.166
fg_plot_box0.2290.0020.233
fg_plot_pVSdiff0.1190.0010.120
fg_plot_qq0.5320.0250.576
fg_replace_meta0.0880.0020.089
fg_rm_feature0.2770.0020.283
fg_rm_summary0.2800.0120.312
fg_save20.447 0.07020.903
fg_save_plots20.625 0.08821.062
fg_set_layout0.0860.0020.093
fg_summary0.1200.0020.124
flowGraph-class0.0010.0010.001
flowGraph0.3970.0020.414
flowGraphSubset000
flowGraphSubset_summary_adjust0.0000.0010.000
flowGraphSubset_summary_pars000
get_phen_list0.0060.0000.006
get_phen_meta0.0000.0000.001
ggdf0.0820.0010.084
loop_ind_f000
meandiff0.0010.0010.000
plot_gr0.4980.0070.507
set_layout_graph0.0930.0120.118
summary_table0.0010.0000.002
time_output0.0000.0000.001
tstr000