| Back to Multiple platform build/check report for BioC 3.22: simplified long |
|
This page was generated on 2025-08-15 12:06 -0400 (Fri, 15 Aug 2025).
| Hostname | OS | Arch (*) | R version | Installed pkgs |
|---|---|---|---|---|
| nebbiolo2 | Linux (Ubuntu 24.04.3 LTS) | x86_64 | 4.5.1 (2025-06-13) -- "Great Square Root" | 4818 |
| palomino8 | Windows Server 2022 Datacenter | x64 | 4.5.1 (2025-06-13 ucrt) -- "Great Square Root" | 4554 |
| lconway | macOS 12.7.1 Monterey | x86_64 | 4.5.1 (2025-06-13) -- "Great Square Root" | 4595 |
| kjohnson3 | macOS 13.7.7 Ventura | arm64 | 4.5.1 Patched (2025-06-14 r88325) -- "Great Square Root" | 4537 |
| taishan | Linux (openEuler 24.03 LTS) | aarch64 | 4.5.0 (2025-04-11) -- "How About a Twenty-Six" | 4535 |
| Click on any hostname to see more info about the system (e.g. compilers) (*) as reported by 'uname -p', except on Windows and Mac OS X | ||||
| Package 563/2317 | Hostname | OS / Arch | INSTALL | BUILD | CHECK | BUILD BIN | ||||||||
| destiny 3.23.0 (landing page) Philipp Angerer
| nebbiolo2 | Linux (Ubuntu 24.04.3 LTS) / x86_64 | OK | OK | OK | |||||||||
| palomino8 | Windows Server 2022 Datacenter / x64 | OK | OK | OK | OK | |||||||||
| lconway | macOS 12.7.1 Monterey / x86_64 | OK | OK | OK | OK | |||||||||
| kjohnson3 | macOS 13.7.7 Ventura / arm64 | OK | OK | OK | OK | |||||||||
| taishan | Linux (openEuler 24.03 LTS) / aarch64 | OK | OK | WARNINGS | ||||||||||
|
To the developers/maintainers of the destiny package: - Allow up to 24 hours (and sometimes 48 hours) for your latest push to git@git.bioconductor.org:packages/destiny.git to reflect on this report. See Troubleshooting Build Report for more information. - Use the following Renviron settings to reproduce errors and warnings. - If 'R CMD check' started to fail recently on the Linux builder(s) over a missing dependency, add the missing dependency to 'Suggests:' in your DESCRIPTION file. See Renviron.bioc for more information. |
| Package: destiny |
| Version: 3.23.0 |
| Command: F:\biocbuild\bbs-3.22-bioc\R\bin\R.exe CMD check --no-multiarch --install=check:destiny.install-out.txt --library=F:\biocbuild\bbs-3.22-bioc\R\library --no-vignettes --timings destiny_3.23.0.tar.gz |
| StartedAt: 2025-08-15 02:31:40 -0400 (Fri, 15 Aug 2025) |
| EndedAt: 2025-08-15 02:39:25 -0400 (Fri, 15 Aug 2025) |
| EllapsedTime: 464.9 seconds |
| RetCode: 0 |
| Status: OK |
| CheckDir: destiny.Rcheck |
| Warnings: 0 |
##############################################################################
##############################################################################
###
### Running command:
###
### F:\biocbuild\bbs-3.22-bioc\R\bin\R.exe CMD check --no-multiarch --install=check:destiny.install-out.txt --library=F:\biocbuild\bbs-3.22-bioc\R\library --no-vignettes --timings destiny_3.23.0.tar.gz
###
##############################################################################
##############################################################################
* using log directory 'F:/biocbuild/bbs-3.22-bioc/meat/destiny.Rcheck'
* using R version 4.5.1 (2025-06-13 ucrt)
* using platform: x86_64-w64-mingw32
* R was compiled by
gcc.exe (GCC) 14.2.0
GNU Fortran (GCC) 14.2.0
* running under: Windows Server 2022 x64 (build 20348)
* using session charset: UTF-8
* using option '--no-vignettes'
* checking for file 'destiny/DESCRIPTION' ... OK
* checking extension type ... Package
* this is package 'destiny' version '3.23.0'
* package encoding: UTF-8
* checking package namespace information ... OK
* checking package dependencies ... INFO
Imports includes 23 non-default packages.
Importing from so many packages makes the package vulnerable to any of
them becoming unavailable. Move as many as possible to Suggests and
use conditionally.
* checking if this is a source package ... OK
* checking if there is a namespace ... OK
* checking for hidden files and directories ... NOTE
Found the following hidden files and directories:
.lintr
.vscode
These were most likely included in error. See section 'Package
structure' in the 'Writing R Extensions' manual.
* checking for portable file names ... OK
* checking whether package 'destiny' can be installed ... OK
* used C++ compiler: 'G__~1.EXE (GCC) 14.2.0'
* checking C++ specification ... NOTE
Specified C++11: please drop specification unless essential
* checking installed package size ... OK
* checking package directory ... OK
* checking DESCRIPTION meta-information ... NOTE
Packages listed in more than one of Depends, Imports, Suggests, Enhances:
'rgl' 'SingleCellExperiment'
A package should be listed in only one of these fields.
'LinkingTo' for 'grDevices' is unused as it has no 'include' directory
* checking top-level files ... OK
* checking for left-over files ... OK
* checking index information ... OK
* checking package subdirectories ... OK
* checking code files for non-ASCII characters ... OK
* checking R files for syntax errors ... OK
* checking whether the package can be loaded ... OK
* checking whether the package can be loaded with stated dependencies ... OK
* checking whether the package can be unloaded cleanly ... OK
* checking whether the namespace can be loaded with stated dependencies ... OK
* checking whether the namespace can be unloaded cleanly ... OK
* checking whether startup messages can be suppressed ... OK
* checking dependencies in R code ... OK
* checking S3 generic/method consistency ... OK
* checking replacement functions ... OK
* checking foreign function calls ... OK
* checking R code for possible problems ... OK
* checking Rd files ... NOTE
checkRd: (-1) Gene-Relevance.Rd:94: Escaped LaTeX specials: \_
* checking Rd metadata ... OK
* checking Rd cross-references ... NOTE
Non-topic package-anchored link(s) in Rd file 'DiffusionMap-class.Rd':
'[Biobase:class.ExpressionSet]{ExpressionSet}'
Non-topic package-anchored link(s) in Rd file 'ExpressionSet-helpers.Rd':
'[Biobase:class.ExpressionSet]{ExpressionSet}'
Non-topic package-anchored link(s) in Rd file 'dm_predict.Rd':
'[Biobase:class.ExpressionSet]{ExpressionSet}'
Non-topic package-anchored link(s) in Rd file 'find_sigmas.Rd':
'[Biobase:class.ExpressionSet]{ExpressionSet}'
Non-topic package-anchored link(s) in Rd file 'guo.Rd':
'[Biobase:class.ExpressionSet]{ExpressionSet}'
Non-topic package-anchored link(s) in Rd file 'projection_dist.Rd':
'[Biobase:class.ExpressionSet]{ExpressionSet}'
See section 'Cross-references' in the 'Writing R Extensions' manual.
* checking for missing documentation entries ... OK
* checking for code/documentation mismatches ... OK
* checking Rd \usage sections ... NOTE
S3 methods shown with full name in Rd file 'coercions.Rd':
'fortify.DiffusionMap' 'fortify.DPT'
S3 methods shown with full name in Rd file 'plot.DPT.Rd':
'plot.DPT'
S3 methods shown with full name in Rd file 'plot.DiffusionMap.Rd':
'plot.DiffusionMap'
The \usage entries for S3 methods should use the \method markup and not
their full name.
See chapter 'Writing R documentation files' in the 'Writing R
Extensions' manual.
* checking Rd contents ... OK
* checking for unstated dependencies in examples ... OK
* checking contents of 'data' directory ... OK
* checking data for non-ASCII characters ... OK
* checking data for ASCII and uncompressed saves ... OK
* checking line endings in C/C++/Fortran sources/headers ... OK
* checking line endings in Makefiles ... OK
* checking compilation flags in Makevars ... OK
* checking for GNU extensions in Makefiles ... OK
* checking for portable use of $(BLAS_LIBS) and $(LAPACK_LIBS) ... OK
* checking use of PKG_*FLAGS in Makefiles ... OK
* checking compiled code ... NOTE
Note: information on .o files for x64 is not available
File 'F:/biocbuild/bbs-3.22-bioc/R/library/destiny/libs/x64/destiny.dll':
Found '_exit', possibly from '_exit' (C)
Found 'abort', possibly from 'abort' (C), 'runtime' (Fortran)
Found 'exit', possibly from 'exit' (C), 'stop' (Fortran)
Compiled code should not call entry points which might terminate R nor
write to stdout/stderr instead of to the console, nor use Fortran I/O
nor system RNGs nor [v]sprintf. The detected symbols are linked into
the code but might come from libraries and not actually be called.
See 'Writing portable packages' in the 'Writing R Extensions' manual.
* checking files in 'vignettes' ... OK
* checking examples ... OK
Examples with CPU (user + system) or elapsed time > 5s
user system elapsed
destiny 10.24 0.09 10.33
Gene-Relevance-plotting 6.05 0.58 6.62
* checking for unstated dependencies in 'tests' ... OK
* checking tests ...
Running 'testthat.R'
OK
* checking for unstated dependencies in vignettes ... OK
* checking package vignettes ... OK
* checking running R code from vignettes ... SKIPPED
* checking re-building of vignette outputs ... SKIPPED
* checking PDF version of manual ... OK
* DONE
Status: 7 NOTEs
See
'F:/biocbuild/bbs-3.22-bioc/meat/destiny.Rcheck/00check.log'
for details.
destiny.Rcheck/00install.out
##############################################################################
##############################################################################
###
### Running command:
###
### F:\biocbuild\bbs-3.22-bioc\R\bin\R.exe CMD INSTALL destiny
###
##############################################################################
##############################################################################
* installing to library 'F:/biocbuild/bbs-3.22-bioc/R/library'
* installing *source* package 'destiny' ...
** this is package 'destiny' version '3.23.0'
** using staged installation
** libs
using C++ compiler: 'G__~1.EXE (GCC) 14.2.0'
using C++11
g++ -std=gnu++11 -I"F:/biocbuild/bbs-3.22-bioc/R/include" -DNDEBUG -I'F:/biocbuild/bbs-3.22-bioc/R/library/Rcpp/include' -I'F:/biocbuild/bbs-3.22-bioc/R/library/RcppEigen/include' -I'F:/biocbuild/bbs-3.22-bioc/R/library/grDevices/include' -I"C:/rtools45/x86_64-w64-mingw32.static.posix/include" -ggdb -O2 -Wall -mfpmath=sse -msse2 -mstackrealign -c RcppExports.cpp -o RcppExports.o
In file included from F:/biocbuild/bbs-3.22-bioc/R/library/RcppEigen/include/Eigen/Core:205,
from F:/biocbuild/bbs-3.22-bioc/R/library/RcppEigen/include/Eigen/Dense:1,
from F:/biocbuild/bbs-3.22-bioc/R/library/RcppEigen/include/RcppEigenForward.h:28,
from F:/biocbuild/bbs-3.22-bioc/R/library/RcppEigen/include/RcppEigen.h:25,
from RcppExports.cpp:4:
F:/biocbuild/bbs-3.22-bioc/R/library/RcppEigen/include/Eigen/src/Core/arch/SSE/PacketMath.h:46:40: warning: ignoring attributes on template argument '__m128i' [-Wignored-attributes]
46 | typedef eigen_packet_wrapper<__m128i, 0> Packet4i;
| ^
F:/biocbuild/bbs-3.22-bioc/R/library/RcppEigen/include/Eigen/src/Core/arch/SSE/PacketMath.h:47:40: warning: ignoring attributes on template argument '__m128i' [-Wignored-attributes]
47 | typedef eigen_packet_wrapper<__m128i, 1> Packet16b;
| ^
F:/biocbuild/bbs-3.22-bioc/R/library/RcppEigen/include/Eigen/src/Core/arch/SSE/PacketMath.h:49:39: warning: ignoring attributes on template argument '__m128' [-Wignored-attributes]
49 | template<> struct is_arithmetic<__m128> { enum { value = true }; };
| ^
F:/biocbuild/bbs-3.22-bioc/R/library/RcppEigen/include/Eigen/src/Core/arch/SSE/PacketMath.h:50:40: warning: ignoring attributes on template argument '__m128i' [-Wignored-attributes]
50 | template<> struct is_arithmetic<__m128i> { enum { value = true }; };
| ^
F:/biocbuild/bbs-3.22-bioc/R/library/RcppEigen/include/Eigen/src/Core/arch/SSE/PacketMath.h:51:40: warning: ignoring attributes on template argument '__m128d' [-Wignored-attributes]
51 | template<> struct is_arithmetic<__m128d> { enum { value = true }; };
| ^
F:/biocbuild/bbs-3.22-bioc/R/library/RcppEigen/include/Eigen/src/Core/arch/SSE/PacketMath.h:222:43: warning: ignoring attributes on template argument 'Eigen::internal::Packet4f' {aka '__m128'} [-Wignored-attributes]
222 | template<> struct unpacket_traits<Packet4f> {
| ^
F:/biocbuild/bbs-3.22-bioc/R/library/RcppEigen/include/Eigen/src/Core/arch/SSE/PacketMath.h:228:43: warning: ignoring attributes on template argument 'Eigen::internal::Packet2d' {aka '__m128d'} [-Wignored-attributes]
228 | template<> struct unpacket_traits<Packet2d> {
| ^
F:/biocbuild/bbs-3.22-bioc/R/library/RcppEigen/include/Eigen/src/Core/arch/SSE/PacketMath.h:1124:34: warning: ignoring attributes on template argument 'Eigen::internal::Packet4f' {aka '__m128'} [-Wignored-attributes]
1124 | ptranspose(PacketBlock<Packet4f,4>& kernel) {
| ^
F:/biocbuild/bbs-3.22-bioc/R/library/RcppEigen/include/Eigen/src/Core/arch/SSE/PacketMath.h:1129:34: warning: ignoring attributes on template argument 'Eigen::internal::Packet2d' {aka '__m128d'} [-Wignored-attributes]
1129 | ptranspose(PacketBlock<Packet2d,2>& kernel) {
| ^
In file included from F:/biocbuild/bbs-3.22-bioc/R/library/RcppEigen/include/Eigen/Core:174:
F:/biocbuild/bbs-3.22-bioc/R/library/RcppEigen/include/Eigen/src/Core/arch/Default/ConjHelper.h:16:60: warning: ignoring attributes on template argument 'Eigen::internal::Packet4f' {aka '__m128'} [-Wignored-attributes]
16 | struct conj_helper<PACKET_REAL, PACKET_CPLX, false, false> { \
| ^
F:/biocbuild/bbs-3.22-bioc/R/library/RcppEigen/include/Eigen/src/Core/arch/SSE/Complex.h:173:1: note: in expansion of macro 'EIGEN_MAKE_CONJ_HELPER_CPLX_REAL'
173 | EIGEN_MAKE_CONJ_HELPER_CPLX_REAL(Packet2cf,Packet4f)
| ^~~~~~~~~~~~~~~~~~~~~~~~~~~~~~~~
F:/biocbuild/bbs-3.22-bioc/R/library/RcppEigen/include/Eigen/src/Core/arch/Default/ConjHelper.h:29:60: warning: ignoring attributes on template argument 'Eigen::internal::Packet4f' {aka '__m128'} [-Wignored-attributes]
29 | struct conj_helper<PACKET_CPLX, PACKET_REAL, false, false> { \
| ^
F:/biocbuild/bbs-3.22-bioc/R/library/RcppEigen/include/Eigen/src/Core/arch/SSE/Complex.h:173:1: note: in expansion of macro 'EIGEN_MAKE_CONJ_HELPER_CPLX_REAL'
173 | EIGEN_MAKE_CONJ_HELPER_CPLX_REAL(Packet2cf,Packet4f)
| ^~~~~~~~~~~~~~~~~~~~~~~~~~~~~~~~
F:/biocbuild/bbs-3.22-bioc/R/library/RcppEigen/include/Eigen/src/Core/arch/Default/ConjHelper.h:16:60: warning: ignoring attributes on template argument 'Eigen::internal::Packet2d' {aka '__m128d'} [-Wignored-attributes]
16 | struct conj_helper<PACKET_REAL, PACKET_CPLX, false, false> { \
| ^
F:/biocbuild/bbs-3.22-bioc/R/library/RcppEigen/include/Eigen/src/Core/arch/SSE/Complex.h:298:1: note: in expansion of macro 'EIGEN_MAKE_CONJ_HELPER_CPLX_REAL'
298 | EIGEN_MAKE_CONJ_HELPER_CPLX_REAL(Packet1cd,Packet2d)
| ^~~~~~~~~~~~~~~~~~~~~~~~~~~~~~~~
F:/biocbuild/bbs-3.22-bioc/R/library/RcppEigen/include/Eigen/src/Core/arch/Default/ConjHelper.h:29:60: warning: ignoring attributes on template argument 'Eigen::internal::Packet2d' {aka '__m128d'} [-Wignored-attributes]
29 | struct conj_helper<PACKET_CPLX, PACKET_REAL, false, false> { \
| ^
F:/biocbuild/bbs-3.22-bioc/R/library/RcppEigen/include/Eigen/src/Core/arch/SSE/Complex.h:298:1: note: in expansion of macro 'EIGEN_MAKE_CONJ_HELPER_CPLX_REAL'
298 | EIGEN_MAKE_CONJ_HELPER_CPLX_REAL(Packet1cd,Packet2d)
| ^~~~~~~~~~~~~~~~~~~~~~~~~~~~~~~~
In file included from F:/biocbuild/bbs-3.22-bioc/R/library/RcppEigen/include/Eigen/Core:165:
F:/biocbuild/bbs-3.22-bioc/R/library/RcppEigen/include/Eigen/src/Core/util/XprHelper.h: In instantiation of 'struct Eigen::internal::find_best_packet<float, 4>':
F:/biocbuild/bbs-3.22-bioc/R/library/RcppEigen/include/Eigen/src/Core/Matrix.h:22:57: required from 'struct Eigen::internal::traits<Eigen::Matrix<float, 4, 1> >'
22 | typedef typename find_best_packet<_Scalar,size>::type PacketScalar;
| ^~~~~~~~~~~~
F:/biocbuild/bbs-3.22-bioc/R/library/RcppEigen/include/Eigen/src/Geometry/Quaternion.h:266:49: required from 'struct Eigen::internal::traits<Eigen::Quaternion<float> >'
266 | Alignment = internal::traits<Coefficients>::Alignment,
| ^~~~~~~~~
F:/biocbuild/bbs-3.22-bioc/R/library/RcppEigen/include/Eigen/src/Geometry/arch/Geometry_SIMD.h:24:46: required from here
24 | ResAlignment = traits<Quaternion<float> >::Alignment
| ^~
F:/biocbuild/bbs-3.22-bioc/R/library/RcppEigen/include/Eigen/src/Core/util/XprHelper.h:190:44: warning: ignoring attributes on template argument 'Eigen::internal::packet_traits<float>::type' {aka '__m128'} [-Wignored-attributes]
190 | bool Stop = Size==Dynamic || (Size%unpacket_traits<PacketType>::size)==0 || is_same<PacketType,typename unpacket_traits<PacketType>::half>::value>
| ~~~~~^~~~~~~~~~~~~~~~~~~~~~~~~~~~~~~~~~~
F:/biocbuild/bbs-3.22-bioc/R/library/RcppEigen/include/Eigen/src/Core/util/XprHelper.h:190:83: warning: ignoring attributes on template argument 'Eigen::internal::packet_traits<float>::type' {aka '__m128'} [-Wignored-attributes]
190 | bool Stop = Size==Dynamic || (Size%unpacket_traits<PacketType>::size)==0 || is_same<PacketType,typename unpacket_traits<PacketType>::half>::value>
| ~~~~~~~~~~~~~~~~~~~~~~~~~~~~~~~~~~~~~~~~~~~~~~~~~~~~~~~~~~~~~^~~~~~~~~~~~~~~~~~~~~~~~~~~~~~~~~~~~~~~~~~~~~~~~~~~~~~~~~~~~~~~~~~~~~~~~
F:/biocbuild/bbs-3.22-bioc/R/library/RcppEigen/include/Eigen/src/Core/util/XprHelper.h:190:83: warning: ignoring attributes on template argument 'Eigen::internal::packet_traits<float>::type' {aka '__m128'} [-Wignored-attributes]
F:/biocbuild/bbs-3.22-bioc/R/library/RcppEigen/include/Eigen/src/Core/util/XprHelper.h:190:83: warning: ignoring attributes on template argument 'Eigen::internal::unpacket_traits<__vector(4) float>::half' {aka '__m128'} [-Wignored-attributes]
F:/biocbuild/bbs-3.22-bioc/R/library/RcppEigen/include/Eigen/src/Core/util/XprHelper.h:208:88: warning: ignoring attributes on template argument 'Eigen::internal::packet_traits<float>::type' {aka '__m128'} [-Wignored-attributes]
208 | typedef typename find_best_packet_helper<Size,typename packet_traits<T>::type>::type type;
| ^~~~
In file included from F:/biocbuild/bbs-3.22-bioc/R/library/RcppEigen/include/Eigen/Core:271:
F:/biocbuild/bbs-3.22-bioc/R/library/RcppEigen/include/Eigen/src/Core/DenseCoeffsBase.h: In instantiation of 'class Eigen::DenseCoeffsBase<Eigen::Matrix<float, 4, 1>, 0>':
F:/biocbuild/bbs-3.22-bioc/R/library/RcppEigen/include/Eigen/src/Core/DenseCoeffsBase.h:302:7: required from 'class Eigen::DenseCoeffsBase<Eigen::Matrix<float, 4, 1>, 1>'
302 | class DenseCoeffsBase<Derived, WriteAccessors> : public DenseCoeffsBase<Derived, ReadOnlyAccessors>
| ^~~~~~~~~~~~~~~~~~~~~~~~~~~~~~~~~~~~~~~~
F:/biocbuild/bbs-3.22-bioc/R/library/RcppEigen/include/Eigen/src/Core/DenseCoeffsBase.h:555:7: required from 'class Eigen::DenseCoeffsBase<Eigen::Matrix<float, 4, 1>, 3>'
555 | class DenseCoeffsBase<Derived, DirectWriteAccessors>
| ^~~~~~~~~~~~~~~~~~~~~~~~~~~~~~~~~~~~~~~~~~~~~~
F:/biocbuild/bbs-3.22-bioc/R/library/RcppEigen/include/Eigen/src/Core/DenseBase.h:41:34: required from 'class Eigen::DenseBase<Eigen::Matrix<float, 4, 1> >'
41 | template<typename Derived> class DenseBase
| ^~~~~~~~~
F:/biocbuild/bbs-3.22-bioc/R/library/RcppEigen/include/Eigen/src/Core/MatrixBase.h:48:34: required from 'class Eigen::MatrixBase<Eigen::Matrix<float, 4, 1> >'
48 | template<typename Derived> class MatrixBase
| ^~~~~~~~~~
F:/biocbuild/bbs-3.22-bioc/R/library/RcppEigen/include/Eigen/src/Core/PlainObjectBase.h:98:7: required from 'class Eigen::PlainObjectBase<Eigen::Matrix<float, 4, 1> >'
98 | class PlainObjectBase : public internal::dense_xpr_base<Derived>::type
| ^~~~~~~~~~~~~~~
F:/biocbuild/bbs-3.22-bioc/R/library/RcppEigen/include/Eigen/src/Core/Matrix.h:178:7: required from 'class Eigen::Matrix<float, 4, 1>'
178 | class Matrix
| ^~~~~~
F:/biocbuild/bbs-3.22-bioc/R/library/RcppEigen/include/Eigen/src/Geometry/Quaternion.h:46:50: required from 'class Eigen::QuaternionBase<Eigen::Quaternion<float> >'
46 | typedef typename Coefficients::CoeffReturnType CoeffReturnType;
| ^~~~~~~~~~~~~~~
F:/biocbuild/bbs-3.22-bioc/R/library/RcppEigen/include/Eigen/src/Geometry/Quaternion.h:273:7: required from 'class Eigen::Quaternion<float>'
273 | class Quaternion : public QuaternionBase<Quaternion<_Scalar,_Options> >
| ^~~~~~~~~~
F:/biocbuild/bbs-3.22-bioc/R/library/RcppEigen/include/Eigen/src/Geometry/arch/Geometry_SIMD.h:27:3: required from here
27 | {
| ^
F:/biocbuild/bbs-3.22-bioc/R/library/RcppEigen/include/Eigen/src/Core/DenseCoeffsBase.h:56:30: warning: ignoring attributes on template argument 'Eigen::internal::packet_traits<float>::type' {aka '__m128'} [-Wignored-attributes]
56 | >::type PacketReturnType;
| ^~~~~~~~~~~~~~~~
F:/biocbuild/bbs-3.22-bioc/R/library/RcppEigen/include/Eigen/src/Core/util/XprHelper.h: In instantiation of 'struct Eigen::internal::find_best_packet<double, 4>':
F:/biocbuild/bbs-3.22-bioc/R/library/RcppEigen/include/Eigen/src/Core/Matrix.h:22:57: required from 'struct Eigen::internal::traits<Eigen::Matrix<double, 4, 1> >'
22 | typedef typename find_best_packet<_Scalar,size>::type PacketScalar;
| ^~~~~~~~~~~~
F:/biocbuild/bbs-3.22-bioc/R/library/RcppEigen/include/Eigen/src/Geometry/Quaternion.h:266:49: required from 'struct Eigen::internal::traits<Eigen::Quaternion<double> >'
266 | Alignment = internal::traits<Coefficients>::Alignment,
| ^~~~~~~~~
F:/biocbuild/bbs-3.22-bioc/R/library/RcppEigen/include/Eigen/src/Geometry/arch/Geometry_SIMD.h:98:47: required from here
98 | ResAlignment = traits<Quaternion<double> >::Alignment
| ^~
F:/biocbuild/bbs-3.22-bioc/R/library/RcppEigen/include/Eigen/src/Core/util/XprHelper.h:190:44: warning: ignoring attributes on template argument 'Eigen::internal::packet_traits<double>::type' {aka '__m128d'} [-Wignored-attributes]
190 | bool Stop = Size==Dynamic || (Size%unpacket_traits<PacketType>::size)==0 || is_same<PacketType,typename unpacket_traits<PacketType>::half>::value>
| ~~~~~^~~~~~~~~~~~~~~~~~~~~~~~~~~~~~~~~~~
F:/biocbuild/bbs-3.22-bioc/R/library/RcppEigen/include/Eigen/src/Core/util/XprHelper.h:190:83: warning: ignoring attributes on template argument 'Eigen::internal::packet_traits<double>::type' {aka '__m128d'} [-Wignored-attributes]
190 | bool Stop = Size==Dynamic || (Size%unpacket_traits<PacketType>::size)==0 || is_same<PacketType,typename unpacket_traits<PacketType>::half>::value>
| ~~~~~~~~~~~~~~~~~~~~~~~~~~~~~~~~~~~~~~~~~~~~~~~~~~~~~~~~~~~~~^~~~~~~~~~~~~~~~~~~~~~~~~~~~~~~~~~~~~~~~~~~~~~~~~~~~~~~~~~~~~~~~~~~~~~~~
F:/biocbuild/bbs-3.22-bioc/R/library/RcppEigen/include/Eigen/src/Core/util/XprHelper.h:190:83: warning: ignoring attributes on template argument 'Eigen::internal::packet_traits<double>::type' {aka '__m128d'} [-Wignored-attributes]
F:/biocbuild/bbs-3.22-bioc/R/library/RcppEigen/include/Eigen/src/Core/util/XprHelper.h:190:83: warning: ignoring attributes on template argument 'Eigen::internal::unpacket_traits<__vector(2) double>::half' {aka '__m128d'} [-Wignored-attributes]
F:/biocbuild/bbs-3.22-bioc/R/library/RcppEigen/include/Eigen/src/Core/util/XprHelper.h:208:88: warning: ignoring attributes on template argument 'Eigen::internal::packet_traits<double>::type' {aka '__m128d'} [-Wignored-attributes]
208 | typedef typename find_best_packet_helper<Size,typename packet_traits<T>::type>::type type;
| ^~~~
F:/biocbuild/bbs-3.22-bioc/R/library/RcppEigen/include/Eigen/src/Core/DenseCoeffsBase.h: In instantiation of 'class Eigen::DenseCoeffsBase<Eigen::Matrix<double, 4, 1>, 0>':
F:/biocbuild/bbs-3.22-bioc/R/library/RcppEigen/include/Eigen/src/Core/DenseCoeffsBase.h:302:7: required from 'class Eigen::DenseCoeffsBase<Eigen::Matrix<double, 4, 1>, 1>'
302 | class DenseCoeffsBase<Derived, WriteAccessors> : public DenseCoeffsBase<Derived, ReadOnlyAccessors>
| ^~~~~~~~~~~~~~~~~~~~~~~~~~~~~~~~~~~~~~~~
F:/biocbuild/bbs-3.22-bioc/R/library/RcppEigen/include/Eigen/src/Core/DenseCoeffsBase.h:555:7: required from 'class Eigen::DenseCoeffsBase<Eigen::Matrix<double, 4, 1>, 3>'
555 | class DenseCoeffsBase<Derived, DirectWriteAccessors>
| ^~~~~~~~~~~~~~~~~~~~~~~~~~~~~~~~~~~~~~~~~~~~~~
F:/biocbuild/bbs-3.22-bioc/R/library/RcppEigen/include/Eigen/src/Core/DenseBase.h:41:34: required from 'class Eigen::DenseBase<Eigen::Matrix<double, 4, 1> >'
41 | template<typename Derived> class DenseBase
| ^~~~~~~~~
F:/biocbuild/bbs-3.22-bioc/R/library/RcppEigen/include/Eigen/src/Core/MatrixBase.h:48:34: required from 'class Eigen::MatrixBase<Eigen::Matrix<double, 4, 1> >'
48 | template<typename Derived> class MatrixBase
| ^~~~~~~~~~
F:/biocbuild/bbs-3.22-bioc/R/library/RcppEigen/include/Eigen/src/Core/PlainObjectBase.h:98:7: required from 'class Eigen::PlainObjectBase<Eigen::Matrix<double, 4, 1> >'
98 | class PlainObjectBase : public internal::dense_xpr_base<Derived>::type
| ^~~~~~~~~~~~~~~
F:/biocbuild/bbs-3.22-bioc/R/library/RcppEigen/include/Eigen/src/Core/Matrix.h:178:7: required from 'class Eigen::Matrix<double, 4, 1>'
178 | class Matrix
| ^~~~~~
F:/biocbuild/bbs-3.22-bioc/R/library/RcppEigen/include/Eigen/src/Geometry/Quaternion.h:46:50: required from 'class Eigen::QuaternionBase<Eigen::Quaternion<double> >'
46 | typedef typename Coefficients::CoeffReturnType CoeffReturnType;
| ^~~~~~~~~~~~~~~
F:/biocbuild/bbs-3.22-bioc/R/library/RcppEigen/include/Eigen/src/Geometry/Quaternion.h:273:7: required from 'class Eigen::Quaternion<double>'
273 | class Quaternion : public QuaternionBase<Quaternion<_Scalar,_Options> >
| ^~~~~~~~~~
F:/biocbuild/bbs-3.22-bioc/R/library/RcppEigen/include/Eigen/src/Geometry/arch/Geometry_SIMD.h:102:3: required from here
102 | {
| ^
F:/biocbuild/bbs-3.22-bioc/R/library/RcppEigen/include/Eigen/src/Core/DenseCoeffsBase.h:56:30: warning: ignoring attributes on template argument 'Eigen::internal::packet_traits<double>::type' {aka '__m128d'} [-Wignored-attributes]
56 | >::type PacketReturnType;
| ^~~~~~~~~~~~~~~~
In file included from F:/biocbuild/bbs-3.22-bioc/R/library/RcppEigen/include/Eigen/SparseCore:37,
from F:/biocbuild/bbs-3.22-bioc/R/library/RcppEigen/include/Eigen/Sparse:26,
from F:/biocbuild/bbs-3.22-bioc/R/library/RcppEigen/include/RcppEigenForward.h:29:
F:/biocbuild/bbs-3.22-bioc/R/library/RcppEigen/include/Eigen/src/SparseCore/SparseMatrixBase.h: In instantiation of 'class Eigen::SparseMatrixBase<Eigen::SparseMatrix<double, 0, int> >':
F:/biocbuild/bbs-3.22-bioc/R/library/RcppEigen/include/Eigen/src/SparseCore/SparseCompressedBase.h:36:7: required from 'class Eigen::SparseCompressedBase<Eigen::SparseMatrix<double, 0, int> >'
36 | class SparseCompressedBase
| ^~~~~~~~~~~~~~~~~~~~
F:/biocbuild/bbs-3.22-bioc/R/library/RcppEigen/include/Eigen/src/SparseCore/SparseMatrix.h:96:7: required from 'class Eigen::SparseMatrix<double, 0, int>'
96 | class SparseMatrix
| ^~~~~~~~~~~~
F:/biocbuild/bbs-3.22-bioc/R/library/RcppEigen/include/unsupported/Eigen/src/IterativeSolvers/ConstrainedConjGrad.h:61:25: required from here
61 | typedef Triplet<double> T;
| ^
F:/biocbuild/bbs-3.22-bioc/R/library/RcppEigen/include/Eigen/src/SparseCore/SparseMatrixBase.h:47:30: warning: ignoring attributes on template argument 'Eigen::internal::packet_traits<double>::type' {aka '__m128d'} [-Wignored-attributes]
47 | >::type PacketReturnType;
| ^~~~~~~~~~~~~~~~
F:/biocbuild/bbs-3.22-bioc/R/library/RcppEigen/include/Eigen/src/Core/DenseCoeffsBase.h: In instantiation of 'class Eigen::DenseCoeffsBase<Eigen::SparseMatrix<double, 0, int>, 0>':
F:/biocbuild/bbs-3.22-bioc/R/library/RcppEigen/include/Eigen/src/SparseCore/SparseCompressedBase.h:336:80: required from 'struct Eigen::internal::evaluator<Eigen::SparseCompressedBase<Eigen::SparseMatrix<double, 0, int> > >'
336 | typedef typename DenseCoeffsBase<Derived,ReadOnlyAccessors>::CoeffReturnType CoeffReturnType;
| ^~~~~~~~~~~~~~~
F:/biocbuild/bbs-3.22-bioc/R/library/RcppEigen/include/Eigen/src/SparseCore/SparseMatrix.h:1505:8: required from 'struct Eigen::internal::evaluator<Eigen::SparseMatrix<double, 0, int> >'
1505 | struct evaluator<SparseMatrix<_Scalar,_Options,_StorageIndex> >
| ^~~~~~~~~~~~~~~~~~~~~~~~~~~~~~~~~~~~~~~~~~~~~~~~~~~~~~~~
F:/biocbuild/bbs-3.22-bioc/R/library/RcppEigen/include/Eigen/src/SparseCore/SparseAssign.h:77:20: required from 'void Eigen::internal::assign_sparse_to_sparse(DstXprType&, const SrcXprType&) [with DstXprType = Eigen::SparseMatrix<double, 0, int>; SrcXprType = Eigen::SparseMatrix<double, 0, int>]'
77 | SrcEvaluatorType srcEvaluator(src);
| ^~~~~~~~~~~~
F:/biocbuild/bbs-3.22-bioc/R/library/RcppEigen/include/Eigen/src/SparseCore/SparseAssign.h:132:28: required from 'static void Eigen::internal::Assignment<DstXprType, SrcXprType, Functor, Eigen::internal::Sparse2Sparse>::run(DstXprType&, const SrcXprType&, const Eigen::internal::assign_op<typename DstXprType::Scalar, typename SrcXprType::Scalar>&) [with DstXprType = Eigen::SparseMatrix<double, 0, int>; SrcXprType = Eigen::SparseMatrix<double, 0, int>; Functor = Eigen::internal::assign_op<double, double>; typename DstXprType::Scalar = double; typename SrcXprType::Scalar = double]'
132 | assign_sparse_to_sparse(dst.derived(), src.derived());
| ~~~~~~~~~~~~~~~~~~~~~~~^~~~~~~~~~~~~~~~~~~~~~~~~~~~~~
F:/biocbuild/bbs-3.22-bioc/R/library/RcppEigen/include/Eigen/src/Core/AssignEvaluator.h:890:49: required from 'void Eigen::internal::call_assignment_no_alias(Dst&, const Src&, const Func&) [with Dst = Eigen::SparseMatrix<double, 0, int>; Src = Eigen::SparseMatrix<double, 0, int>; Func = assign_op<double, double>]'
890 | Assignment<ActualDstTypeCleaned,Src,Func>::run(actualDst, src, func);
| ~~~~~~~~~~~~~~~~~~~~~~~~~~~~~~~~~~~~~~~~~~~~~~^~~~~~~~~~~~~~~~~~~~~~
F:/biocbuild/bbs-3.22-bioc/R/library/RcppEigen/include/Eigen/src/Core/AssignEvaluator.h:917:27: required from 'void Eigen::internal::call_assignment_no_alias(Dst&, const Src&) [with Dst = Eigen::SparseMatrix<double, 0, int>; Src = Eigen::SparseMatrix<double, 0, int>]'
917 | call_assignment_no_alias(dst, src, internal::assign_op<typename Dst::Scalar,typename Src::Scalar>());
| ~~~~~~~~~~~~~~~~~~~~~~~~^~~~~~~~~~~~~~~~~~~~~~~~~~~~~~~~~~~~~~~~~~~~~~~~~~~~~~~~~~~~~~~~~~~~~~~~~~~~
F:/biocbuild/bbs-3.22-bioc/R/library/RcppEigen/include/Eigen/src/SparseCore/SparseAssign.h:45:37: required from 'Derived& Eigen::SparseMatrixBase<Derived>::operator=(const Derived&) [with Derived = Eigen::SparseMatrix<double, 0, int>]'
45 | internal::call_assignment_no_alias(derived(), other.derived());
| ~~~~~~~~~~~~~~~~~~~~~~~~~~~~~~~~~~^~~~~~~~~~~~~~~~~~~~~~~~~~~~
F:/biocbuild/bbs-3.22-bioc/R/library/RcppEigen/include/Eigen/src/SparseCore/SparseMatrix.h:778:26: required from 'Eigen::SparseMatrix<_Scalar, _Flags, _StorageIndex>& Eigen::SparseMatrix<_Scalar, _Flags, _StorageIndex>::operator=(const Eigen::SparseMatrix<_Scalar, _Flags, _StorageIndex>&) [with _Scalar = double; int _Options = 0; _StorageIndex = int]'
778 | Base::operator=(other);
| ~~~~~~~~~~~~~~~^~~~~~~
F:/biocbuild/bbs-3.22-bioc/R/library/RcppEigen/include/Eigen/src/SparseCore/SparseMatrix.h:713:13: required from 'Eigen::SparseMatrix<_Scalar, _Flags, _StorageIndex>::SparseMatrix(const Eigen::SparseMatrix<_Scalar, _Flags, _StorageIndex>&) [with _Scalar = double; int _Options = 0; _StorageIndex = int]'
713 | *this = other.derived();
| ~~~~~~^~~~~~~~~~~~~~~~~
RcppExports.cpp:27:48: required from here
27 | rcpp_result_gen = Rcpp::wrap(censoring_impl(data, sigmas, dists, thr_or_null, uncertain_or_null, missing_or_null, callback));
| ~~~~~~~~~~~~~~^~~~~~~~~~~~~~~~~~~~~~~~~~~~~~~~~~~~~~~~~~~~~~~~~~~~~~~~~~~~~~~~~~~~~~~~~~~~~~~~
F:/biocbuild/bbs-3.22-bioc/R/library/RcppEigen/include/Eigen/src/Core/DenseCoeffsBase.h:56:30: warning: ignoring attributes on template argument 'Eigen::internal::packet_traits<double>::type' {aka '__m128d'} [-Wignored-attributes]
56 | >::type PacketReturnType;
| ^~~~~~~~~~~~~~~~
g++ -std=gnu++11 -I"F:/biocbuild/bbs-3.22-bioc/R/include" -DNDEBUG -I'F:/biocbuild/bbs-3.22-bioc/R/library/Rcpp/include' -I'F:/biocbuild/bbs-3.22-bioc/R/library/RcppEigen/include' -I'F:/biocbuild/bbs-3.22-bioc/R/library/grDevices/include' -I"C:/rtools45/x86_64-w64-mingw32.static.posix/include" -ggdb -O2 -Wall -mfpmath=sse -msse2 -mstackrealign -c censoring.cpp -o censoring.o
In file included from F:/biocbuild/bbs-3.22-bioc/R/library/RcppEigen/include/Eigen/Core:205,
from F:/biocbuild/bbs-3.22-bioc/R/library/RcppEigen/include/Eigen/Dense:1,
from F:/biocbuild/bbs-3.22-bioc/R/library/RcppEigen/include/RcppEigenForward.h:28,
from F:/biocbuild/bbs-3.22-bioc/R/library/RcppEigen/include/RcppEigen.h:25,
from censoring.cpp:7:
F:/biocbuild/bbs-3.22-bioc/R/library/RcppEigen/include/Eigen/src/Core/arch/SSE/PacketMath.h:46:40: warning: ignoring attributes on template argument '__m128i' [-Wignored-attributes]
46 | typedef eigen_packet_wrapper<__m128i, 0> Packet4i;
| ^
F:/biocbuild/bbs-3.22-bioc/R/library/RcppEigen/include/Eigen/src/Core/arch/SSE/PacketMath.h:47:40: warning: ignoring attributes on template argument '__m128i' [-Wignored-attributes]
47 | typedef eigen_packet_wrapper<__m128i, 1> Packet16b;
| ^
F:/biocbuild/bbs-3.22-bioc/R/library/RcppEigen/include/Eigen/src/Core/arch/SSE/PacketMath.h:49:39: warning: ignoring attributes on template argument '__m128' [-Wignored-attributes]
49 | template<> struct is_arithmetic<__m128> { enum { value = true }; };
| ^
F:/biocbuild/bbs-3.22-bioc/R/library/RcppEigen/include/Eigen/src/Core/arch/SSE/PacketMath.h:50:40: warning: ignoring attributes on template argument '__m128i' [-Wignored-attributes]
50 | template<> struct is_arithmetic<__m128i> { enum { value = true }; };
| ^
F:/biocbuild/bbs-3.22-bioc/R/library/RcppEigen/include/Eigen/src/Core/arch/SSE/PacketMath.h:51:40: warning: ignoring attributes on template argument '__m128d' [-Wignored-attributes]
51 | template<> struct is_arithmetic<__m128d> { enum { value = true }; };
| ^
F:/biocbuild/bbs-3.22-bioc/R/library/RcppEigen/include/Eigen/src/Core/arch/SSE/PacketMath.h:222:43: warning: ignoring attributes on template argument 'Eigen::internal::Packet4f' {aka '__m128'} [-Wignored-attributes]
222 | template<> struct unpacket_traits<Packet4f> {
| ^
F:/biocbuild/bbs-3.22-bioc/R/library/RcppEigen/include/Eigen/src/Core/arch/SSE/PacketMath.h:228:43: warning: ignoring attributes on template argument 'Eigen::internal::Packet2d' {aka '__m128d'} [-Wignored-attributes]
228 | template<> struct unpacket_traits<Packet2d> {
| ^
F:/biocbuild/bbs-3.22-bioc/R/library/RcppEigen/include/Eigen/src/Core/arch/SSE/PacketMath.h:1124:34: warning: ignoring attributes on template argument 'Eigen::internal::Packet4f' {aka '__m128'} [-Wignored-attributes]
1124 | ptranspose(PacketBlock<Packet4f,4>& kernel) {
| ^
F:/biocbuild/bbs-3.22-bioc/R/library/RcppEigen/include/Eigen/src/Core/arch/SSE/PacketMath.h:1129:34: warning: ignoring attributes on template argument 'Eigen::internal::Packet2d' {aka '__m128d'} [-Wignored-attributes]
1129 | ptranspose(PacketBlock<Packet2d,2>& kernel) {
| ^
In file included from F:/biocbuild/bbs-3.22-bioc/R/library/RcppEigen/include/Eigen/Core:174:
F:/biocbuild/bbs-3.22-bioc/R/library/RcppEigen/include/Eigen/src/Core/arch/Default/ConjHelper.h:16:60: warning: ignoring attributes on template argument 'Eigen::internal::Packet4f' {aka '__m128'} [-Wignored-attributes]
16 | struct conj_helper<PACKET_REAL, PACKET_CPLX, false, false> { \
| ^
F:/biocbuild/bbs-3.22-bioc/R/library/RcppEigen/include/Eigen/src/Core/arch/SSE/Complex.h:173:1: note: in expansion of macro 'EIGEN_MAKE_CONJ_HELPER_CPLX_REAL'
173 | EIGEN_MAKE_CONJ_HELPER_CPLX_REAL(Packet2cf,Packet4f)
| ^~~~~~~~~~~~~~~~~~~~~~~~~~~~~~~~
F:/biocbuild/bbs-3.22-bioc/R/library/RcppEigen/include/Eigen/src/Core/arch/Default/ConjHelper.h:29:60: warning: ignoring attributes on template argument 'Eigen::internal::Packet4f' {aka '__m128'} [-Wignored-attributes]
29 | struct conj_helper<PACKET_CPLX, PACKET_REAL, false, false> { \
| ^
F:/biocbuild/bbs-3.22-bioc/R/library/RcppEigen/include/Eigen/src/Core/arch/SSE/Complex.h:173:1: note: in expansion of macro 'EIGEN_MAKE_CONJ_HELPER_CPLX_REAL'
173 | EIGEN_MAKE_CONJ_HELPER_CPLX_REAL(Packet2cf,Packet4f)
| ^~~~~~~~~~~~~~~~~~~~~~~~~~~~~~~~
F:/biocbuild/bbs-3.22-bioc/R/library/RcppEigen/include/Eigen/src/Core/arch/Default/ConjHelper.h:16:60: warning: ignoring attributes on template argument 'Eigen::internal::Packet2d' {aka '__m128d'} [-Wignored-attributes]
16 | struct conj_helper<PACKET_REAL, PACKET_CPLX, false, false> { \
| ^
F:/biocbuild/bbs-3.22-bioc/R/library/RcppEigen/include/Eigen/src/Core/arch/SSE/Complex.h:298:1: note: in expansion of macro 'EIGEN_MAKE_CONJ_HELPER_CPLX_REAL'
298 | EIGEN_MAKE_CONJ_HELPER_CPLX_REAL(Packet1cd,Packet2d)
| ^~~~~~~~~~~~~~~~~~~~~~~~~~~~~~~~
F:/biocbuild/bbs-3.22-bioc/R/library/RcppEigen/include/Eigen/src/Core/arch/Default/ConjHelper.h:29:60: warning: ignoring attributes on template argument 'Eigen::internal::Packet2d' {aka '__m128d'} [-Wignored-attributes]
29 | struct conj_helper<PACKET_CPLX, PACKET_REAL, false, false> { \
| ^
F:/biocbuild/bbs-3.22-bioc/R/library/RcppEigen/include/Eigen/src/Core/arch/SSE/Complex.h:298:1: note: in expansion of macro 'EIGEN_MAKE_CONJ_HELPER_CPLX_REAL'
298 | EIGEN_MAKE_CONJ_HELPER_CPLX_REAL(Packet1cd,Packet2d)
| ^~~~~~~~~~~~~~~~~~~~~~~~~~~~~~~~
In file included from F:/biocbuild/bbs-3.22-bioc/R/library/RcppEigen/include/Eigen/Core:165:
F:/biocbuild/bbs-3.22-bioc/R/library/RcppEigen/include/Eigen/src/Core/util/XprHelper.h: In instantiation of 'struct Eigen::internal::find_best_packet<float, 4>':
F:/biocbuild/bbs-3.22-bioc/R/library/RcppEigen/include/Eigen/src/Core/Matrix.h:22:57: required from 'struct Eigen::internal::traits<Eigen::Matrix<float, 4, 1> >'
22 | typedef typename find_best_packet<_Scalar,size>::type PacketScalar;
| ^~~~~~~~~~~~
F:/biocbuild/bbs-3.22-bioc/R/library/RcppEigen/include/Eigen/src/Geometry/Quaternion.h:266:49: required from 'struct Eigen::internal::traits<Eigen::Quaternion<float> >'
266 | Alignment = internal::traits<Coefficients>::Alignment,
| ^~~~~~~~~
F:/biocbuild/bbs-3.22-bioc/R/library/RcppEigen/include/Eigen/src/Geometry/arch/Geometry_SIMD.h:24:46: required from here
24 | ResAlignment = traits<Quaternion<float> >::Alignment
| ^~
F:/biocbuild/bbs-3.22-bioc/R/library/RcppEigen/include/Eigen/src/Core/util/XprHelper.h:190:44: warning: ignoring attributes on template argument 'Eigen::internal::packet_traits<float>::type' {aka '__m128'} [-Wignored-attributes]
190 | bool Stop = Size==Dynamic || (Size%unpacket_traits<PacketType>::size)==0 || is_same<PacketType,typename unpacket_traits<PacketType>::half>::value>
| ~~~~~^~~~~~~~~~~~~~~~~~~~~~~~~~~~~~~~~~~
F:/biocbuild/bbs-3.22-bioc/R/library/RcppEigen/include/Eigen/src/Core/util/XprHelper.h:190:83: warning: ignoring attributes on template argument 'Eigen::internal::packet_traits<float>::type' {aka '__m128'} [-Wignored-attributes]
190 | bool Stop = Size==Dynamic || (Size%unpacket_traits<PacketType>::size)==0 || is_same<PacketType,typename unpacket_traits<PacketType>::half>::value>
| ~~~~~~~~~~~~~~~~~~~~~~~~~~~~~~~~~~~~~~~~~~~~~~~~~~~~~~~~~~~~~^~~~~~~~~~~~~~~~~~~~~~~~~~~~~~~~~~~~~~~~~~~~~~~~~~~~~~~~~~~~~~~~~~~~~~~~
F:/biocbuild/bbs-3.22-bioc/R/library/RcppEigen/include/Eigen/src/Core/util/XprHelper.h:190:83: warning: ignoring attributes on template argument 'Eigen::internal::packet_traits<float>::type' {aka '__m128'} [-Wignored-attributes]
F:/biocbuild/bbs-3.22-bioc/R/library/RcppEigen/include/Eigen/src/Core/util/XprHelper.h:190:83: warning: ignoring attributes on template argument 'Eigen::internal::unpacket_traits<__vector(4) float>::half' {aka '__m128'} [-Wignored-attributes]
F:/biocbuild/bbs-3.22-bioc/R/library/RcppEigen/include/Eigen/src/Core/util/XprHelper.h:208:88: warning: ignoring attributes on template argument 'Eigen::internal::packet_traits<float>::type' {aka '__m128'} [-Wignored-attributes]
208 | typedef typename find_best_packet_helper<Size,typename packet_traits<T>::type>::type type;
| ^~~~
In file included from F:/biocbuild/bbs-3.22-bioc/R/library/RcppEigen/include/Eigen/Core:271:
F:/biocbuild/bbs-3.22-bioc/R/library/RcppEigen/include/Eigen/src/Core/DenseCoeffsBase.h: In instantiation of 'class Eigen::DenseCoeffsBase<Eigen::Matrix<float, 4, 1>, 0>':
F:/biocbuild/bbs-3.22-bioc/R/library/RcppEigen/include/Eigen/src/Core/DenseCoeffsBase.h:302:7: required from 'class Eigen::DenseCoeffsBase<Eigen::Matrix<float, 4, 1>, 1>'
302 | class DenseCoeffsBase<Derived, WriteAccessors> : public DenseCoeffsBase<Derived, ReadOnlyAccessors>
| ^~~~~~~~~~~~~~~~~~~~~~~~~~~~~~~~~~~~~~~~
F:/biocbuild/bbs-3.22-bioc/R/library/RcppEigen/include/Eigen/src/Core/DenseCoeffsBase.h:555:7: required from 'class Eigen::DenseCoeffsBase<Eigen::Matrix<float, 4, 1>, 3>'
555 | class DenseCoeffsBase<Derived, DirectWriteAccessors>
| ^~~~~~~~~~~~~~~~~~~~~~~~~~~~~~~~~~~~~~~~~~~~~~
F:/biocbuild/bbs-3.22-bioc/R/library/RcppEigen/include/Eigen/src/Core/DenseBase.h:41:34: required from 'class Eigen::DenseBase<Eigen::Matrix<float, 4, 1> >'
41 | template<typename Derived> class DenseBase
| ^~~~~~~~~
F:/biocbuild/bbs-3.22-bioc/R/library/RcppEigen/include/Eigen/src/Core/MatrixBase.h:48:34: required from 'class Eigen::MatrixBase<Eigen::Matrix<float, 4, 1> >'
48 | template<typename Derived> class MatrixBase
| ^~~~~~~~~~
F:/biocbuild/bbs-3.22-bioc/R/library/RcppEigen/include/Eigen/src/Core/PlainObjectBase.h:98:7: required from 'class Eigen::PlainObjectBase<Eigen::Matrix<float, 4, 1> >'
98 | class PlainObjectBase : public internal::dense_xpr_base<Derived>::type
| ^~~~~~~~~~~~~~~
F:/biocbuild/bbs-3.22-bioc/R/library/RcppEigen/include/Eigen/src/Core/Matrix.h:178:7: required from 'class Eigen::Matrix<float, 4, 1>'
178 | class Matrix
| ^~~~~~
F:/biocbuild/bbs-3.22-bioc/R/library/RcppEigen/include/Eigen/src/Geometry/Quaternion.h:46:50: required from 'class Eigen::QuaternionBase<Eigen::Quaternion<float> >'
46 | typedef typename Coefficients::CoeffReturnType CoeffReturnType;
| ^~~~~~~~~~~~~~~
F:/biocbuild/bbs-3.22-bioc/R/library/RcppEigen/include/Eigen/src/Geometry/Quaternion.h:273:7: required from 'class Eigen::Quaternion<float>'
273 | class Quaternion : public QuaternionBase<Quaternion<_Scalar,_Options> >
| ^~~~~~~~~~
F:/biocbuild/bbs-3.22-bioc/R/library/RcppEigen/include/Eigen/src/Geometry/arch/Geometry_SIMD.h:27:3: required from here
27 | {
| ^
F:/biocbuild/bbs-3.22-bioc/R/library/RcppEigen/include/Eigen/src/Core/DenseCoeffsBase.h:56:30: warning: ignoring attributes on template argument 'Eigen::internal::packet_traits<float>::type' {aka '__m128'} [-Wignored-attributes]
56 | >::type PacketReturnType;
| ^~~~~~~~~~~~~~~~
F:/biocbuild/bbs-3.22-bioc/R/library/RcppEigen/include/Eigen/src/Core/util/XprHelper.h: In instantiation of 'struct Eigen::internal::find_best_packet<double, 4>':
F:/biocbuild/bbs-3.22-bioc/R/library/RcppEigen/include/Eigen/src/Core/Matrix.h:22:57: required from 'struct Eigen::internal::traits<Eigen::Matrix<double, 4, 1> >'
22 | typedef typename find_best_packet<_Scalar,size>::type PacketScalar;
| ^~~~~~~~~~~~
F:/biocbuild/bbs-3.22-bioc/R/library/RcppEigen/include/Eigen/src/Geometry/Quaternion.h:266:49: required from 'struct Eigen::internal::traits<Eigen::Quaternion<double> >'
266 | Alignment = internal::traits<Coefficients>::Alignment,
| ^~~~~~~~~
F:/biocbuild/bbs-3.22-bioc/R/library/RcppEigen/include/Eigen/src/Geometry/arch/Geometry_SIMD.h:98:47: required from here
98 | ResAlignment = traits<Quaternion<double> >::Alignment
| ^~
F:/biocbuild/bbs-3.22-bioc/R/library/RcppEigen/include/Eigen/src/Core/util/XprHelper.h:190:44: warning: ignoring attributes on template argument 'Eigen::internal::packet_traits<double>::type' {aka '__m128d'} [-Wignored-attributes]
190 | bool Stop = Size==Dynamic || (Size%unpacket_traits<PacketType>::size)==0 || is_same<PacketType,typename unpacket_traits<PacketType>::half>::value>
| ~~~~~^~~~~~~~~~~~~~~~~~~~~~~~~~~~~~~~~~~
F:/biocbuild/bbs-3.22-bioc/R/library/RcppEigen/include/Eigen/src/Core/util/XprHelper.h:190:83: warning: ignoring attributes on template argument 'Eigen::internal::packet_traits<double>::type' {aka '__m128d'} [-Wignored-attributes]
190 | bool Stop = Size==Dynamic || (Size%unpacket_traits<PacketType>::size)==0 || is_same<PacketType,typename unpacket_traits<PacketType>::half>::value>
| ~~~~~~~~~~~~~~~~~~~~~~~~~~~~~~~~~~~~~~~~~~~~~~~~~~~~~~~~~~~~~^~~~~~~~~~~~~~~~~~~~~~~~~~~~~~~~~~~~~~~~~~~~~~~~~~~~~~~~~~~~~~~~~~~~~~~~
F:/biocbuild/bbs-3.22-bioc/R/library/RcppEigen/include/Eigen/src/Core/util/XprHelper.h:190:83: warning: ignoring attributes on template argument 'Eigen::internal::packet_traits<double>::type' {aka '__m128d'} [-Wignored-attributes]
F:/biocbuild/bbs-3.22-bioc/R/library/RcppEigen/include/Eigen/src/Core/util/XprHelper.h:190:83: warning: ignoring attributes on template argument 'Eigen::internal::unpacket_traits<__vector(2) double>::half' {aka '__m128d'} [-Wignored-attributes]
F:/biocbuild/bbs-3.22-bioc/R/library/RcppEigen/include/Eigen/src/Core/util/XprHelper.h:208:88: warning: ignoring attributes on template argument 'Eigen::internal::packet_traits<double>::type' {aka '__m128d'} [-Wignored-attributes]
208 | typedef typename find_best_packet_helper<Size,typename packet_traits<T>::type>::type type;
| ^~~~
F:/biocbuild/bbs-3.22-bioc/R/library/RcppEigen/include/Eigen/src/Core/DenseCoeffsBase.h: In instantiation of 'class Eigen::DenseCoeffsBase<Eigen::Matrix<double, 4, 1>, 0>':
F:/biocbuild/bbs-3.22-bioc/R/library/RcppEigen/include/Eigen/src/Core/DenseCoeffsBase.h:302:7: required from 'class Eigen::DenseCoeffsBase<Eigen::Matrix<double, 4, 1>, 1>'
302 | class DenseCoeffsBase<Derived, WriteAccessors> : public DenseCoeffsBase<Derived, ReadOnlyAccessors>
| ^~~~~~~~~~~~~~~~~~~~~~~~~~~~~~~~~~~~~~~~
F:/biocbuild/bbs-3.22-bioc/R/library/RcppEigen/include/Eigen/src/Core/DenseCoeffsBase.h:555:7: required from 'class Eigen::DenseCoeffsBase<Eigen::Matrix<double, 4, 1>, 3>'
555 | class DenseCoeffsBase<Derived, DirectWriteAccessors>
| ^~~~~~~~~~~~~~~~~~~~~~~~~~~~~~~~~~~~~~~~~~~~~~
F:/biocbuild/bbs-3.22-bioc/R/library/RcppEigen/include/Eigen/src/Core/DenseBase.h:41:34: required from 'class Eigen::DenseBase<Eigen::Matrix<double, 4, 1> >'
41 | template<typename Derived> class DenseBase
| ^~~~~~~~~
F:/biocbuild/bbs-3.22-bioc/R/library/RcppEigen/include/Eigen/src/Core/MatrixBase.h:48:34: required from 'class Eigen::MatrixBase<Eigen::Matrix<double, 4, 1> >'
48 | template<typename Derived> class MatrixBase
| ^~~~~~~~~~
F:/biocbuild/bbs-3.22-bioc/R/library/RcppEigen/include/Eigen/src/Core/PlainObjectBase.h:98:7: required from 'class Eigen::PlainObjectBase<Eigen::Matrix<double, 4, 1> >'
98 | class PlainObjectBase : public internal::dense_xpr_base<Derived>::type
| ^~~~~~~~~~~~~~~
F:/biocbuild/bbs-3.22-bioc/R/library/RcppEigen/include/Eigen/src/Core/Matrix.h:178:7: required from 'class Eigen::Matrix<double, 4, 1>'
178 | class Matrix
| ^~~~~~
F:/biocbuild/bbs-3.22-bioc/R/library/RcppEigen/include/Eigen/src/Geometry/Quaternion.h:46:50: required from 'class Eigen::QuaternionBase<Eigen::Quaternion<double> >'
46 | typedef typename Coefficients::CoeffReturnType CoeffReturnType;
| ^~~~~~~~~~~~~~~
F:/biocbuild/bbs-3.22-bioc/R/library/RcppEigen/include/Eigen/src/Geometry/Quaternion.h:273:7: required from 'class Eigen::Quaternion<double>'
273 | class Quaternion : public QuaternionBase<Quaternion<_Scalar,_Options> >
| ^~~~~~~~~~
F:/biocbuild/bbs-3.22-bioc/R/library/RcppEigen/include/Eigen/src/Geometry/arch/Geometry_SIMD.h:102:3: required from here
102 | {
| ^
F:/biocbuild/bbs-3.22-bioc/R/library/RcppEigen/include/Eigen/src/Core/DenseCoeffsBase.h:56:30: warning: ignoring attributes on template argument 'Eigen::internal::packet_traits<double>::type' {aka '__m128d'} [-Wignored-attributes]
56 | >::type PacketReturnType;
| ^~~~~~~~~~~~~~~~
In file included from F:/biocbuild/bbs-3.22-bioc/R/library/RcppEigen/include/Eigen/SparseCore:37,
from F:/biocbuild/bbs-3.22-bioc/R/library/RcppEigen/include/Eigen/Sparse:26,
from F:/biocbuild/bbs-3.22-bioc/R/library/RcppEigen/include/RcppEigenForward.h:29:
F:/biocbuild/bbs-3.22-bioc/R/library/RcppEigen/include/Eigen/src/SparseCore/SparseMatrixBase.h: In instantiation of 'class Eigen::SparseMatrixBase<Eigen::SparseMatrix<double, 0, int> >':
F:/biocbuild/bbs-3.22-bioc/R/library/RcppEigen/include/Eigen/src/SparseCore/SparseCompressedBase.h:36:7: required from 'class Eigen::SparseCompressedBase<Eigen::SparseMatrix<double, 0, int> >'
36 | class SparseCompressedBase
| ^~~~~~~~~~~~~~~~~~~~
F:/biocbuild/bbs-3.22-bioc/R/library/RcppEigen/include/Eigen/src/SparseCore/SparseMatrix.h:96:7: required from 'class Eigen::SparseMatrix<double, 0, int>'
96 | class SparseMatrix
| ^~~~~~~~~~~~
F:/biocbuild/bbs-3.22-bioc/R/library/RcppEigen/include/unsupported/Eigen/src/IterativeSolvers/ConstrainedConjGrad.h:61:25: required from here
61 | typedef Triplet<double> T;
| ^
F:/biocbuild/bbs-3.22-bioc/R/library/RcppEigen/include/Eigen/src/SparseCore/SparseMatrixBase.h:47:30: warning: ignoring attributes on template argument 'Eigen::internal::packet_traits<double>::type' {aka '__m128d'} [-Wignored-attributes]
47 | >::type PacketReturnType;
| ^~~~~~~~~~~~~~~~
F:/biocbuild/bbs-3.22-bioc/R/library/RcppEigen/include/Eigen/src/Core/DenseCoeffsBase.h: In instantiation of 'class Eigen::DenseCoeffsBase<Eigen::SparseMatrix<double, 0, int>, 0>':
F:/biocbuild/bbs-3.22-bioc/R/library/RcppEigen/include/Eigen/src/SparseCore/SparseCompressedBase.h:336:80: required from 'struct Eigen::internal::evaluator<Eigen::SparseCompressedBase<Eigen::SparseMatrix<double, 0, int> > >'
336 | typedef typename DenseCoeffsBase<Derived,ReadOnlyAccessors>::CoeffReturnType CoeffReturnType;
| ^~~~~~~~~~~~~~~
F:/biocbuild/bbs-3.22-bioc/R/library/RcppEigen/include/Eigen/src/SparseCore/SparseMatrix.h:1505:8: required from 'struct Eigen::internal::evaluator<Eigen::SparseMatrix<double, 0, int> >'
1505 | struct evaluator<SparseMatrix<_Scalar,_Options,_StorageIndex> >
| ^~~~~~~~~~~~~~~~~~~~~~~~~~~~~~~~~~~~~~~~~~~~~~~~~~~~~~~~
F:/biocbuild/bbs-3.22-bioc/R/library/RcppEigen/include/Eigen/src/SparseCore/SparseAssign.h:77:20: required from 'void Eigen::internal::assign_sparse_to_sparse(DstXprType&, const SrcXprType&) [with DstXprType = Eigen::SparseMatrix<double, 0, int>; SrcXprType = Eigen::SparseMatrix<double, 0, int>]'
77 | SrcEvaluatorType srcEvaluator(src);
| ^~~~~~~~~~~~
F:/biocbuild/bbs-3.22-bioc/R/library/RcppEigen/include/Eigen/src/SparseCore/SparseAssign.h:132:28: required from 'static void Eigen::internal::Assignment<DstXprType, SrcXprType, Functor, Eigen::internal::Sparse2Sparse>::run(DstXprType&, const SrcXprType&, const Eigen::internal::assign_op<typename DstXprType::Scalar, typename SrcXprType::Scalar>&) [with DstXprType = Eigen::SparseMatrix<double, 0, int>; SrcXprType = Eigen::SparseMatrix<double, 0, int>; Functor = Eigen::internal::assign_op<double, double>; typename DstXprType::Scalar = double; typename SrcXprType::Scalar = double]'
132 | assign_sparse_to_sparse(dst.derived(), src.derived());
| ~~~~~~~~~~~~~~~~~~~~~~~^~~~~~~~~~~~~~~~~~~~~~~~~~~~~~
F:/biocbuild/bbs-3.22-bioc/R/library/RcppEigen/include/Eigen/src/Core/AssignEvaluator.h:890:49: required from 'void Eigen::internal::call_assignment_no_alias(Dst&, const Src&, const Func&) [with Dst = Eigen::SparseMatrix<double, 0, int>; Src = Eigen::SparseMatrix<double, 0, int>; Func = assign_op<double, double>]'
890 | Assignment<ActualDstTypeCleaned,Src,Func>::run(actualDst, src, func);
| ~~~~~~~~~~~~~~~~~~~~~~~~~~~~~~~~~~~~~~~~~~~~~~^~~~~~~~~~~~~~~~~~~~~~
F:/biocbuild/bbs-3.22-bioc/R/library/RcppEigen/include/Eigen/src/Core/AssignEvaluator.h:917:27: required from 'void Eigen::internal::call_assignment_no_alias(Dst&, const Src&) [with Dst = Eigen::SparseMatrix<double, 0, int>; Src = Eigen::SparseMatrix<double, 0, int>]'
917 | call_assignment_no_alias(dst, src, internal::assign_op<typename Dst::Scalar,typename Src::Scalar>());
| ~~~~~~~~~~~~~~~~~~~~~~~~^~~~~~~~~~~~~~~~~~~~~~~~~~~~~~~~~~~~~~~~~~~~~~~~~~~~~~~~~~~~~~~~~~~~~~~~~~~~
F:/biocbuild/bbs-3.22-bioc/R/library/RcppEigen/include/Eigen/src/SparseCore/SparseAssign.h:45:37: required from 'Derived& Eigen::SparseMatrixBase<Derived>::operator=(const Derived&) [with Derived = Eigen::SparseMatrix<double, 0, int>]'
45 | internal::call_assignment_no_alias(derived(), other.derived());
| ~~~~~~~~~~~~~~~~~~~~~~~~~~~~~~~~~~^~~~~~~~~~~~~~~~~~~~~~~~~~~~
F:/biocbuild/bbs-3.22-bioc/R/library/RcppEigen/include/Eigen/src/SparseCore/SparseMatrix.h:778:26: required from 'Eigen::SparseMatrix<_Scalar, _Flags, _StorageIndex>& Eigen::SparseMatrix<_Scalar, _Flags, _StorageIndex>::operator=(const Eigen::SparseMatrix<_Scalar, _Flags, _StorageIndex>&) [with _Scalar = double; int _Options = 0; _StorageIndex = int]'
778 | Base::operator=(other);
| ~~~~~~~~~~~~~~~^~~~~~~
F:/biocbuild/bbs-3.22-bioc/R/library/RcppEigen/include/Eigen/src/SparseCore/SparseMatrix.h:713:13: required from 'Eigen::SparseMatrix<_Scalar, _Flags, _StorageIndex>::SparseMatrix(const Eigen::SparseMatrix<_Scalar, _Flags, _StorageIndex>&) [with _Scalar = double; int _Options = 0; _StorageIndex = int]'
713 | *this = other.derived();
| ~~~~~~^~~~~~~~~~~~~~~~~
censoring.cpp:103:17: required from here
103 | M trans_p(dists);
| ^
F:/biocbuild/bbs-3.22-bioc/R/library/RcppEigen/include/Eigen/src/Core/DenseCoeffsBase.h:56:30: warning: ignoring attributes on template argument 'Eigen::internal::packet_traits<double>::type' {aka '__m128d'} [-Wignored-attributes]
56 | >::type PacketReturnType;
| ^~~~~~~~~~~~~~~~
g++ -std=gnu++11 -I"F:/biocbuild/bbs-3.22-bioc/R/include" -DNDEBUG -I'F:/biocbuild/bbs-3.22-bioc/R/library/Rcpp/include' -I'F:/biocbuild/bbs-3.22-bioc/R/library/RcppEigen/include' -I'F:/biocbuild/bbs-3.22-bioc/R/library/grDevices/include' -I"C:/rtools45/x86_64-w64-mingw32.static.posix/include" -ggdb -O2 -Wall -mfpmath=sse -msse2 -mstackrealign -c utils.cpp -o utils.o
g++ -shared -s -static-libgcc -o destiny.dll tmp.def RcppExports.o censoring.o utils.o -LC:/rtools45/x86_64-w64-mingw32.static.posix/lib/x64 -LC:/rtools45/x86_64-w64-mingw32.static.posix/lib -LF:/biocbuild/bbs-3.22-bioc/R/bin/x64 -lR
installing to F:/biocbuild/bbs-3.22-bioc/R/library/00LOCK-destiny/00new/destiny/libs/x64
** R
** data
** demo
** inst
** byte-compile and prepare package for lazy loading
** help
*** installing help indices
** building package indices
** installing vignettes
** testing if installed package can be loaded from temporary location
** testing if installed package can be loaded from final location
** testing if installed package keeps a record of temporary installation path
* DONE (destiny)
destiny.Rcheck/tests/testthat.Rout
R version 4.5.1 (2025-06-13 ucrt) -- "Great Square Root"
Copyright (C) 2025 The R Foundation for Statistical Computing
Platform: x86_64-w64-mingw32/x64
R is free software and comes with ABSOLUTELY NO WARRANTY.
You are welcome to redistribute it under certain conditions.
Type 'license()' or 'licence()' for distribution details.
R is a collaborative project with many contributors.
Type 'contributors()' for more information and
'citation()' on how to cite R or R packages in publications.
Type 'demo()' for some demos, 'help()' for on-line help, or
'help.start()' for an HTML browser interface to help.
Type 'q()' to quit R.
> library(testthat)
> library(destiny)
>
> test_check('destiny')
[ FAIL 0 | WARN 1 | SKIP 1 | PASS 67 ]
══ Skipped tests (1) ═══════════════════════════════════════════════════════════
• Not yet stable (1): 'test_gr.r:23:2'
[ FAIL 0 | WARN 1 | SKIP 1 | PASS 67 ]
>
> proc.time()
user system elapsed
18.04 2.59 20.68
destiny.Rcheck/destiny-Ex.timings
| name | user | system | elapsed | |
| DPT-matrix-methods | 0.92 | 0.14 | 1.08 | |
| DPT-methods | 2.16 | 0.05 | 2.20 | |
| DPT | 0.86 | 0.06 | 0.92 | |
| DiffusionMap-accessors | 0.42 | 0.06 | 0.48 | |
| DiffusionMap-class | 3.38 | 0.06 | 3.44 | |
| DiffusionMap-methods | 0.37 | 0.02 | 0.39 | |
| ExpressionSet-helpers | 0.11 | 0.01 | 0.13 | |
| Gene-Relevance-methods | 1.45 | 0.32 | 1.77 | |
| Gene-Relevance-plotting | 6.05 | 0.58 | 6.62 | |
| Gene-Relevance | 3.44 | 0.28 | 3.72 | |
| Sigmas-class | 0.22 | 0.04 | 0.27 | |
| coercions | 0.31 | 0.03 | 0.34 | |
| colorlegend | 0.01 | 0.00 | 0.02 | |
| cube_helix | 0.02 | 0.00 | 0.01 | |
| destiny-generics | 0.44 | 0.02 | 0.46 | |
| destiny | 10.24 | 0.09 | 10.33 | |
| dm_predict | 0.47 | 0.02 | 0.48 | |
| eig_decomp | 0 | 0 | 0 | |
| extractions | 0.85 | 0.03 | 0.90 | |
| find_dm_k | 0.02 | 0.00 | 0.01 | |
| find_sigmas | 0.52 | 0.05 | 0.56 | |
| find_tips | 0.34 | 0.06 | 0.41 | |
| l_which | 0 | 0 | 0 | |
| plot.DPT | 2.08 | 0.23 | 2.31 | |
| plot.DiffusionMap | 0.48 | 0.16 | 0.64 | |
| plot.Sigmas | 0.27 | 0.03 | 0.30 | |
| projection_dist | 0.25 | 0.02 | 0.27 | |
| random_root | 0.36 | 0.03 | 0.39 | |