| Back to Multiple platform build/check report for BioC 3.22: simplified long |
|
This page was generated on 2025-11-20 12:04 -0500 (Thu, 20 Nov 2025).
| Hostname | OS | Arch (*) | R version | Installed pkgs |
|---|---|---|---|---|
| nebbiolo2 | Linux (Ubuntu 24.04.3 LTS) | x86_64 | 4.5.2 (2025-10-31) -- "[Not] Part in a Rumble" | 4615 |
| merida1 | macOS 12.7.6 Monterey | x86_64 | 4.5.2 Patched (2025-11-05 r88990) -- "[Not] Part in a Rumble" | 4610 |
| kjohnson1 | macOS 13.7.5 Ventura | arm64 | 4.5.2 Patched (2025-11-04 r88984) -- "[Not] Part in a Rumble" | 4598 |
| taishan | Linux (openEuler 24.03 LTS) | aarch64 | 4.5.0 (2025-04-11) -- "How About a Twenty-Six" | 4668 |
| Click on any hostname to see more info about the system (e.g. compilers) (*) as reported by 'uname -p', except on Windows and Mac OS X | ||||
| Package 524/2361 | Hostname | OS / Arch | INSTALL | BUILD | CHECK | BUILD BIN | ||||||||
| dar 1.6.0 (landing page) Francesc Catala-Moll
| nebbiolo2 | Linux (Ubuntu 24.04.3 LTS) / x86_64 | OK | OK | OK | |||||||||
| merida1 | macOS 12.7.6 Monterey / x86_64 | OK | OK | OK | OK | |||||||||
| kjohnson1 | macOS 13.7.5 Ventura / arm64 | OK | OK | OK | OK | |||||||||
| taishan | Linux (openEuler 24.03 LTS) / aarch64 | OK | OK | OK | ||||||||||
|
To the developers/maintainers of the dar package: - Allow up to 24 hours (and sometimes 48 hours) for your latest push to git@git.bioconductor.org:packages/dar.git to reflect on this report. See Troubleshooting Build Report for more information. - Use the following Renviron settings to reproduce errors and warnings. - If 'R CMD check' started to fail recently on the Linux builder(s) over a missing dependency, add the missing dependency to 'Suggests:' in your DESCRIPTION file. See Renviron.bioc for more information. |
| Package: dar |
| Version: 1.6.0 |
| Command: /Library/Frameworks/R.framework/Resources/bin/R CMD check --install=check:dar.install-out.txt --library=/Library/Frameworks/R.framework/Resources/library --no-vignettes --timings dar_1.6.0.tar.gz |
| StartedAt: 2025-11-18 06:12:54 -0500 (Tue, 18 Nov 2025) |
| EndedAt: 2025-11-18 06:30:43 -0500 (Tue, 18 Nov 2025) |
| EllapsedTime: 1069.0 seconds |
| RetCode: 0 |
| Status: OK |
| CheckDir: dar.Rcheck |
| Warnings: 0 |
##############################################################################
##############################################################################
###
### Running command:
###
### /Library/Frameworks/R.framework/Resources/bin/R CMD check --install=check:dar.install-out.txt --library=/Library/Frameworks/R.framework/Resources/library --no-vignettes --timings dar_1.6.0.tar.gz
###
##############################################################################
##############################################################################
* using log directory ‘/Users/biocbuild/bbs-3.22-bioc/meat/dar.Rcheck’
* using R version 4.5.2 Patched (2025-11-05 r88990)
* using platform: x86_64-apple-darwin20
* R was compiled by
Apple clang version 14.0.0 (clang-1400.0.29.202)
GNU Fortran (GCC) 14.2.0
* running under: macOS Monterey 12.7.6
* using session charset: UTF-8
* using option ‘--no-vignettes’
* checking for file ‘dar/DESCRIPTION’ ... OK
* this is package ‘dar’ version ‘1.6.0’
* package encoding: UTF-8
* checking package namespace information ... OK
* checking package dependencies ... INFO
Imports includes 21 non-default packages.
Importing from so many packages makes the package vulnerable to any of
them becoming unavailable. Move as many as possible to Suggests and
use conditionally.
* checking if this is a source package ... OK
* checking if there is a namespace ... OK
* checking for hidden files and directories ... OK
* checking for portable file names ... OK
* checking for sufficient/correct file permissions ... OK
* checking whether package ‘dar’ can be installed ... OK
* checking installed package size ... OK
* checking package directory ... OK
* checking ‘build’ directory ... OK
* checking DESCRIPTION meta-information ... OK
* checking top-level files ... OK
* checking for left-over files ... OK
* checking index information ... OK
* checking package subdirectories ... OK
* checking code files for non-ASCII characters ... OK
* checking R files for syntax errors ... OK
* checking whether the package can be loaded ... OK
* checking whether the package can be loaded with stated dependencies ... OK
* checking whether the package can be unloaded cleanly ... OK
* checking whether the namespace can be loaded with stated dependencies ... OK
* checking whether the namespace can be unloaded cleanly ... OK
* checking dependencies in R code ... OK
* checking S3 generic/method consistency ... OK
* checking replacement functions ... OK
* checking foreign function calls ... OK
* checking R code for possible problems ... OK
* checking Rd files ... OK
* checking Rd metadata ... OK
* checking Rd cross-references ... OK
* checking for missing documentation entries ... OK
* checking for code/documentation mismatches ... OK
* checking Rd \usage sections ... OK
* checking Rd contents ... OK
* checking for unstated dependencies in examples ... OK
* checking contents of ‘data’ directory ... OK
* checking data for non-ASCII characters ... OK
* checking data for ASCII and uncompressed saves ... OK
* checking R/sysdata.rda ... OK
* checking files in ‘vignettes’ ... OK
* checking examples ... OK
Examples with CPU (user + system) or elapsed time > 5s
user system elapsed
step_aldex 33.603 3.633 38.876
step_deseq 14.190 0.267 14.938
prep 9.065 0.204 83.384
corr_heatmap 8.009 0.408 8.659
import_steps 7.897 0.266 74.254
step_metagenomeseq 7.784 0.090 21.567
step_maaslin 7.394 0.261 7.817
abundance_plt 6.313 0.141 6.682
mutual_plt 5.766 0.040 5.892
intersection_plt 5.205 0.040 5.302
export_steps 4.578 0.317 27.810
recipe 4.584 0.102 36.974
* checking for unstated dependencies in ‘tests’ ... OK
* checking tests ...
Running ‘testthat.R’
OK
* checking for unstated dependencies in vignettes ... OK
* checking package vignettes ... OK
* checking running R code from vignettes ... SKIPPED
* checking re-building of vignette outputs ... SKIPPED
* checking PDF version of manual ... OK
* DONE
Status: OK
dar.Rcheck/00install.out
############################################################################## ############################################################################## ### ### Running command: ### ### /Library/Frameworks/R.framework/Resources/bin/R CMD INSTALL dar ### ############################################################################## ############################################################################## * installing to library ‘/Library/Frameworks/R.framework/Versions/4.5-x86_64/Resources/library’ * installing *source* package ‘dar’ ... ** this is package ‘dar’ version ‘1.6.0’ ** using staged installation ** R ** data ** inst ** byte-compile and prepare package for lazy loading ** help *** installing help indices *** copying figures ** building package indices ** installing vignettes ** testing if installed package can be loaded from temporary location ** testing if installed package can be loaded from final location ** testing if installed package keeps a record of temporary installation path * DONE (dar)
dar.Rcheck/tests/testthat.Rout
R version 4.5.2 Patched (2025-11-05 r88990) -- "[Not] Part in a Rumble"
Copyright (C) 2025 The R Foundation for Statistical Computing
Platform: x86_64-apple-darwin20
R is free software and comes with ABSOLUTELY NO WARRANTY.
You are welcome to redistribute it under certain conditions.
Type 'license()' or 'licence()' for distribution details.
R is a collaborative project with many contributors.
Type 'contributors()' for more information and
'citation()' on how to cite R or R packages in publications.
Type 'demo()' for some demos, 'help()' for on-line help, or
'help.start()' for an HTML browser interface to help.
Type 'q()' to quit R.
> library(testthat)
> library(dar)
>
> test_check("dar")
Starting 2 test processes.
> test-roxytest-tests-lefse.R: ! Run lefse without rarefaction is not recommended (id = lefse__Pot_pie)
> test-roxytest-tests-recipe-class.R: Loading required namespace: TreeSummarizedExperiment
> test-roxytest-tests-recipe-class.R: Found more than one class "phylo" in cache; using the first, from namespace 'phyloseq'
> test-roxytest-tests-recipe-class.R: Also defined by 'tidytree'
> test-roxytest-tests-recipe-class.R: Found more than one class "phylo" in cache; using the first, from namespace 'phyloseq'
> test-roxytest-tests-recipe-class.R: Also defined by 'tidytree'
> test-roxytest-tests-recipe-class.R: Found more than one class "phylo" in cache; using the first, from namespace 'phyloseq'
> test-roxytest-tests-recipe-class.R: Also defined by 'tidytree'
> test-roxytest-tests-recipe-class.R: Found more than one class "phylo" in cache; using the first, from namespace 'phyloseq'
> test-roxytest-tests-recipe-class.R: Also defined by 'tidytree'
> test-roxytest-tests-recipe-class.R: Found more than one class "phylo" in cache; using the first, from namespace 'phyloseq'
> test-roxytest-tests-recipe-class.R: Also defined by 'tidytree'
> test-roxytest-tests-recipe-class.R: Found more than one class "phylo" in cache; using the first, from namespace 'phyloseq'
> test-roxytest-tests-recipe-class.R: Also defined by 'tidytree'
> test-roxytest-tests-recipe-class.R: Found more than one class "phylo" in cache; using the first, from namespace 'phyloseq'
> test-roxytest-tests-recipe-class.R: Also defined by 'tidytree'
> test-roxytest-tests-recipe-class.R: Found more than one class "phylo" in cache; using the first, from namespace 'phyloseq'
> test-roxytest-tests-recipe-class.R: Also defined by 'tidytree'
> test-roxytest-tests-recipe-class.R: Found more than one class "phylo" in cache; using the first, from namespace 'phyloseq'
> test-roxytest-tests-recipe-class.R: Also defined by 'tidytree'
> test-roxytest-tests-recipe-class.R: Found more than one class "phylo" in cache; using the first, from namespace 'phyloseq'
> test-roxytest-tests-recipe-class.R: Also defined by 'tidytree'
> test-roxytest-tests-recipe-class.R: Found more than one class "phylo" in cache; using the first, from namespace 'phyloseq'
> test-roxytest-tests-recipe-class.R: Also defined by 'tidytree'
> test-roxytest-tests-recipe-class.R: Found more than one class "phylo" in cache; using the first, from namespace 'phyloseq'
> test-roxytest-tests-recipe-class.R: Also defined by 'tidytree'
> test-roxytest-tests-recipe-class.R: Found more than one class "phylo" in cache; using the first, from namespace 'phyloseq'
> test-roxytest-tests-recipe-class.R: Also defined by 'tidytree'
> test-roxytest-tests-recipe-class.R: Found more than one class "phylo" in cache; using the first, from namespace 'phyloseq'
> test-roxytest-tests-recipe-class.R: Also defined by 'tidytree'
> test-roxytest-tests-recipe-class.R: Found more than one class "phylo" in cache; using the first, from namespace 'phyloseq'
> test-roxytest-tests-recipe-class.R: Also defined by 'tidytree'
[ FAIL 0 | WARN 3 | SKIP 10 | PASS 97 ]
══ Skipped tests (10) ══════════════════════════════════════════════════════════
• On CRAN (9): 'test-roxytest-tests-bake.R:5:1',
'test-roxytest-tests-lefse.R:5:1', 'test-roxytest-tests-maaslin2.R:5:1',
'test-roxytest-tests-pkg_check.R:5:1', 'test-roxytest-tests-misc.R:71:1',
'test-roxytest-tests-misc.R:97:1', 'test-roxytest-tests-misc.R:106:1',
'test-roxytest-tests-read_data.R:11:1',
'test-roxytest-tests-steps_and_checks.R:5:1'
• Temporary disabling due to problems with the ANCOM package (1):
'test-roxytest-tests-ancom.R:6:3'
[ FAIL 0 | WARN 3 | SKIP 10 | PASS 97 ]
>
> proc.time()
user system elapsed
277.641 14.409 349.449
dar.Rcheck/dar-Ex.timings
| name | user | system | elapsed | |
| abundance_plt | 6.313 | 0.141 | 6.682 | |
| add_tax | 0.358 | 0.012 | 0.385 | |
| add_var | 0.343 | 0.012 | 0.358 | |
| bake | 0.949 | 0.018 | 0.984 | |
| contains_rarefaction | 1.070 | 0.032 | 1.115 | |
| cool | 0.607 | 0.013 | 0.632 | |
| corr_heatmap | 8.009 | 0.408 | 8.659 | |
| exclusion_plt | 2.583 | 0.051 | 2.681 | |
| export_steps | 4.578 | 0.317 | 27.810 | |
| find_intersections | 0.346 | 0.007 | 0.355 | |
| get_comparisons | 0.035 | 0.006 | 0.041 | |
| get_phy | 0.033 | 0.004 | 0.037 | |
| get_tax | 0.047 | 0.004 | 0.050 | |
| get_var | 0.047 | 0.004 | 0.052 | |
| import_steps | 7.897 | 0.266 | 74.254 | |
| intersection_df | 0.352 | 0.018 | 0.390 | |
| intersection_plt | 5.205 | 0.040 | 5.302 | |
| mutual_plt | 5.766 | 0.040 | 5.892 | |
| otu_table | 0.939 | 0.008 | 0.955 | |
| overlap_df | 0.497 | 0.015 | 0.514 | |
| phy_qc | 2.645 | 0.034 | 2.727 | |
| prep | 9.065 | 0.204 | 83.384 | |
| rand_id | 0 | 0 | 0 | |
| read_data | 3.243 | 0.391 | 3.475 | |
| recipe | 4.584 | 0.102 | 36.974 | |
| required_deps | 0.060 | 0.018 | 0.079 | |
| sample_data | 0.063 | 0.003 | 0.066 | |
| step_aldex | 33.603 | 3.633 | 38.876 | |
| step_ancom | 0.000 | 0.001 | 0.001 | |
| step_corncob | 4.269 | 0.203 | 4.521 | |
| step_deseq | 14.190 | 0.267 | 14.938 | |
| step_filter_by_abundance | 0.075 | 0.008 | 0.085 | |
| step_filter_by_prevalence | 0.073 | 0.005 | 0.087 | |
| step_filter_by_rarity | 0.075 | 0.008 | 0.086 | |
| step_filter_by_variance | 0.077 | 0.006 | 0.086 | |
| step_filter_taxa | 0.073 | 0.005 | 0.082 | |
| step_lefse | 0.134 | 0.007 | 0.144 | |
| step_maaslin | 7.394 | 0.261 | 7.817 | |
| step_metagenomeseq | 7.784 | 0.090 | 21.567 | |
| step_rarefaction | 0.097 | 0.007 | 0.106 | |
| step_subset_taxa | 0.075 | 0.006 | 0.080 | |
| step_wilcox | 3.942 | 0.105 | 4.137 | |
| steps_ids | 0.017 | 0.010 | 0.028 | |
| tax_table | 0.096 | 0.013 | 0.110 | |
| tidyeval | 0.037 | 0.007 | 0.043 | |
| to_tibble | 1.033 | 0.059 | 1.121 | |
| use_rarefy | 0.027 | 0.008 | 0.035 | |
| zero_otu | 0.973 | 0.009 | 1.009 | |