| Back to Multiple platform build/check report for BioC 3.22: simplified long |
|
This page was generated on 2025-08-15 12:06 -0400 (Fri, 15 Aug 2025).
| Hostname | OS | Arch (*) | R version | Installed pkgs |
|---|---|---|---|---|
| nebbiolo2 | Linux (Ubuntu 24.04.3 LTS) | x86_64 | 4.5.1 (2025-06-13) -- "Great Square Root" | 4818 |
| palomino8 | Windows Server 2022 Datacenter | x64 | 4.5.1 (2025-06-13 ucrt) -- "Great Square Root" | 4554 |
| lconway | macOS 12.7.1 Monterey | x86_64 | 4.5.1 (2025-06-13) -- "Great Square Root" | 4595 |
| kjohnson3 | macOS 13.7.7 Ventura | arm64 | 4.5.1 Patched (2025-06-14 r88325) -- "Great Square Root" | 4537 |
| taishan | Linux (openEuler 24.03 LTS) | aarch64 | 4.5.0 (2025-04-11) -- "How About a Twenty-Six" | 4535 |
| Click on any hostname to see more info about the system (e.g. compilers) (*) as reported by 'uname -p', except on Windows and Mac OS X | ||||
| Package 487/2317 | Hostname | OS / Arch | INSTALL | BUILD | CHECK | BUILD BIN | ||||||||
| cyanoFilter 1.17.0 (landing page) Oluwafemi Olusoji
| nebbiolo2 | Linux (Ubuntu 24.04.3 LTS) / x86_64 | OK | OK | OK | |||||||||
| palomino8 | Windows Server 2022 Datacenter / x64 | OK | OK | OK | OK | |||||||||
| lconway | macOS 12.7.1 Monterey / x86_64 | OK | OK | OK | OK | |||||||||
| kjohnson3 | macOS 13.7.7 Ventura / arm64 | OK | OK | OK | OK | |||||||||
| taishan | Linux (openEuler 24.03 LTS) / aarch64 | OK | OK | OK | ||||||||||
|
To the developers/maintainers of the cyanoFilter package: - Allow up to 24 hours (and sometimes 48 hours) for your latest push to git@git.bioconductor.org:packages/cyanoFilter.git to reflect on this report. See Troubleshooting Build Report for more information. - Use the following Renviron settings to reproduce errors and warnings. - If 'R CMD check' started to fail recently on the Linux builder(s) over a missing dependency, add the missing dependency to 'Suggests:' in your DESCRIPTION file. See Renviron.bioc for more information. |
| Package: cyanoFilter |
| Version: 1.17.0 |
| Command: F:\biocbuild\bbs-3.22-bioc\R\bin\R.exe CMD check --no-multiarch --install=check:cyanoFilter.install-out.txt --library=F:\biocbuild\bbs-3.22-bioc\R\library --no-vignettes --timings cyanoFilter_1.17.0.tar.gz |
| StartedAt: 2025-08-15 02:10:02 -0400 (Fri, 15 Aug 2025) |
| EndedAt: 2025-08-15 02:12:13 -0400 (Fri, 15 Aug 2025) |
| EllapsedTime: 131.1 seconds |
| RetCode: 0 |
| Status: OK |
| CheckDir: cyanoFilter.Rcheck |
| Warnings: 0 |
##############################################################################
##############################################################################
###
### Running command:
###
### F:\biocbuild\bbs-3.22-bioc\R\bin\R.exe CMD check --no-multiarch --install=check:cyanoFilter.install-out.txt --library=F:\biocbuild\bbs-3.22-bioc\R\library --no-vignettes --timings cyanoFilter_1.17.0.tar.gz
###
##############################################################################
##############################################################################
* using log directory 'F:/biocbuild/bbs-3.22-bioc/meat/cyanoFilter.Rcheck'
* using R version 4.5.1 (2025-06-13 ucrt)
* using platform: x86_64-w64-mingw32
* R was compiled by
gcc.exe (GCC) 14.2.0
GNU Fortran (GCC) 14.2.0
* running under: Windows Server 2022 x64 (build 20348)
* using session charset: UTF-8
* using option '--no-vignettes'
* checking for file 'cyanoFilter/DESCRIPTION' ... OK
* checking extension type ... Package
* this is package 'cyanoFilter' version '1.17.0'
* package encoding: UTF-8
* checking package namespace information ... OK
* checking package dependencies ... OK
* checking if this is a source package ... OK
* checking if there is a namespace ... OK
* checking for hidden files and directories ... OK
* checking for portable file names ... OK
* checking whether package 'cyanoFilter' can be installed ... OK
* checking installed package size ... OK
* checking package directory ... OK
* checking 'build' directory ... OK
* checking DESCRIPTION meta-information ... OK
* checking top-level files ... OK
* checking for left-over files ... OK
* checking index information ... OK
* checking package subdirectories ... OK
* checking code files for non-ASCII characters ... OK
* checking R files for syntax errors ... OK
* checking whether the package can be loaded ... OK
* checking whether the package can be loaded with stated dependencies ... OK
* checking whether the package can be unloaded cleanly ... OK
* checking whether the namespace can be loaded with stated dependencies ... OK
* checking whether the namespace can be unloaded cleanly ... OK
* checking dependencies in R code ... OK
* checking S3 generic/method consistency ... OK
* checking replacement functions ... OK
* checking foreign function calls ... OK
* checking R code for possible problems ... OK
* checking Rd files ... OK
* checking Rd metadata ... OK
* checking Rd cross-references ... OK
* checking for missing documentation entries ... OK
* checking for code/documentation mismatches ... OK
* checking Rd \usage sections ... OK
* checking Rd contents ... OK
* checking for unstated dependencies in examples ... OK
* checking files in 'vignettes' ... OK
* checking examples ... OK
Examples with CPU (user + system) or elapsed time > 5s
user system elapsed
gateFunc 14.22 0.08 14.47
* checking for unstated dependencies in vignettes ... OK
* checking package vignettes ... OK
* checking running R code from vignettes ... SKIPPED
* checking re-building of vignette outputs ... SKIPPED
* checking PDF version of manual ... OK
* DONE
Status: OK
cyanoFilter.Rcheck/00install.out
############################################################################## ############################################################################## ### ### Running command: ### ### F:\biocbuild\bbs-3.22-bioc\R\bin\R.exe CMD INSTALL cyanoFilter ### ############################################################################## ############################################################################## * installing to library 'F:/biocbuild/bbs-3.22-bioc/R/library' * installing *source* package 'cyanoFilter' ... ** this is package 'cyanoFilter' version '1.17.0' ** using staged installation ** R ** inst ** byte-compile and prepare package for lazy loading ** help *** installing help indices ** building package indices ** installing vignettes ** testing if installed package can be loaded from temporary location ** testing if installed package can be loaded from final location ** testing if installed package keeps a record of temporary installation path * DONE (cyanoFilter)
cyanoFilter.Rcheck/cyanoFilter-Ex.timings
| name | user | system | elapsed | |
| MarginEvents | 1.10 | 0.14 | 1.37 | |
| PhytoFilter | 1.12 | 0.02 | 1.30 | |
| PhytopFilter | 0.92 | 0.09 | 1.22 | |
| accTest | 0.78 | 0.10 | 1.03 | |
| accuracy | 0.53 | 0.04 | 0.59 | |
| cellmargin | 0.47 | 0.05 | 0.65 | |
| clusterExtract | 1.14 | 0.06 | 1.37 | |
| clusterExtractp | 0.97 | 0.07 | 1.20 | |
| debrisNc | 0.50 | 0.07 | 0.71 | |
| fullFlowframe-MarginEvents-method | 0.48 | 0.10 | 0.68 | |
| fullFlowframe-PhytopFilter-method | 0.83 | 0.06 | 1.10 | |
| fullFlowframe | 0.52 | 0.03 | 0.65 | |
| gateFunc | 14.22 | 0.08 | 14.47 | |
| ggpairsDens | 4.42 | 0.09 | 4.61 | |
| ggplotDens | 0.70 | 0.04 | 0.81 | |
| ggplotDens2 | 1.20 | 0.09 | 1.47 | |
| goodfcs | 0.03 | 0.05 | 0.08 | |
| is.DebrisFilter | 0 | 0 | 0 | |
| is.MarginEvents | 0 | 0 | 0 | |
| is.PhytopFilter | 0 | 0 | 0 | |
| is.flowFrame | 0 | 0 | 0 | |
| is.flowSet | 0 | 0 | 0 | |
| lnTrans | 0.31 | 0.00 | 0.39 | |
| newFlowframe | 0.23 | 0.04 | 0.36 | |
| nona | 0.13 | 0.00 | 0.15 | |
| noneg | 0.25 | 0.02 | 0.32 | |
| oneDgate | 0.31 | 0.08 | 0.45 | |
| pairsPlot | 2.53 | 0.07 | 2.69 | |
| pigmentGate | 0.44 | 0.04 | 0.56 | |
| reducedFlowframe-MarginEvents-method | 0.47 | 0.04 | 0.63 | |
| reducedFlowframe | 0.53 | 0.05 | 0.68 | |
| retain | 0.01 | 0.00 | 0.02 | |
| rowNumbers | 0.21 | 0.08 | 0.34 | |
| summaries-DebrisFilter-method | 0.37 | 0.01 | 0.50 | |
| summaries-MarginEvents-method | 0.44 | 0.11 | 0.67 | |
| summaries-PhytopFilter-method | 0.89 | 0.08 | 1.22 | |
| summaries | 0.39 | 0.06 | 0.69 | |