Back to Multiple platform build/check report for BioC 3.22:   simplified   long
AB[C]DEFGHIJKLMNOPQRSTUVWXYZ

This page was generated on 2025-10-18 12:03 -0400 (Sat, 18 Oct 2025).

HostnameOSArch (*)R versionInstalled pkgs
nebbiolo2Linux (Ubuntu 24.04.3 LTS)x86_644.5.1 Patched (2025-08-23 r88802) -- "Great Square Root" 4887
lconwaymacOS 12.7.6 Montereyx86_644.5.1 Patched (2025-09-10 r88807) -- "Great Square Root" 4677
kjohnson3macOS 13.7.7 Venturaarm644.5.1 Patched (2025-09-10 r88807) -- "Great Square Root" 4622
taishanLinux (openEuler 24.03 LTS)aarch644.5.0 (2025-04-11) -- "How About a Twenty-Six" 4632
Click on any hostname to see more info about the system (e.g. compilers)      (*) as reported by 'uname -p', except on Windows and Mac OS X

Package 440/2353HostnameOS / ArchINSTALLBUILDCHECKBUILD BIN
consensusSeekeR 1.37.3  (landing page)
Astrid Deschênes
Snapshot Date: 2025-10-17 13:45 -0400 (Fri, 17 Oct 2025)
git_url: https://git.bioconductor.org/packages/consensusSeekeR
git_branch: devel
git_last_commit: 75220de
git_last_commit_date: 2025-10-14 17:11:32 -0400 (Tue, 14 Oct 2025)
nebbiolo2Linux (Ubuntu 24.04.3 LTS) / x86_64  OK    OK    OK  UNNEEDED, same version is already published
lconwaymacOS 12.7.6 Monterey / x86_64  OK    OK    OK    OK  UNNEEDED, same version is already published
kjohnson3macOS 13.7.7 Ventura / arm64  OK    OK    OK    OK  UNNEEDED, same version is already published
taishanLinux (openEuler 24.03 LTS) / aarch64  OK    OK    OK  


CHECK results for consensusSeekeR on nebbiolo2

To the developers/maintainers of the consensusSeekeR package:
- Allow up to 24 hours (and sometimes 48 hours) for your latest push to git@git.bioconductor.org:packages/consensusSeekeR.git to reflect on this report. See Troubleshooting Build Report for more information.
- Use the following Renviron settings to reproduce errors and warnings.
- If 'R CMD check' started to fail recently on the Linux builder(s) over a missing dependency, add the missing dependency to 'Suggests:' in your DESCRIPTION file. See Renviron.bioc for more information.

raw results


Summary

Package: consensusSeekeR
Version: 1.37.3
Command: /home/biocbuild/bbs-3.22-bioc/R/bin/R CMD check --install=check:consensusSeekeR.install-out.txt --library=/home/biocbuild/bbs-3.22-bioc/R/site-library --timings consensusSeekeR_1.37.3.tar.gz
StartedAt: 2025-10-17 22:25:24 -0400 (Fri, 17 Oct 2025)
EndedAt: 2025-10-17 22:30:24 -0400 (Fri, 17 Oct 2025)
EllapsedTime: 300.3 seconds
RetCode: 0
Status:   OK  
CheckDir: consensusSeekeR.Rcheck
Warnings: 0

Command output

##############################################################################
##############################################################################
###
### Running command:
###
###   /home/biocbuild/bbs-3.22-bioc/R/bin/R CMD check --install=check:consensusSeekeR.install-out.txt --library=/home/biocbuild/bbs-3.22-bioc/R/site-library --timings consensusSeekeR_1.37.3.tar.gz
###
##############################################################################
##############################################################################


* using log directory ‘/home/biocbuild/bbs-3.22-bioc/meat/consensusSeekeR.Rcheck’
* using R version 4.5.1 Patched (2025-08-23 r88802)
* using platform: x86_64-pc-linux-gnu
* R was compiled by
    gcc (Ubuntu 13.3.0-6ubuntu2~24.04) 13.3.0
    GNU Fortran (Ubuntu 13.3.0-6ubuntu2~24.04) 13.3.0
* running under: Ubuntu 24.04.3 LTS
* using session charset: UTF-8
* checking for file ‘consensusSeekeR/DESCRIPTION’ ... OK
* this is package ‘consensusSeekeR’ version ‘1.37.3’
* package encoding: UTF-8
* checking package namespace information ... OK
* checking package dependencies ... OK
* checking if this is a source package ... OK
* checking if there is a namespace ... OK
* checking for hidden files and directories ... OK
* checking for portable file names ... OK
* checking for sufficient/correct file permissions ... OK
* checking whether package ‘consensusSeekeR’ can be installed ... OK
* checking installed package size ... OK
* checking package directory ... OK
* checking ‘build’ directory ... OK
* checking DESCRIPTION meta-information ... OK
* checking top-level files ... OK
* checking for left-over files ... OK
* checking index information ... OK
* checking package subdirectories ... OK
* checking code files for non-ASCII characters ... OK
* checking R files for syntax errors ... OK
* checking whether the package can be loaded ... OK
* checking whether the package can be loaded with stated dependencies ... OK
* checking whether the package can be unloaded cleanly ... OK
* checking whether the namespace can be loaded with stated dependencies ... OK
* checking whether the namespace can be unloaded cleanly ... OK
* checking loading without being on the library search path ... OK
* checking dependencies in R code ... OK
* checking S3 generic/method consistency ... OK
* checking replacement functions ... OK
* checking foreign function calls ... OK
* checking R code for possible problems ... OK
* checking Rd files ... OK
* checking Rd metadata ... OK
* checking Rd cross-references ... OK
* checking for missing documentation entries ... OK
* checking for code/documentation mismatches ... OK
* checking Rd \usage sections ... OK
* checking Rd contents ... OK
* checking for unstated dependencies in examples ... OK
* checking contents of ‘data’ directory ... OK
* checking data for non-ASCII characters ... OK
* checking data for ASCII and uncompressed saves ... OK
* checking files in ‘vignettes’ ... OK
* checking examples ... OK
* checking for unstated dependencies in ‘tests’ ... OK
* checking tests ...
  Running ‘runTests.R’
 OK
* checking for unstated dependencies in vignettes ... OK
* checking package vignettes ... OK
* checking re-building of vignette outputs ... OK
* checking PDF version of manual ... OK
* DONE

Status: OK


Installation output

consensusSeekeR.Rcheck/00install.out

##############################################################################
##############################################################################
###
### Running command:
###
###   /home/biocbuild/bbs-3.22-bioc/R/bin/R CMD INSTALL consensusSeekeR
###
##############################################################################
##############################################################################


* installing to library ‘/home/biocbuild/bbs-3.22-bioc/R/site-library’
* installing *source* package ‘consensusSeekeR’ ...
** this is package ‘consensusSeekeR’ version ‘1.37.3’
** using staged installation
** R
** data
** inst
** byte-compile and prepare package for lazy loading
** help
*** installing help indices
** building package indices
** installing vignettes
** testing if installed package can be loaded from temporary location
** testing if installed package can be loaded from final location
** testing if installed package keeps a record of temporary installation path
* DONE (consensusSeekeR)

Tests output

consensusSeekeR.Rcheck/tests/runTests.Rout


R version 4.5.1 Patched (2025-08-23 r88802) -- "Great Square Root"
Copyright (C) 2025 The R Foundation for Statistical Computing
Platform: x86_64-pc-linux-gnu

R is free software and comes with ABSOLUTELY NO WARRANTY.
You are welcome to redistribute it under certain conditions.
Type 'license()' or 'licence()' for distribution details.

R is a collaborative project with many contributors.
Type 'contributors()' for more information and
'citation()' on how to cite R or R packages in publications.

Type 'demo()' for some demos, 'help()' for on-line help, or
'help.start()' for an HTML browser interface to help.
Type 'q()' to quit R.

> ## Run all tests present in the package
> BiocGenerics:::testPackage("consensusSeekeR")

Attaching package: 'generics'

The following objects are masked from 'package:base':

    as.difftime, as.factor, as.ordered, intersect, is.element, setdiff,
    setequal, union


Attaching package: 'BiocGenerics'

The following objects are masked from 'package:stats':

    IQR, mad, sd, var, xtabs

The following objects are masked from 'package:base':

    Filter, Find, Map, Position, Reduce, anyDuplicated, aperm, append,
    as.data.frame, basename, cbind, colnames, dirname, do.call,
    duplicated, eval, evalq, get, grep, grepl, is.unsorted, lapply,
    mapply, match, mget, order, paste, pmax, pmax.int, pmin, pmin.int,
    rank, rbind, rownames, sapply, saveRDS, table, tapply, unique,
    unsplit, which.max, which.min


Attaching package: 'S4Vectors'

The following object is masked from 'package:utils':

    findMatches

The following objects are masked from 'package:base':

    I, expand.grid, unname



RUNIT TEST PROTOCOL -- Fri Oct 17 22:29:01 2025 
*********************************************** 
Number of test functions: 56 
Number of errors: 0 
Number of failures: 0 

 
1 Test Suite : 
consensusSeekeR RUnit Tests - 56 test functions, 0 errors, 0 failures
Number of test functions: 56 
Number of errors: 0 
Number of failures: 0 
> 
> proc.time()
   user  system elapsed 
 13.407   0.481  13.876 

Example timings

consensusSeekeR.Rcheck/consensusSeekeR-Ex.timings

nameusersystemelapsed
A549_CTCF_MYJ_NarrowPeaks_partial0.7450.0340.779
A549_CTCF_MYJ_Peaks_partial0.2730.0620.335
A549_CTCF_MYN_NarrowPeaks_partial0.3600.0210.381
A549_CTCF_MYN_Peaks_partial0.3490.0010.350
A549_FOSL2_01_NarrowPeaks_partial0.2600.0010.261
A549_FOSL2_01_Peaks_partial1.0090.0031.012
A549_FOXA1_01_NarrowPeaks_partial0.3090.0010.310
A549_FOXA1_01_Peaks_partial0.4410.0010.442
A549_NR3C1_CFQ_NarrowPeaks_partial0.2670.0000.267
A549_NR3C1_CFQ_Peaks_partial0.3270.0020.329
A549_NR3C1_CFR_NarrowPeaks_partial0.2700.0010.271
A549_NR3C1_CFR_Peaks_partial0.2590.0010.260
A549_NR3C1_CFS_NarrowPeaks_partial0.6610.0010.662
A549_NR3C1_CFS_Peaks_partial0.6600.0010.661
NOrMAL_nucleosome_positions0.5270.0050.532
NOrMAL_nucleosome_ranges0.5310.0020.533
NucPosSimulator_nucleosome_positions0.5010.0030.504
NucPosSimulator_nucleosome_ranges0.5160.0020.518
PING_nucleosome_positions0.3200.0010.321
PING_nucleosome_ranges0.2910.0020.293
findConsensusPeakRegions0.5970.0010.599
findConsensusPeakRegionsValidation0.0690.0020.071
readNarrowPeakFile0.070.000.07