Back to Multiple platform build/check report for BioC 3.22:   simplified   long
AB[C]DEFGHIJKLMNOPQRSTUVWXYZ

This page was generated on 2025-10-18 12:04 -0400 (Sat, 18 Oct 2025).

HostnameOSArch (*)R versionInstalled pkgs
nebbiolo2Linux (Ubuntu 24.04.3 LTS)x86_644.5.1 Patched (2025-08-23 r88802) -- "Great Square Root" 4887
lconwaymacOS 12.7.6 Montereyx86_644.5.1 Patched (2025-09-10 r88807) -- "Great Square Root" 4677
kjohnson3macOS 13.7.7 Venturaarm644.5.1 Patched (2025-09-10 r88807) -- "Great Square Root" 4622
taishanLinux (openEuler 24.03 LTS)aarch644.5.0 (2025-04-11) -- "How About a Twenty-Six" 4632
Click on any hostname to see more info about the system (e.g. compilers)      (*) as reported by 'uname -p', except on Windows and Mac OS X

Package 311/2353HostnameOS / ArchINSTALLBUILDCHECKBUILD BIN
cellmigRation 1.17.0  (landing page)
Waldir Leoncio
Snapshot Date: 2025-10-17 13:45 -0400 (Fri, 17 Oct 2025)
git_url: https://git.bioconductor.org/packages/cellmigRation
git_branch: devel
git_last_commit: 2938d5a
git_last_commit_date: 2025-04-15 12:26:19 -0400 (Tue, 15 Apr 2025)
nebbiolo2Linux (Ubuntu 24.04.3 LTS) / x86_64  OK    OK    OK  UNNEEDED, same version is already published
lconwaymacOS 12.7.6 Monterey / x86_64  OK    OK    OK    OK  UNNEEDED, same version is already published
kjohnson3macOS 13.7.7 Ventura / arm64  OK    OK    OK    OK  UNNEEDED, same version is already published
taishanLinux (openEuler 24.03 LTS) / aarch64  OK    OK    OK  


CHECK results for cellmigRation on lconway

To the developers/maintainers of the cellmigRation package:
- Allow up to 24 hours (and sometimes 48 hours) for your latest push to git@git.bioconductor.org:packages/cellmigRation.git to reflect on this report. See Troubleshooting Build Report for more information.
- Use the following Renviron settings to reproduce errors and warnings.
- If 'R CMD check' started to fail recently on the Linux builder(s) over a missing dependency, add the missing dependency to 'Suggests:' in your DESCRIPTION file. See Renviron.bioc for more information.

raw results


Summary

Package: cellmigRation
Version: 1.17.0
Command: /Library/Frameworks/R.framework/Resources/bin/R CMD check --install=check:cellmigRation.install-out.txt --library=/Library/Frameworks/R.framework/Resources/library --no-vignettes --timings cellmigRation_1.17.0.tar.gz
StartedAt: 2025-10-17 20:50:33 -0400 (Fri, 17 Oct 2025)
EndedAt: 2025-10-17 20:53:08 -0400 (Fri, 17 Oct 2025)
EllapsedTime: 154.9 seconds
RetCode: 0
Status:   OK  
CheckDir: cellmigRation.Rcheck
Warnings: 0

Command output

##############################################################################
##############################################################################
###
### Running command:
###
###   /Library/Frameworks/R.framework/Resources/bin/R CMD check --install=check:cellmigRation.install-out.txt --library=/Library/Frameworks/R.framework/Resources/library --no-vignettes --timings cellmigRation_1.17.0.tar.gz
###
##############################################################################
##############################################################################


* using log directory ‘/Users/biocbuild/bbs-3.22-bioc/meat/cellmigRation.Rcheck’
* using R version 4.5.1 Patched (2025-09-10 r88807)
* using platform: x86_64-apple-darwin20
* R was compiled by
    Apple clang version 14.0.0 (clang-1400.0.29.202)
    GNU Fortran (GCC) 14.2.0
* running under: macOS Monterey 12.7.6
* using session charset: UTF-8
* using option ‘--no-vignettes’
* checking for file ‘cellmigRation/DESCRIPTION’ ... OK
* checking extension type ... Package
* this is package ‘cellmigRation’ version ‘1.17.0’
* package encoding: UTF-8
* checking package namespace information ... OK
* checking package dependencies ... OK
* checking if this is a source package ... OK
* checking if there is a namespace ... OK
* checking for hidden files and directories ... OK
* checking for portable file names ... OK
* checking for sufficient/correct file permissions ... OK
* checking whether package ‘cellmigRation’ can be installed ... OK
* checking installed package size ... OK
* checking package directory ... OK
* checking ‘build’ directory ... OK
* checking DESCRIPTION meta-information ... OK
* checking top-level files ... OK
* checking for left-over files ... OK
* checking index information ... OK
* checking package subdirectories ... OK
* checking code files for non-ASCII characters ... OK
* checking R files for syntax errors ... OK
* checking whether the package can be loaded ... OK
* checking whether the package can be loaded with stated dependencies ... OK
* checking whether the package can be unloaded cleanly ... OK
* checking whether the namespace can be loaded with stated dependencies ... OK
* checking whether the namespace can be unloaded cleanly ... OK
* checking dependencies in R code ... OK
* checking S3 generic/method consistency ... OK
* checking replacement functions ... OK
* checking foreign function calls ... OK
* checking R code for possible problems ... OK
* checking Rd files ... OK
* checking Rd metadata ... OK
* checking Rd cross-references ... OK
* checking for missing documentation entries ... OK
* checking for code/documentation mismatches ... OK
* checking Rd \usage sections ... NOTE
Documented arguments not in \usage in Rd file 'fixDA.Rd':
  ‘object’

Documented arguments not in \usage in Rd file 'fixFM1.Rd':
  ‘object’

Documented arguments not in \usage in Rd file 'fixFM2.Rd':
  ‘object’

Documented arguments not in \usage in Rd file 'fixFM3.Rd':
  ‘object’

Documented arguments not in \usage in Rd file 'fixFM4.Rd':
  ‘object’

Documented arguments not in \usage in Rd file 'fixFM5.Rd':
  ‘object’

Documented arguments not in \usage in Rd file 'fixFM6.Rd':
  ‘object’

Documented arguments not in \usage in Rd file 'fixID2.Rd':
  ‘TimeInterval’

Documented arguments not in \usage in Rd file 'fixID3.Rd':
  ‘TimeInterval’

Documented arguments not in \usage in Rd file 'fixID4.Rd':
  ‘TimeInterval’

Documented arguments not in \usage in Rd file 'fixMSD.Rd':
  ‘object’

Documented arguments not in \usage in Rd file 'fixPER1.Rd':
  ‘x’

Documented arguments not in \usage in Rd file 'fixPER2.Rd':
  ‘x’

Documented arguments not in \usage in Rd file 'innerBondRaster.Rd':
  ‘i’

Functions with \usage entries need to have the appropriate \alias
entries, and all their arguments documented.
The \usage entries must correspond to syntactically valid R code.
See chapter ‘Writing R documentation files’ in the ‘Writing R
Extensions’ manual.
* checking Rd contents ... OK
* checking for unstated dependencies in examples ... OK
* checking contents of ‘data’ directory ... OK
* checking data for non-ASCII characters ... OK
* checking data for ASCII and uncompressed saves ... OK
* checking files in ‘vignettes’ ... OK
* checking examples ... OK
* checking for unstated dependencies in ‘tests’ ... OK
* checking tests ...
  Running ‘runTests.R’
 OK
* checking for unstated dependencies in vignettes ... OK
* checking package vignettes ... OK
* checking running R code from vignettes ... SKIPPED
* checking re-building of vignette outputs ... SKIPPED
* checking PDF version of manual ... OK
* DONE

Status: 1 NOTE
See
  ‘/Users/biocbuild/bbs-3.22-bioc/meat/cellmigRation.Rcheck/00check.log’
for details.


Installation output

cellmigRation.Rcheck/00install.out

##############################################################################
##############################################################################
###
### Running command:
###
###   /Library/Frameworks/R.framework/Resources/bin/R CMD INSTALL cellmigRation
###
##############################################################################
##############################################################################


* installing to library ‘/Library/Frameworks/R.framework/Versions/4.5-x86_64/Resources/library’
* installing *source* package ‘cellmigRation’ ...
** this is package ‘cellmigRation’ version ‘1.17.0’
** using staged installation
** R
** data
** inst
** byte-compile and prepare package for lazy loading
** help
*** installing help indices
** building package indices
** installing vignettes
** testing if installed package can be loaded from temporary location
** testing if installed package can be loaded from final location
** testing if installed package keeps a record of temporary installation path
* DONE (cellmigRation)

Tests output

cellmigRation.Rcheck/tests/runTests.Rout


R version 4.5.1 Patched (2025-09-10 r88807) -- "Great Square Root"
Copyright (C) 2025 The R Foundation for Statistical Computing
Platform: x86_64-apple-darwin20

R is free software and comes with ABSOLUTELY NO WARRANTY.
You are welcome to redistribute it under certain conditions.
Type 'license()' or 'licence()' for distribution details.

R is a collaborative project with many contributors.
Type 'contributors()' for more information and
'citation()' on how to cite R or R packages in publications.

Type 'demo()' for some demos, 'help()' for on-line help, or
'help.start()' for an HTML browser interface to help.
Type 'q()' to quit R.

> BiocGenerics:::testPackage("cellmigRation")


RUNIT TEST PROTOCOL -- Fri Oct 17 20:52:55 2025 
*********************************************** 
Number of test functions: 7 
Number of errors: 0 
Number of failures: 0 

 
1 Test Suite : 
cellmigRation RUnit Tests - 7 test functions, 0 errors, 0 failures
Number of test functions: 7 
Number of errors: 0 
Number of failures: 0 
> 
> proc.time()
   user  system elapsed 
  3.733   0.388   4.149 

Example timings

cellmigRation.Rcheck/cellmigRation-Ex.timings

nameusersystemelapsed
AddDimension0.0020.0000.003
CellMig-class0.0270.0030.029
CellMigPCA2.0600.0802.151
CellMigPCAclust0.0060.0010.007
CellMigPCAclustALL0.7720.0090.784
CellTracker0.0120.0030.015
CellTrackerMainLoop0.0050.0110.032
CentroidArray0.0140.0040.019
CentroidValidation0.5420.0180.563
ComputeTracksStats0.0230.0020.026
DetectRadii0.0030.0000.003
DiAutoCor1.5040.0171.528
DiRatio0.0140.0010.017
DiRatioPlot0.0350.0150.054
EstimateDiameterRange0.0160.0020.020
FMI0.4890.0070.498
FianlizeOptiParams000
FilterTrackedCells0.0030.0010.004
FinRes0.7020.0150.724
ForwardMigration1.0600.0081.073
GenAllCombos0.0030.0000.003
LinearConv20.0230.0010.025
LoadTiff0.0010.0000.001
MSD1.7460.0221.778
MakeHypercube0.0010.0010.002
MigrationStats0.0010.0010.002
NextOdd0.0010.0000.001
NonParallel4OptimizeParams0.0010.0000.001
NonParallelTrackLoop0.0000.0000.001
OptimizeParams0.0100.0010.012
OptimizeParamsMainLoop0.0040.0070.022
Parallel4OptimizeParams0.0010.0000.001
ParallelTrackLoop0.0000.0010.001
PerAndSpeed0.3230.0290.364
PlotTracksSeparately0.0060.0010.008
PostProcessTracking000
Prep4OptimizeParams0.1130.0030.118
ThreeConditions0.0100.0020.012
TrackCellsDataset0.0100.0020.012
TrajectoryDataset0.0320.0030.035
ValidateTrackingArgs000
VeAutoCor1.3150.0221.343
VisualizeCntr0.0020.0010.004
VisualizeImg0.0050.0010.008
VisualizeStackCentroids0.0520.0080.060
WSADataset0.0070.0010.008
aggregateFR0.7580.0090.771
aggregateTrackedCells0.0190.0050.024
bpass0.0820.0030.085
circshift0.0000.0000.001
cntrd0.8260.0130.845
fixDA0.0000.0010.000
fixExpName0.0000.0000.001
fixFM10.0010.0010.000
fixFM2000
fixFM3000
fixFM4000
fixFM50.0000.0010.000
fixFM60.0010.0000.000
fixID10.0000.0000.001
fixMSD0.0000.0000.001
fixPER10.0010.0000.001
fixPER2000
fixPER30.0000.0000.001
getAvailableAggrMetrics1.0860.0091.100
getCellImages0.2590.8161.080
getCellMigSlot0.3670.5390.913
getCellTrackMeta0.0110.0030.013
getCellTrackStats0.0150.0030.018
getCellTracks0.0130.0030.015
getCellsMeta0.0100.0020.012
getCellsStats0.0120.0020.015
getDACtable2.3130.0222.348
getDiRatio0.0180.0020.021
getFMItable0.5560.0060.563
getForMigtable0.6830.0060.694
getImageCentroids0.0180.0030.022
getImageStacks0.0450.0060.052
getMSDtable4.4490.0564.545
getOptimizedParameters0.0130.0020.015
getOptimizedParams0.0140.0020.016
getPerAndSpeed0.3090.0300.352
getPopulationStats0.0130.0020.016
getProcessedImages0.2590.9201.188
getProcessingStatus0.0100.0020.012
getResults0.7320.0150.754
getTracks0.0140.0020.016
getVACtable1.0910.0091.104
initializeTrackParams0.0010.0000.000
innerBondRaster0.0020.0000.002
internalPermutation0.0010.0000.001
matfix0.0010.0010.001
nontrivialBondTracking0.0000.0000.001
pkfnd0.6940.0100.709
plot3DAllTracks0.0000.0000.001
plot3DTracks000
plotAllTracks0.0120.0020.016
plotSampleTracks0.0120.0030.015
preProcCellMig0.0060.0020.006
rmPreProcessing0.1090.0030.112
runTrackingPermutation0.0010.0000.002
setAnalyticParams0.0110.0020.013
setCellMigSlot0.0190.0030.022
setCellTracks0.0110.0030.014
setCellsMeta0.0110.0020.013
setExpName0.0180.0020.020
setOptimizedParams0.0100.0020.011
setProcessedImages0.0120.0030.013
setProcessingStatus0.0110.0030.013
setTrackedCellsMeta0.0100.0020.012
setTrackedCentroids0.0110.0020.015
setTrackedPositions0.0110.0020.012
setTrackingStats0.0120.0020.014
sinkAway0.0000.0000.001
subNetworkTracking0.0230.0040.028
track0.0090.0000.009
trackHypercubeBuild0.0000.0000.001
trackSlideProcessing0.0010.0000.000
trackSlideWrapUp0.0010.0000.000
trivialBondRaster0.0020.0000.002
trivialBondTracking0.0010.0000.000
visualizeCellTracks0.0480.0060.053
visualizeTrcks0.0290.0020.030
warnMessage0.0010.0000.001
wsaPreProcessing0.0540.0020.056