Back to Multiple platform build/check report for BioC 3.22:   simplified   long
AB[C]DEFGHIJKLMNOPQRSTUVWXYZ

This page was generated on 2025-11-20 12:05 -0500 (Thu, 20 Nov 2025).

HostnameOSArch (*)R versionInstalled pkgs
nebbiolo2Linux (Ubuntu 24.04.3 LTS)x86_644.5.2 (2025-10-31) -- "[Not] Part in a Rumble" 4615
merida1macOS 12.7.6 Montereyx86_644.5.2 Patched (2025-11-05 r88990) -- "[Not] Part in a Rumble" 4610
kjohnson1macOS 13.7.5 Venturaarm644.5.2 Patched (2025-11-04 r88984) -- "[Not] Part in a Rumble" 4598
taishanLinux (openEuler 24.03 LTS)aarch644.5.0 (2025-04-11) -- "How About a Twenty-Six" 4668
Click on any hostname to see more info about the system (e.g. compilers)      (*) as reported by 'uname -p', except on Windows and Mac OS X

Package 313/2361HostnameOS / ArchINSTALLBUILDCHECKBUILD BIN
cellmigRation 1.18.0  (landing page)
Waldir Leoncio
Snapshot Date: 2025-11-17 13:45 -0500 (Mon, 17 Nov 2025)
git_url: https://git.bioconductor.org/packages/cellmigRation
git_branch: RELEASE_3_22
git_last_commit: 995cd43
git_last_commit_date: 2025-10-29 11:08:05 -0500 (Wed, 29 Oct 2025)
nebbiolo2Linux (Ubuntu 24.04.3 LTS) / x86_64  OK    OK    OK  UNNEEDED, same version is already published
merida1macOS 12.7.6 Monterey / x86_64  OK    OK    OK    OK  UNNEEDED, same version is already published
kjohnson1macOS 13.7.5 Ventura / arm64  OK    OK    OK    OK  UNNEEDED, same version is already published
taishanLinux (openEuler 24.03 LTS) / aarch64  OK    OK    OK  


CHECK results for cellmigRation on kjohnson1

To the developers/maintainers of the cellmigRation package:
- Allow up to 24 hours (and sometimes 48 hours) for your latest push to git@git.bioconductor.org:packages/cellmigRation.git to reflect on this report. See Troubleshooting Build Report for more information.
- Use the following Renviron settings to reproduce errors and warnings.
- If 'R CMD check' started to fail recently on the Linux builder(s) over a missing dependency, add the missing dependency to 'Suggests:' in your DESCRIPTION file. See Renviron.bioc for more information.

raw results


Summary

Package: cellmigRation
Version: 1.18.0
Command: /Library/Frameworks/R.framework/Resources/bin/R CMD check --install=check:cellmigRation.install-out.txt --library=/Library/Frameworks/R.framework/Resources/library --no-vignettes --timings cellmigRation_1.18.0.tar.gz
StartedAt: 2025-11-18 03:48:14 -0500 (Tue, 18 Nov 2025)
EndedAt: 2025-11-18 03:49:13 -0500 (Tue, 18 Nov 2025)
EllapsedTime: 59.5 seconds
RetCode: 0
Status:   OK  
CheckDir: cellmigRation.Rcheck
Warnings: 0

Command output

##############################################################################
##############################################################################
###
### Running command:
###
###   /Library/Frameworks/R.framework/Resources/bin/R CMD check --install=check:cellmigRation.install-out.txt --library=/Library/Frameworks/R.framework/Resources/library --no-vignettes --timings cellmigRation_1.18.0.tar.gz
###
##############################################################################
##############################################################################


* using log directory ‘/Users/biocbuild/bbs-3.22-bioc/meat/cellmigRation.Rcheck’
* using R version 4.5.2 Patched (2025-11-04 r88984)
* using platform: aarch64-apple-darwin20
* R was compiled by
    Apple clang version 16.0.0 (clang-1600.0.26.6)
    GNU Fortran (GCC) 14.2.0
* running under: macOS Ventura 13.7.8
* using session charset: UTF-8
* using option ‘--no-vignettes’
* checking for file ‘cellmigRation/DESCRIPTION’ ... OK
* checking extension type ... Package
* this is package ‘cellmigRation’ version ‘1.18.0’
* package encoding: UTF-8
* checking package namespace information ... OK
* checking package dependencies ... OK
* checking if this is a source package ... OK
* checking if there is a namespace ... OK
* checking for hidden files and directories ... OK
* checking for portable file names ... OK
* checking for sufficient/correct file permissions ... OK
* checking whether package ‘cellmigRation’ can be installed ... OK
* checking installed package size ... OK
* checking package directory ... OK
* checking ‘build’ directory ... OK
* checking DESCRIPTION meta-information ... OK
* checking top-level files ... OK
* checking for left-over files ... OK
* checking index information ... OK
* checking package subdirectories ... OK
* checking code files for non-ASCII characters ... OK
* checking R files for syntax errors ... OK
* checking whether the package can be loaded ... OK
* checking whether the package can be loaded with stated dependencies ... OK
* checking whether the package can be unloaded cleanly ... OK
* checking whether the namespace can be loaded with stated dependencies ... OK
* checking whether the namespace can be unloaded cleanly ... OK
* checking dependencies in R code ... OK
* checking S3 generic/method consistency ... OK
* checking replacement functions ... OK
* checking foreign function calls ... OK
* checking R code for possible problems ... OK
* checking Rd files ... OK
* checking Rd metadata ... OK
* checking Rd cross-references ... OK
* checking for missing documentation entries ... OK
* checking for code/documentation mismatches ... OK
* checking Rd \usage sections ... NOTE
Documented arguments not in \usage in Rd file 'fixDA.Rd':
  ‘object’

Documented arguments not in \usage in Rd file 'fixFM1.Rd':
  ‘object’

Documented arguments not in \usage in Rd file 'fixFM2.Rd':
  ‘object’

Documented arguments not in \usage in Rd file 'fixFM3.Rd':
  ‘object’

Documented arguments not in \usage in Rd file 'fixFM4.Rd':
  ‘object’

Documented arguments not in \usage in Rd file 'fixFM5.Rd':
  ‘object’

Documented arguments not in \usage in Rd file 'fixFM6.Rd':
  ‘object’

Documented arguments not in \usage in Rd file 'fixID2.Rd':
  ‘TimeInterval’

Documented arguments not in \usage in Rd file 'fixID3.Rd':
  ‘TimeInterval’

Documented arguments not in \usage in Rd file 'fixID4.Rd':
  ‘TimeInterval’

Documented arguments not in \usage in Rd file 'fixMSD.Rd':
  ‘object’

Documented arguments not in \usage in Rd file 'fixPER1.Rd':
  ‘x’

Documented arguments not in \usage in Rd file 'fixPER2.Rd':
  ‘x’

Documented arguments not in \usage in Rd file 'innerBondRaster.Rd':
  ‘i’

Functions with \usage entries need to have the appropriate \alias
entries, and all their arguments documented.
The \usage entries must correspond to syntactically valid R code.
See chapter ‘Writing R documentation files’ in the ‘Writing R
Extensions’ manual.
* checking Rd contents ... OK
* checking for unstated dependencies in examples ... OK
* checking contents of ‘data’ directory ... OK
* checking data for non-ASCII characters ... OK
* checking data for ASCII and uncompressed saves ... OK
* checking files in ‘vignettes’ ... OK
* checking examples ... OK
* checking for unstated dependencies in ‘tests’ ... OK
* checking tests ...
  Running ‘runTests.R’
 OK
* checking for unstated dependencies in vignettes ... OK
* checking package vignettes ... OK
* checking running R code from vignettes ... SKIPPED
* checking re-building of vignette outputs ... SKIPPED
* checking PDF version of manual ... OK
* DONE

Status: 1 NOTE
See
  ‘/Users/biocbuild/bbs-3.22-bioc/meat/cellmigRation.Rcheck/00check.log’
for details.


Installation output

cellmigRation.Rcheck/00install.out

##############################################################################
##############################################################################
###
### Running command:
###
###   /Library/Frameworks/R.framework/Resources/bin/R CMD INSTALL cellmigRation
###
##############################################################################
##############################################################################


* installing to library ‘/Library/Frameworks/R.framework/Versions/4.5-arm64/Resources/library’
* installing *source* package ‘cellmigRation’ ...
** this is package ‘cellmigRation’ version ‘1.18.0’
** using staged installation
** R
** data
** inst
** byte-compile and prepare package for lazy loading
** help
*** installing help indices
** building package indices
** installing vignettes
** testing if installed package can be loaded from temporary location
** testing if installed package can be loaded from final location
** testing if installed package keeps a record of temporary installation path
* DONE (cellmigRation)

Tests output

cellmigRation.Rcheck/tests/runTests.Rout


R version 4.5.2 Patched (2025-11-04 r88984) -- "[Not] Part in a Rumble"
Copyright (C) 2025 The R Foundation for Statistical Computing
Platform: aarch64-apple-darwin20

R is free software and comes with ABSOLUTELY NO WARRANTY.
You are welcome to redistribute it under certain conditions.
Type 'license()' or 'licence()' for distribution details.

R is a collaborative project with many contributors.
Type 'contributors()' for more information and
'citation()' on how to cite R or R packages in publications.

Type 'demo()' for some demos, 'help()' for on-line help, or
'help.start()' for an HTML browser interface to help.
Type 'q()' to quit R.

> BiocGenerics:::testPackage("cellmigRation")


RUNIT TEST PROTOCOL -- Tue Nov 18 03:49:06 2025 
*********************************************** 
Number of test functions: 7 
Number of errors: 0 
Number of failures: 0 

 
1 Test Suite : 
cellmigRation RUnit Tests - 7 test functions, 0 errors, 0 failures
Number of test functions: 7 
Number of errors: 0 
Number of failures: 0 
> 
> proc.time()
   user  system elapsed 
  1.312   0.109   1.696 

Example timings

cellmigRation.Rcheck/cellmigRation-Ex.timings

nameusersystemelapsed
AddDimension0.0010.0000.001
CellMig-class0.0140.0010.015
CellMigPCA0.6980.0210.799
CellMigPCAclust0.0040.0010.005
CellMigPCAclustALL0.2110.0040.217
CellTracker0.0080.0010.009
CellTrackerMainLoop0.0030.0060.015
CentroidArray0.0080.0020.010
CentroidValidation0.1620.0060.181
ComputeTracksStats0.0100.0010.012
DetectRadii0.0010.0000.001
DiAutoCor0.4530.0050.539
DiRatio0.0060.0000.007
DiRatioPlot0.0140.0050.019
EstimateDiameterRange0.0050.0010.006
FMI0.1630.0030.194
FianlizeOptiParams0.0000.0000.001
FilterTrackedCells0.0010.0000.001
FinRes0.2160.0040.223
ForwardMigration0.3130.0020.322
GenAllCombos0.0010.0010.001
LinearConv20.0060.0000.007
LoadTiff0.0000.0010.000
MSD0.5130.0160.591
MakeHypercube0.0000.0000.001
MigrationStats0.0010.0000.001
NextOdd0.0000.0010.000
NonParallel4OptimizeParams0.0000.0000.001
NonParallelTrackLoop000
OptimizeParams0.0070.0010.012
OptimizeParamsMainLoop0.0020.0050.011
Parallel4OptimizeParams000
ParallelTrackLoop0.0010.0000.000
PerAndSpeed0.1000.0090.115
PlotTracksSeparately0.0040.0000.005
PostProcessTracking000
Prep4OptimizeParams0.0310.0020.033
ThreeConditions0.0050.0020.006
TrackCellsDataset0.0070.0010.008
TrajectoryDataset0.0120.0010.013
ValidateTrackingArgs0.0000.0010.000
VeAutoCor0.3650.0040.376
VisualizeCntr0.0010.0010.001
VisualizeImg0.0020.0000.002
VisualizeStackCentroids0.0220.0040.025
WSADataset0.0040.0010.004
aggregateFR0.2180.0040.233
aggregateTrackedCells0.0090.0020.012
bpass0.0290.0010.041
circshift0.0000.0000.001
cntrd0.2520.0060.289
fixDA000
fixExpName000
fixFM1000
fixFM2000
fixFM3000
fixFM40.0000.0010.000
fixFM5000
fixFM6000
fixID1000
fixMSD000
fixPER1000
fixPER2000
fixPER3000
getAvailableAggrMetrics0.3220.0030.330
getCellImages0.0980.3870.577
getCellMigSlot0.1590.2380.471
getCellTrackMeta0.0070.0010.009
getCellTrackStats0.0100.0020.016
getCellTracks0.0070.0010.008
getCellsMeta0.0070.0010.008
getCellsStats0.0110.0010.020
getDACtable0.9110.0121.127
getDiRatio0.0080.0010.008
getFMItable0.1770.0020.189
getForMigtable0.2020.0030.263
getImageCentroids0.0090.0020.011
getImageStacks0.0220.0030.025
getMSDtable1.3150.0151.484
getOptimizedParameters0.0070.0010.008
getOptimizedParams0.0080.0020.009
getPerAndSpeed0.0950.0100.106
getPopulationStats0.0080.0010.009
getProcessedImages0.0920.3830.571
getProcessingStatus0.0070.0020.009
getResults0.2380.0060.266
getTracks0.0070.0010.009
getVACtable0.4310.0050.503
initializeTrackParams0.0000.0000.001
innerBondRaster0.0010.0000.001
internalPermutation0.0000.0000.001
matfix0.0010.0000.000
nontrivialBondTracking000
pkfnd0.2360.0050.273
plot3DAllTracks0.0010.0000.001
plot3DTracks000
plotAllTracks0.0070.0010.023
plotSampleTracks0.0060.0010.008
preProcCellMig0.0040.0010.005
rmPreProcessing0.0340.0020.035
runTrackingPermutation0.0010.0000.001
setAnalyticParams0.0070.0010.010
setCellMigSlot0.0130.0010.017
setCellTracks0.0070.0010.008
setCellsMeta0.0070.0010.009
setExpName0.0120.0010.018
setOptimizedParams0.0080.0010.009
setProcessedImages0.0070.0010.017
setProcessingStatus0.0120.0020.021
setTrackedCellsMeta0.0080.0010.009
setTrackedCentroids0.0090.0020.016
setTrackedPositions0.0070.0010.008
setTrackingStats0.0070.0010.013
sinkAway0.0010.0000.000
subNetworkTracking000
track0.0030.0000.004
trackHypercubeBuild000
trackSlideProcessing000
trackSlideWrapUp0.0010.0000.000
trivialBondRaster0.0000.0000.001
trivialBondTracking000
visualizeCellTracks0.0230.0030.036
visualizeTrcks0.0170.0010.018
warnMessage000
wsaPreProcessing0.0190.0010.024