| Back to Multiple platform build/check report for BioC 3.22: simplified long |
|
This page was generated on 2025-08-15 12:06 -0400 (Fri, 15 Aug 2025).
| Hostname | OS | Arch (*) | R version | Installed pkgs |
|---|---|---|---|---|
| nebbiolo2 | Linux (Ubuntu 24.04.3 LTS) | x86_64 | 4.5.1 (2025-06-13) -- "Great Square Root" | 4818 |
| palomino8 | Windows Server 2022 Datacenter | x64 | 4.5.1 (2025-06-13 ucrt) -- "Great Square Root" | 4554 |
| lconway | macOS 12.7.1 Monterey | x86_64 | 4.5.1 (2025-06-13) -- "Great Square Root" | 4595 |
| kjohnson3 | macOS 13.7.7 Ventura | arm64 | 4.5.1 Patched (2025-06-14 r88325) -- "Great Square Root" | 4537 |
| taishan | Linux (openEuler 24.03 LTS) | aarch64 | 4.5.0 (2025-04-11) -- "How About a Twenty-Six" | 4535 |
| Click on any hostname to see more info about the system (e.g. compilers) (*) as reported by 'uname -p', except on Windows and Mac OS X | ||||
| Package 161/2317 | Hostname | OS / Arch | INSTALL | BUILD | CHECK | BUILD BIN | ||||||||
| benchdamic 1.15.3 (landing page) Matteo Calgaro
| nebbiolo2 | Linux (Ubuntu 24.04.3 LTS) / x86_64 | OK | OK | OK | |||||||||
| palomino8 | Windows Server 2022 Datacenter / x64 | OK | OK | OK | OK | |||||||||
| lconway | macOS 12.7.1 Monterey / x86_64 | OK | OK | OK | OK | |||||||||
| kjohnson3 | macOS 13.7.7 Ventura / arm64 | OK | OK | OK | OK | |||||||||
| taishan | Linux (openEuler 24.03 LTS) / aarch64 | OK | OK | ERROR | ||||||||||
|
To the developers/maintainers of the benchdamic package: - Allow up to 24 hours (and sometimes 48 hours) for your latest push to git@git.bioconductor.org:packages/benchdamic.git to reflect on this report. See Troubleshooting Build Report for more information. - Use the following Renviron settings to reproduce errors and warnings. - If 'R CMD check' started to fail recently on the Linux builder(s) over a missing dependency, add the missing dependency to 'Suggests:' in your DESCRIPTION file. See Renviron.bioc for more information. |
| Package: benchdamic |
| Version: 1.15.3 |
| Command: F:\biocbuild\bbs-3.22-bioc\R\bin\R.exe CMD check --no-multiarch --install=check:benchdamic.install-out.txt --library=F:\biocbuild\bbs-3.22-bioc\R\library --no-vignettes --timings benchdamic_1.15.3.tar.gz |
| StartedAt: 2025-08-15 00:49:33 -0400 (Fri, 15 Aug 2025) |
| EndedAt: 2025-08-15 01:10:26 -0400 (Fri, 15 Aug 2025) |
| EllapsedTime: 1252.9 seconds |
| RetCode: 0 |
| Status: OK |
| CheckDir: benchdamic.Rcheck |
| Warnings: 0 |
##############################################################################
##############################################################################
###
### Running command:
###
### F:\biocbuild\bbs-3.22-bioc\R\bin\R.exe CMD check --no-multiarch --install=check:benchdamic.install-out.txt --library=F:\biocbuild\bbs-3.22-bioc\R\library --no-vignettes --timings benchdamic_1.15.3.tar.gz
###
##############################################################################
##############################################################################
* using log directory 'F:/biocbuild/bbs-3.22-bioc/meat/benchdamic.Rcheck'
* using R version 4.5.1 (2025-06-13 ucrt)
* using platform: x86_64-w64-mingw32
* R was compiled by
gcc.exe (GCC) 14.2.0
GNU Fortran (GCC) 14.2.0
* running under: Windows Server 2022 x64 (build 20348)
* using session charset: UTF-8
* using option '--no-vignettes'
* checking for file 'benchdamic/DESCRIPTION' ... OK
* checking extension type ... Package
* this is package 'benchdamic' version '1.15.3'
* package encoding: UTF-8
* checking package namespace information ... OK
* checking package dependencies ... INFO
Imports includes 32 non-default packages.
Importing from so many packages makes the package vulnerable to any of
them becoming unavailable. Move as many as possible to Suggests and
use conditionally.
* checking if this is a source package ... OK
* checking if there is a namespace ... OK
* checking for hidden files and directories ... OK
* checking for portable file names ... OK
* checking whether package 'benchdamic' can be installed ... OK
* checking installed package size ... OK
* checking package directory ... OK
* checking 'build' directory ... OK
* checking DESCRIPTION meta-information ... OK
* checking top-level files ... OK
* checking for left-over files ... OK
* checking index information ... OK
* checking package subdirectories ... OK
* checking code files for non-ASCII characters ... OK
* checking R files for syntax errors ... OK
* checking whether the package can be loaded ... OK
* checking whether the package can be loaded with stated dependencies ... OK
* checking whether the package can be unloaded cleanly ... OK
* checking whether the namespace can be loaded with stated dependencies ... OK
* checking whether the namespace can be unloaded cleanly ... OK
* checking dependencies in R code ... NOTE
Namespace in Imports field not imported from: 'microbiome'
All declared Imports should be used.
* checking S3 generic/method consistency ... OK
* checking replacement functions ... OK
* checking foreign function calls ... OK
* checking R code for possible problems ... OK
* checking Rd files ... OK
* checking Rd metadata ... OK
* checking Rd cross-references ... NOTE
Non-topic package-anchored link(s) in Rd file 'norm_DESeq2.Rd':
'[DESeq2]{estimateSizeFactors}'
See section 'Cross-references' in the 'Writing R Extensions' manual.
* checking for missing documentation entries ... OK
* checking for code/documentation mismatches ... OK
* checking Rd \usage sections ... OK
* checking Rd contents ... OK
* checking for unstated dependencies in examples ... OK
* checking contents of 'data' directory ... OK
* checking data for non-ASCII characters ... OK
* checking LazyData ... OK
* checking data for ASCII and uncompressed saves ... OK
* checking files in 'vignettes' ... OK
* checking examples ... OK
Examples with CPU (user + system) or elapsed time > 5s
user system elapsed
DA_ALDEx2 7.75 2.32 16.86
plotConcordance 7.20 0.08 7.29
createConcordance 6.26 0.19 8.78
areaCAT 5.79 0.22 8.36
runSplits 5.62 0.11 5.75
DA_DESeq2 4.02 0.03 5.45
DA_mixMC 0.96 0.03 9.64
* checking for unstated dependencies in 'tests' ... OK
* checking tests ...
Running 'testthat.R'
OK
* checking for unstated dependencies in vignettes ... OK
* checking package vignettes ... OK
* checking running R code from vignettes ... SKIPPED
* checking re-building of vignette outputs ... SKIPPED
* checking PDF version of manual ... OK
* DONE
Status: 2 NOTEs
See
'F:/biocbuild/bbs-3.22-bioc/meat/benchdamic.Rcheck/00check.log'
for details.
benchdamic.Rcheck/00install.out
############################################################################## ############################################################################## ### ### Running command: ### ### F:\biocbuild\bbs-3.22-bioc\R\bin\R.exe CMD INSTALL benchdamic ### ############################################################################## ############################################################################## * installing to library 'F:/biocbuild/bbs-3.22-bioc/R/library' * installing *source* package 'benchdamic' ... ** this is package 'benchdamic' version '1.15.3' ** using staged installation ** R ** data *** moving datasets to lazyload DB ** inst ** byte-compile and prepare package for lazy loading Found more than one class "dist" in cache; using the first, from namespace 'BiocGenerics' Also defined by 'spam' ** help *** installing help indices ** building package indices ** installing vignettes ** testing if installed package can be loaded from temporary location Found more than one class "dist" in cache; using the first, from namespace 'BiocGenerics' Also defined by 'spam' ** testing if installed package can be loaded from final location Found more than one class "dist" in cache; using the first, from namespace 'BiocGenerics' Also defined by 'spam' ** testing if installed package keeps a record of temporary installation path * DONE (benchdamic)
benchdamic.Rcheck/tests/testthat.Rout
R version 4.5.1 (2025-06-13 ucrt) -- "Great Square Root"
Copyright (C) 2025 The R Foundation for Statistical Computing
Platform: x86_64-w64-mingw32/x64
R is free software and comes with ABSOLUTELY NO WARRANTY.
You are welcome to redistribute it under certain conditions.
Type 'license()' or 'licence()' for distribution details.
R is a collaborative project with many contributors.
Type 'contributors()' for more information and
'citation()' on how to cite R or R packages in publications.
Type 'demo()' for some demos, 'help()' for on-line help, or
'help.start()' for an HTML browser interface to help.
Type 'q()' to quit R.
> library(testthat)
> library(benchdamic)
Found more than one class "dist" in cache; using the first, from namespace 'BiocGenerics'
Also defined by 'spam'
>
> test_check("benchdamic")
|------------(25%)----------(50%)----------(75%)----------|
|------------(25%)----------(50%)----------(75%)----------|
|------------(25%)----------(50%)----------(75%)----------|
|------------(25%)----------(50%)----------(75%)----------|
|------------(25%)----------(50%)----------(75%)----------|
[ FAIL 0 | WARN 2 | SKIP 0 | PASS 334 ]
[ FAIL 0 | WARN 2 | SKIP 0 | PASS 334 ]
>
> proc.time()
user system elapsed
92.65 6.28 115.45
benchdamic.Rcheck/benchdamic-Ex.timings
| name | user | system | elapsed | |
| CAT | 0.02 | 0.00 | 0.06 | |
| DA_ALDEx2 | 7.75 | 2.32 | 16.86 | |
| DA_ANCOM | 1.16 | 0.00 | 1.41 | |
| DA_DESeq2 | 4.02 | 0.03 | 5.45 | |
| DA_MAST | 1.79 | 0.03 | 3.34 | |
| DA_Maaslin2 | 0.38 | 0.03 | 0.99 | |
| DA_NOISeq | 1.80 | 0.04 | 1.87 | |
| DA_Seurat | 2.59 | 0.07 | 3.35 | |
| DA_ZicoSeq | 0.94 | 0.05 | 1.56 | |
| DA_basic | 0.03 | 0.00 | 0.04 | |
| DA_corncob | 1.00 | 0.08 | 2.95 | |
| DA_dearseq | 0.08 | 0.00 | 0.12 | |
| DA_edgeR | 0.25 | 0.01 | 0.27 | |
| DA_limma | 0.10 | 0.00 | 0.09 | |
| DA_linda | 0.06 | 0.00 | 0.14 | |
| DA_maaslin3 | 0.75 | 0.07 | 0.97 | |
| DA_metagenomeSeq | 0.33 | 0.01 | 0.36 | |
| DA_mixMC | 0.96 | 0.03 | 9.64 | |
| RMSE | 0.02 | 0.00 | 0.02 | |
| addKnowledge | 0.23 | 0.02 | 0.30 | |
| areaCAT | 5.79 | 0.22 | 8.36 | |
| checkNormalization | 0 | 0 | 0 | |
| createColors | 0 | 0 | 0 | |
| createConcordance | 6.26 | 0.19 | 8.78 | |
| createEnrichment | 0.39 | 0.00 | 0.39 | |
| createMocks | 0 | 0 | 0 | |
| createPositives | 1.16 | 0.01 | 1.21 | |
| createSplits | 0.05 | 0.02 | 0.06 | |
| createTIEC | 3.46 | 0.06 | 3.70 | |
| enrichmentTest | 0.24 | 0.00 | 0.24 | |
| extractDA | 0.30 | 0.02 | 0.32 | |
| extractStatistics | 0.20 | 0.00 | 0.21 | |
| fitDM | 0.01 | 0.00 | 0.11 | |
| fitHURDLE | 0.75 | 0.01 | 0.76 | |
| fitModels | 2.88 | 0.14 | 3.02 | |
| fitNB | 0.05 | 0.00 | 0.04 | |
| fitZIG | 0.09 | 0.00 | 0.10 | |
| fitZINB | 0.64 | 0.00 | 0.64 | |
| getDA | 0.11 | 0.02 | 0.12 | |
| getPositives | 0.10 | 0.00 | 0.11 | |
| getStatistics | 0.11 | 0.01 | 0.12 | |
| get_counts_metadata | 0.10 | 0.02 | 0.11 | |
| iterative_ordering | 0.01 | 0.00 | 0.02 | |
| meanDifferences | 0 | 0 | 0 | |
| norm_CSS | 0.08 | 0.00 | 0.08 | |
| norm_DESeq2 | 0.42 | 0.00 | 0.42 | |
| norm_TSS | 0.07 | 0.00 | 0.06 | |
| norm_edgeR | 0.06 | 0.00 | 0.06 | |
| plotConcordance | 7.20 | 0.08 | 7.29 | |
| plotContingency | 1.66 | 0.01 | 1.67 | |
| plotEnrichment | 1.37 | 0.08 | 1.45 | |
| plotFDR | 2.58 | 0.03 | 2.61 | |
| plotFPR | 2.81 | 0.10 | 2.91 | |
| plotKS | 3.25 | 0.03 | 3.28 | |
| plotLogP | 3.02 | 0.06 | 3.08 | |
| plotMD | 4.48 | 0.11 | 4.59 | |
| plotMutualFindings | 1.24 | 0.01 | 1.25 | |
| plotPositives | 0.94 | 0.04 | 0.97 | |
| plotQQ | 2.75 | 0.04 | 2.79 | |
| plotRMSE | 3.76 | 0.02 | 3.79 | |
| prepareObserved | 0.02 | 0.00 | 0.01 | |
| runDA | 0.59 | 0.00 | 0.60 | |
| runMocks | 0.92 | 0.00 | 0.92 | |
| runNormalizations | 0.69 | 0.00 | 0.69 | |
| runSplits | 5.62 | 0.11 | 5.75 | |
| setNormalizations | 0 | 0 | 0 | |
| set_ALDEx2 | 0.02 | 0.00 | 0.01 | |
| set_ANCOM | 0.00 | 0.01 | 0.03 | |
| set_DESeq2 | 0.00 | 0.02 | 0.02 | |
| set_MAST | 0.02 | 0.00 | 0.02 | |
| set_Maaslin2 | 0 | 0 | 0 | |
| set_NOISeq | 0.00 | 0.01 | 0.01 | |
| set_Seurat | 0 | 0 | 0 | |
| set_ZicoSeq | 0.01 | 0.00 | 0.02 | |
| set_basic | 0 | 0 | 0 | |
| set_corncob | 0.02 | 0.00 | 0.01 | |
| set_dearseq | 0 | 0 | 0 | |
| set_edgeR | 0.01 | 0.00 | 0.02 | |
| set_limma | 0.02 | 0.00 | 0.01 | |
| set_linda | 0.01 | 0.00 | 0.02 | |
| set_maaslin3 | 0.02 | 0.00 | 0.03 | |
| set_metagenomeSeq | 0.02 | 0.00 | 0.02 | |
| set_mixMC | 0 | 0 | 0 | |
| weights_ZINB | 0.65 | 0.00 | 0.65 | |