Back to Multiple platform build/check report for BioC 3.22:   simplified   long
A[B]CDEFGHIJKLMNOPQRSTUVWXYZ

This page was generated on 2025-11-20 12:05 -0500 (Thu, 20 Nov 2025).

HostnameOSArch (*)R versionInstalled pkgs
nebbiolo2Linux (Ubuntu 24.04.3 LTS)x86_644.5.2 (2025-10-31) -- "[Not] Part in a Rumble" 4615
merida1macOS 12.7.6 Montereyx86_644.5.2 Patched (2025-11-05 r88990) -- "[Not] Part in a Rumble" 4610
kjohnson1macOS 13.7.5 Venturaarm644.5.2 Patched (2025-11-04 r88984) -- "[Not] Part in a Rumble" 4598
taishanLinux (openEuler 24.03 LTS)aarch644.5.0 (2025-04-11) -- "How About a Twenty-Six" 4668
Click on any hostname to see more info about the system (e.g. compilers)      (*) as reported by 'uname -p', except on Windows and Mac OS X

Package 128/2361HostnameOS / ArchINSTALLBUILDCHECKBUILD BIN
ballgown 2.42.0  (landing page)
Jack Fu
Snapshot Date: 2025-11-17 13:45 -0500 (Mon, 17 Nov 2025)
git_url: https://git.bioconductor.org/packages/ballgown
git_branch: RELEASE_3_22
git_last_commit: f1b4171
git_last_commit_date: 2025-10-29 10:20:34 -0500 (Wed, 29 Oct 2025)
nebbiolo2Linux (Ubuntu 24.04.3 LTS) / x86_64  OK    OK    ERROR  
merida1macOS 12.7.6 Monterey / x86_64  OK    OK    ERROR    OK  
kjohnson1macOS 13.7.5 Ventura / arm64  OK    OK    ERROR    OK  
taishanLinux (openEuler 24.03 LTS) / aarch64  OK    OK    OK  


CHECK results for ballgown on kjohnson1

To the developers/maintainers of the ballgown package:
- Allow up to 24 hours (and sometimes 48 hours) for your latest push to git@git.bioconductor.org:packages/ballgown.git to reflect on this report. See Troubleshooting Build Report for more information.
- Use the following Renviron settings to reproduce errors and warnings.
- If 'R CMD check' started to fail recently on the Linux builder(s) over a missing dependency, add the missing dependency to 'Suggests:' in your DESCRIPTION file. See Renviron.bioc for more information.

raw results


Summary

Package: ballgown
Version: 2.42.0
Command: /Library/Frameworks/R.framework/Resources/bin/R CMD check --install=check:ballgown.install-out.txt --library=/Library/Frameworks/R.framework/Resources/library --no-vignettes --timings ballgown_2.42.0.tar.gz
StartedAt: 2025-11-18 02:51:17 -0500 (Tue, 18 Nov 2025)
EndedAt: 2025-11-18 02:54:09 -0500 (Tue, 18 Nov 2025)
EllapsedTime: 171.4 seconds
RetCode: 1
Status:   ERROR  
CheckDir: ballgown.Rcheck
Warnings: NA

Command output

##############################################################################
##############################################################################
###
### Running command:
###
###   /Library/Frameworks/R.framework/Resources/bin/R CMD check --install=check:ballgown.install-out.txt --library=/Library/Frameworks/R.framework/Resources/library --no-vignettes --timings ballgown_2.42.0.tar.gz
###
##############################################################################
##############################################################################


* using log directory ‘/Users/biocbuild/bbs-3.22-bioc/meat/ballgown.Rcheck’
* using R version 4.5.2 Patched (2025-11-04 r88984)
* using platform: aarch64-apple-darwin20
* R was compiled by
    Apple clang version 16.0.0 (clang-1600.0.26.6)
    GNU Fortran (GCC) 14.2.0
* running under: macOS Ventura 13.7.8
* using session charset: UTF-8
* using option ‘--no-vignettes’
* checking for file ‘ballgown/DESCRIPTION’ ... OK
* this is package ‘ballgown’ version ‘2.42.0’
* checking package namespace information ... OK
* checking package dependencies ... OK
* checking if this is a source package ... OK
* checking if there is a namespace ... OK
* checking for hidden files and directories ... OK
* checking for portable file names ... OK
* checking for sufficient/correct file permissions ... OK
* checking whether package ‘ballgown’ can be installed ... OK
* checking installed package size ... OK
* checking package directory ... OK
* checking ‘build’ directory ... OK
* checking DESCRIPTION meta-information ... OK
* checking top-level files ... OK
* checking for left-over files ... OK
* checking index information ... OK
* checking package subdirectories ... NOTE
Problems with news in ‘NEWS’:
  Cannot process chunk/lines:
    Version 1.99.6 released in Bioconductor 3.1 as Version 2.1.0.
  Cannot process chunk/lines:
    Version 0.99.1 was released on Bioconductor on 28 July 2014
* checking code files for non-ASCII characters ... OK
* checking R files for syntax errors ... OK
* checking whether the package can be loaded ... OK
* checking whether the package can be loaded with stated dependencies ... OK
* checking whether the package can be unloaded cleanly ... OK
* checking whether the namespace can be loaded with stated dependencies ... OK
* checking whether the namespace can be unloaded cleanly ... OK
* checking dependencies in R code ... OK
* checking S3 generic/method consistency ... OK
* checking replacement functions ... OK
* checking foreign function calls ... OK
* checking R code for possible problems ... NOTE
.readExon: no visible global function definition for ‘read.table’
.readIntron: no visible global function definition for ‘read.table’
.readTranscript: no visible global function definition for ‘read.table’
assessSim: no visible global function definition for ‘read.table’
assessSim: no visible global function definition for ‘lines’
assessSim: no visible global function definition for ‘legend’
ballgown: no visible global function definition for ‘read.table’
ballgownrsem: no visible global function definition for ‘read.table’
ballgownrsem : <anonymous>: no visible global function definition for
  ‘read.table’
checkAssembledTx: no visible global function definition for ‘par’
checkAssembledTx: no visible global function definition for ‘polygon’
checkAssembledTx: no visible global function definition for ‘lines’
checkAssembledTx: no visible global function definition for ‘abline’
checkAssembledTx: no visible global function definition for ‘title’
checkAssembledTx: no visible global function definition for ‘axis’
closestColor: no visible global function definition for ‘heat.colors’
clusterTranscripts: no visible global function definition for ‘cutree’
clusterTranscripts: no visible global function definition for ‘hclust’
clusterTranscripts: no visible global function definition for ‘as.dist’
clusterTranscripts: no visible global function definition for ‘kmeans’
gffRead: no visible global function definition for ‘read.table’
plotMeans: no visible global function definition for ‘par’
plotMeans: no visible global function definition for ‘polygon’
plotMeans: no visible global function definition for ‘lines’
plotMeans: no visible global function definition for ‘heat.colors’
plotMeans: no visible global function definition for ‘text’
plotMeans: no visible global function definition for ‘axis’
plotTranscripts: no visible global function definition for ‘par’
plotTranscripts: no visible global function definition for ‘title’
plotTranscripts: no visible global function definition for ‘polygon’
plotTranscripts: no visible global function definition for ‘lines’
plotTranscripts: no visible global function definition for
  ‘heat.colors’
plotTranscripts: no visible global function definition for ‘text’
plotTranscripts: no visible global function definition for ‘axis’
stattest: no visible global function definition for ‘model.matrix’
stattest: no visible global function definition for ‘p.adjust’
writeFiles: no visible global function definition for ‘write.table’
subset,ballgown: no visible binding for global variable ‘i_id’
subset,ballgown: no visible binding for global variable ‘e_id’
subset,ballgown: no visible binding for global variable ‘t_id’
Undefined global functions or variables:
  abline as.dist axis cutree e_id hclust heat.colors i_id kmeans legend
  lines model.matrix p.adjust par polygon read.table t_id text title
  write.table
Consider adding
  importFrom("grDevices", "heat.colors")
  importFrom("graphics", "abline", "axis", "legend", "lines", "par",
             "polygon", "text", "title")
  importFrom("stats", "as.dist", "cutree", "hclust", "kmeans",
             "model.matrix", "p.adjust")
  importFrom("utils", "read.table", "write.table")
to your NAMESPACE file.
* checking Rd files ... OK
* checking Rd metadata ... OK
* checking Rd cross-references ... OK
* checking for missing documentation entries ... OK
* checking for code/documentation mismatches ... OK
* checking Rd \usage sections ... OK
* checking Rd contents ... OK
* checking for unstated dependencies in examples ... OK
* checking contents of ‘data’ directory ... OK
* checking data for non-ASCII characters ... OK
* checking data for ASCII and uncompressed saves ... OK
* checking files in ‘vignettes’ ... OK
* checking examples ... OK
Examples with CPU (user + system) or elapsed time > 5s
                   user system elapsed
annotate_assembly 7.569  0.058   8.698
* checking for unstated dependencies in ‘tests’ ... OK
* checking tests ...
  Running ‘test-all.R’
 ERROR
Running the tests in ‘tests/test-all.R’ failed.
Last 13 lines of output:
  
  Saving _problems/test-annotation-42.R
  [ FAIL 1 | WARN 32 | SKIP 0 | PASS 127 ]
  
  ══ Failed tests ════════════════════════════════════════════════════════════════
  ── Error ('test-annotation.R:41:5'): splitting attribute fields works ──────────
  Error in `is_true()`: could not find function "is_true"
  Backtrace:
      ▆
   1. └─testthat::expect_that(...) at test-annotation.R:41:5
  
  [ FAIL 1 | WARN 32 | SKIP 0 | PASS 127 ]
  Error:
  ! Test failures.
  Execution halted
* checking for unstated dependencies in vignettes ... OK
* checking package vignettes ... OK
* checking running R code from vignettes ... SKIPPED
* checking re-building of vignette outputs ... SKIPPED
* checking PDF version of manual ... OK
* DONE

Status: 1 ERROR, 2 NOTEs
See
  ‘/Users/biocbuild/bbs-3.22-bioc/meat/ballgown.Rcheck/00check.log’
for details.


Installation output

ballgown.Rcheck/00install.out

##############################################################################
##############################################################################
###
### Running command:
###
###   /Library/Frameworks/R.framework/Resources/bin/R CMD INSTALL ballgown
###
##############################################################################
##############################################################################


* installing to library ‘/Library/Frameworks/R.framework/Versions/4.5-arm64/Resources/library’
* installing *source* package ‘ballgown’ ...
** this is package ‘ballgown’ version ‘2.42.0’
** using staged installation
** R
** data
** inst
** byte-compile and prepare package for lazy loading
Creating a new generic function for ‘structure’ in package ‘ballgown’
** help
*** installing help indices
** building package indices
** installing vignettes
** testing if installed package can be loaded from temporary location
** testing if installed package can be loaded from final location
** testing if installed package keeps a record of temporary installation path
* DONE (ballgown)

Tests output

ballgown.Rcheck/tests/test-all.Rout.fail


R version 4.5.2 Patched (2025-11-04 r88984) -- "[Not] Part in a Rumble"
Copyright (C) 2025 The R Foundation for Statistical Computing
Platform: aarch64-apple-darwin20

R is free software and comes with ABSOLUTELY NO WARRANTY.
You are welcome to redistribute it under certain conditions.
Type 'license()' or 'licence()' for distribution details.

R is a collaborative project with many contributors.
Type 'contributors()' for more information and
'citation()' on how to cite R or R packages in publications.

Type 'demo()' for some demos, 'help()' for on-line help, or
'help.start()' for an HTML browser interface to help.
Type 'q()' to quit R.

> library(testthat)
> test_check('ballgown')
Loading required package: ballgown

Attaching package: 'ballgown'

The following object is masked from 'package:base':

    structure

Saving _problems/test-annotation-42.R
[ FAIL 1 | WARN 32 | SKIP 0 | PASS 127 ]

══ Failed tests ════════════════════════════════════════════════════════════════
── Error ('test-annotation.R:41:5'): splitting attribute fields works ──────────
Error in `is_true()`: could not find function "is_true"
Backtrace:
    ▆
 1. └─testthat::expect_that(...) at test-annotation.R:41:5

[ FAIL 1 | WARN 32 | SKIP 0 | PASS 127 ]
Error:
! Test failures.
Execution halted

Example timings

ballgown.Rcheck/ballgown-Ex.timings

nameusersystemelapsed
annotate_assembly7.5690.0588.698
ballgown-class0.0260.0020.029
ballgown-constructor0.0670.0080.081
ballgownrsem0.5830.0090.671
bg0.0160.0010.017
checkAssembledTx0.0000.0010.000
clusterTranscripts0.1120.0010.135
collapseTranscripts0.1330.0020.150
contains3.6830.0294.249
dirs0.0150.0020.017
eexpr0.0160.0020.017
expr-replace0.0160.0010.018
expr0.0160.0020.016
exprfilter0.0240.0010.026
geneIDs0.0150.0020.017
geneNames0.1280.0030.135
getAttributeField0.2670.0020.328
getGenes0.1230.0030.169
gexpr0.0430.0010.060
gffRead0.0400.0000.047
gffReadGR0.1510.0020.174
iexpr0.0200.0020.024
indexes-replace0.0140.0010.017
indexes0.0150.0010.017
last0.0010.0000.000
mergedDate0.0150.0010.016
pData-replace0.0160.0030.021
pData0.0150.0020.017
pctOverlap0.1200.0030.141
plotLatentTranscripts000
plotMeans000
plotTranscripts000
sampleNames0.0150.0010.018
seqnames0.0190.0010.034
stattest0.4450.0050.542
structure0.0200.0020.022
subset0.0610.0020.068
tGene0.0170.0010.039
texpr0.0160.0020.026
transcriptIDs0.0140.0010.016
transcriptNames0.0150.0020.019
writeFiles000