| Back to Multiple platform build/check report for BioC 3.22: simplified long |
|
This page was generated on 2025-08-15 12:07 -0400 (Fri, 15 Aug 2025).
| Hostname | OS | Arch (*) | R version | Installed pkgs |
|---|---|---|---|---|
| nebbiolo2 | Linux (Ubuntu 24.04.3 LTS) | x86_64 | 4.5.1 (2025-06-13) -- "Great Square Root" | 4818 |
| palomino8 | Windows Server 2022 Datacenter | x64 | 4.5.1 (2025-06-13 ucrt) -- "Great Square Root" | 4554 |
| lconway | macOS 12.7.1 Monterey | x86_64 | 4.5.1 (2025-06-13) -- "Great Square Root" | 4595 |
| kjohnson3 | macOS 13.7.7 Ventura | arm64 | 4.5.1 Patched (2025-06-14 r88325) -- "Great Square Root" | 4537 |
| taishan | Linux (openEuler 24.03 LTS) | aarch64 | 4.5.0 (2025-04-11) -- "How About a Twenty-Six" | 4535 |
| Click on any hostname to see more info about the system (e.g. compilers) (*) as reported by 'uname -p', except on Windows and Mac OS X | ||||
| Package 1996/2317 | Hostname | OS / Arch | INSTALL | BUILD | CHECK | BUILD BIN | ||||||||
| SingleMoleculeFootprinting 2.3.2 (landing page) Guido Barzaghi
| nebbiolo2 | Linux (Ubuntu 24.04.3 LTS) / x86_64 | OK | OK | OK | |||||||||
| palomino8 | Windows Server 2022 Datacenter / x64 | OK | OK | OK | OK | |||||||||
| lconway | macOS 12.7.1 Monterey / x86_64 | OK | OK | OK | OK | |||||||||
| kjohnson3 | macOS 13.7.7 Ventura / arm64 | OK | OK | OK | OK | |||||||||
| taishan | Linux (openEuler 24.03 LTS) / aarch64 | OK | ERROR | skipped | ||||||||||
|
To the developers/maintainers of the SingleMoleculeFootprinting package: - Allow up to 24 hours (and sometimes 48 hours) for your latest push to git@git.bioconductor.org:packages/SingleMoleculeFootprinting.git to reflect on this report. See Troubleshooting Build Report for more information. - Use the following Renviron settings to reproduce errors and warnings. - If 'R CMD check' started to fail recently on the Linux builder(s) over a missing dependency, add the missing dependency to 'Suggests:' in your DESCRIPTION file. See Renviron.bioc for more information. |
| Package: SingleMoleculeFootprinting |
| Version: 2.3.2 |
| Command: F:\biocbuild\bbs-3.22-bioc\R\bin\R.exe CMD check --no-multiarch --install=check:SingleMoleculeFootprinting.install-out.txt --library=F:\biocbuild\bbs-3.22-bioc\R\library --no-vignettes --timings SingleMoleculeFootprinting_2.3.2.tar.gz |
| StartedAt: 2025-08-15 07:59:24 -0400 (Fri, 15 Aug 2025) |
| EndedAt: 2025-08-15 08:07:48 -0400 (Fri, 15 Aug 2025) |
| EllapsedTime: 503.1 seconds |
| RetCode: 0 |
| Status: OK |
| CheckDir: SingleMoleculeFootprinting.Rcheck |
| Warnings: 0 |
##############################################################################
##############################################################################
###
### Running command:
###
### F:\biocbuild\bbs-3.22-bioc\R\bin\R.exe CMD check --no-multiarch --install=check:SingleMoleculeFootprinting.install-out.txt --library=F:\biocbuild\bbs-3.22-bioc\R\library --no-vignettes --timings SingleMoleculeFootprinting_2.3.2.tar.gz
###
##############################################################################
##############################################################################
* using log directory 'F:/biocbuild/bbs-3.22-bioc/meat/SingleMoleculeFootprinting.Rcheck'
* using R version 4.5.1 (2025-06-13 ucrt)
* using platform: x86_64-w64-mingw32
* R was compiled by
gcc.exe (GCC) 14.2.0
GNU Fortran (GCC) 14.2.0
* running under: Windows Server 2022 x64 (build 20348)
* using session charset: UTF-8
* using option '--no-vignettes'
* checking for file 'SingleMoleculeFootprinting/DESCRIPTION' ... OK
* this is package 'SingleMoleculeFootprinting' version '2.3.2'
* package encoding: UTF-8
* checking package namespace information ... OK
* checking package dependencies ... INFO
Imports includes 26 non-default packages.
Importing from so many packages makes the package vulnerable to any of
them becoming unavailable. Move as many as possible to Suggests and
use conditionally.
* checking if this is a source package ... OK
* checking if there is a namespace ... OK
* checking for hidden files and directories ... OK
* checking for portable file names ... OK
* checking whether package 'SingleMoleculeFootprinting' can be installed ... OK
* checking installed package size ... OK
* checking package directory ... OK
* checking 'build' directory ... OK
* checking DESCRIPTION meta-information ... NOTE
Package listed in more than one of Depends, Imports, Suggests, Enhances:
'qs'
A package should be listed in only one of these fields.
* checking top-level files ... OK
* checking for left-over files ... OK
* checking index information ... OK
* checking package subdirectories ... OK
* checking code files for non-ASCII characters ... OK
* checking R files for syntax errors ... OK
* checking whether the package can be loaded ... OK
* checking whether the package can be loaded with stated dependencies ... OK
* checking whether the package can be unloaded cleanly ... OK
* checking whether the namespace can be loaded with stated dependencies ... OK
* checking whether the namespace can be unloaded cleanly ... OK
* checking dependencies in R code ... NOTE
Namespace in Imports field not imported from: 'qs'
All declared Imports should be used.
* checking S3 generic/method consistency ... OK
* checking replacement functions ... OK
* checking foreign function calls ... OK
* checking R code for possible problems ... NOTE
.detect.footprints: no visible binding for global variable 'occupancy'
.detect.footprints: no visible binding for global variable
'biological.state'
AggregateFootprints : <anonymous>: no visible binding for global
variable 'TF'
AggregateFootprints : <anonymous>: no visible binding for global
variable 'biological.state'
AnnotateFootprints: no visible binding for global variable
'biological.state'
Create_MethylationCallingWindows: no visible binding for global
variable '.'
Create_MethylationCallingWindows: no visible binding for global
variable 'idx'
DetectFootprints: no visible binding for global variable 'partition.nr'
DetectFootprints: no visible binding for global variable
'partition.coverage'
DetectFootprints: no visible binding for global variable 'nr.cytosines'
DetectFootprints: no visible binding for global variable
'biological.state'
FootprintCharter: no visible binding for global variable
'partition.coverage'
FootprintCharter: no visible binding for global variable 'partition.nr'
FootprintCharter: no visible binding for global variable '.'
GRanges_to_DF: no visible global function definition for 'matches'
GRanges_to_DF: no visible binding for global variable 'Sample'
GRanges_to_DF: no visible binding for global variable 'Score'
LowCoverageMethRate_RMSE: no visible binding for global variable
'Sample'
MethSM.to.dense: no visible binding for global variable '.'
PlotAvgSMF: no visible binding for global variable 'MethRate'
PlotFootprints: no visible binding for global variable 'partition.nr'
PlotFootprints: no visible binding for global variable
'biological.state'
PlotFootprints: no visible binding for global variable
'partition.coverage'
PlotFootprints: no visible binding for global variable 'TF'
PlotFootprints: no visible binding for global variable 'coordinate'
PlotFootprints: no visible binding for global variable 'bulk.SMF'
PlotSingleMoleculeStack : <anonymous>: no visible binding for global
variable 'Coordinate'
PlotSingleMoleculeStack : <anonymous>: no visible binding for global
variable 'Methylation'
PlotSingleMoleculeStack: no visible binding for global variable
'Sample'
Plot_FootprintCharter_SM: no visible binding for global variable
'biological.state'
Plot_FootprintCharter_SM: no visible binding for global variable
'partition.nr'
Plot_FootprintCharter_SM: no visible binding for global variable
'partition.coverage'
Plot_FootprintCharter_SM: no visible binding for global variable
'partition.coverage.cumsum'
Plot_FootprintCharter_SM: no visible binding for global variable 'd'
Plot_FootprintCharter_SM: no visible binding for global variable
'read.idx'
StateQuantificationPlot: no visible binding for global variable 'State'
StateQuantificationPlot: no visible binding for global variable
'Pattern'
StateQuantificationPlot: no visible binding for global variable '.'
StateQuantificationPlot: no visible binding for global variable 'Bin'
StateQuantificationPlot: no visible binding for global variable
'Methylation'
Undefined global functions or variables:
. Bin Coordinate MethRate Methylation Pattern Sample Score State TF
biological.state bulk.SMF coordinate d idx matches nr.cytosines
occupancy partition.coverage partition.coverage.cumsum partition.nr
read.idx
* checking Rd files ... OK
* checking Rd metadata ... OK
* checking Rd cross-references ... OK
* checking for missing documentation entries ... OK
* checking for code/documentation mismatches ... OK
* checking Rd \usage sections ... OK
* checking Rd contents ... OK
* checking for unstated dependencies in examples ... OK
* checking files in 'vignettes' ... OK
* checking examples ... OK
Examples with CPU (user + system) or elapsed time > 5s
user system elapsed
GetSingleMolMethMat 14.09 0.58 14.76
* checking for unstated dependencies in 'tests' ... OK
* checking tests ...
Running 'testthat.R'
OK
* checking for unstated dependencies in vignettes ... OK
* checking package vignettes ... OK
* checking running R code from vignettes ... SKIPPED
* checking re-building of vignette outputs ... SKIPPED
* checking PDF version of manual ... OK
* DONE
Status: 3 NOTEs
See
'F:/biocbuild/bbs-3.22-bioc/meat/SingleMoleculeFootprinting.Rcheck/00check.log'
for details.
SingleMoleculeFootprinting.Rcheck/00install.out
############################################################################## ############################################################################## ### ### Running command: ### ### F:\biocbuild\bbs-3.22-bioc\R\bin\R.exe CMD INSTALL SingleMoleculeFootprinting ### ############################################################################## ############################################################################## * installing to library 'F:/biocbuild/bbs-3.22-bioc/R/library' * installing *source* package 'SingleMoleculeFootprinting' ... ** this is package 'SingleMoleculeFootprinting' version '2.3.2' ** using staged installation ** R ** inst ** byte-compile and prepare package for lazy loading ** help *** installing help indices ** building package indices ** installing vignettes ** testing if installed package can be loaded from temporary location ** testing if installed package can be loaded from final location ** testing if installed package keeps a record of temporary installation path * DONE (SingleMoleculeFootprinting)
SingleMoleculeFootprinting.Rcheck/tests/testthat.Rout
R version 4.5.1 (2025-06-13 ucrt) -- "Great Square Root"
Copyright (C) 2025 The R Foundation for Statistical Computing
Platform: x86_64-w64-mingw32/x64
R is free software and comes with ABSOLUTELY NO WARRANTY.
You are welcome to redistribute it under certain conditions.
Type 'license()' or 'licence()' for distribution details.
R is a collaborative project with many contributors.
Type 'contributors()' for more information and
'citation()' on how to cite R or R packages in publications.
Type 'demo()' for some demos, 'help()' for on-line help, or
'help.start()' for an HTML browser interface to help.
Type 'q()' to quit R.
> library(testthat)
> library(SingleMoleculeFootprinting)
>
> test_check("SingleMoleculeFootprinting")
Loading required package: BSgenome
Loading required package: BiocGenerics
Loading required package: generics
Attaching package: 'generics'
The following objects are masked from 'package:base':
as.difftime, as.factor, as.ordered, intersect, is.element, setdiff,
setequal, union
Attaching package: 'BiocGenerics'
The following objects are masked from 'package:stats':
IQR, mad, sd, var, xtabs
The following objects are masked from 'package:base':
Filter, Find, Map, Position, Reduce, anyDuplicated, aperm, append,
as.data.frame, basename, cbind, colnames, dirname, do.call,
duplicated, eval, evalq, get, grep, grepl, is.unsorted, lapply,
mapply, match, mget, order, paste, pmax, pmax.int, pmin, pmin.int,
rank, rbind, rownames, sapply, saveRDS, table, tapply, unique,
unsplit, which.max, which.min
Loading required package: S4Vectors
Loading required package: stats4
Attaching package: 'S4Vectors'
The following object is masked from 'package:utils':
findMatches
The following objects are masked from 'package:base':
I, expand.grid, unname
Loading required package: IRanges
Attaching package: 'IRanges'
The following object is masked from 'package:grDevices':
windows
Loading required package: Seqinfo
Loading required package: GenomicRanges
Loading required package: Biostrings
Loading required package: XVector
Attaching package: 'Biostrings'
The following object is masked from 'package:base':
strsplit
Loading required package: BiocIO
Loading required package: rtracklayer
all necessary alignment files found
Detected experiment type: DE
all necessary alignment files found
see ?SingleMoleculeFootprintingData and browseVignettes('SingleMoleculeFootprintingData') for documentation
loading from cache
counting alignments...done
counting alignments...done
all necessary alignment files found
5334 reads found mapping to the - strand, collapsing to +
5334 reads found mapping to the - strand, collapsing to +
Detected experiment type: DE
Collecting summarized methylation for bins
Subsetting those reads that cover all bins
Summarizing reads into patterns
Splitting reads by pattern
[ FAIL 0 | WARN 0 | SKIP 0 | PASS 6 ]
>
> proc.time()
user system elapsed
50.45 3.89 55.14
SingleMoleculeFootprinting.Rcheck/SingleMoleculeFootprinting-Ex.timings
| name | user | system | elapsed | |
| Arrange_TFBSs_clusters | 0.44 | 0.12 | 0.98 | |
| BaitCapture | 0 | 0 | 0 | |
| BinMethylation | 0.36 | 0.05 | 0.43 | |
| CallContextMethylation | 0.01 | 0.00 | 0.02 | |
| CollapseStrands | 0.44 | 0.05 | 0.50 | |
| CollapseStrandsSM | 1.24 | 0.37 | 1.67 | |
| CollectCompositeData | 0.01 | 0.00 | 0.02 | |
| CompositeMethylationCorrelation | 0 | 0 | 0 | |
| CompositePlot | 0 | 0 | 0 | |
| ConversionRate | 0 | 0 | 0 | |
| CoverageFilter | 0.10 | 0.00 | 0.09 | |
| Create_MethylationCallingWindows | 0.04 | 0.00 | 0.05 | |
| DetectExperimentType | 0.47 | 0.03 | 0.53 | |
| FilterByConversionRate | 0.64 | 0.11 | 0.75 | |
| FilterContextCytosines | 0.53 | 0.07 | 0.60 | |
| FootprintCharter | 3.42 | 0.04 | 3.48 | |
| GetQuasRprj | 2.52 | 1.63 | 4.16 | |
| GetSingleMolMethMat | 14.09 | 0.58 | 14.76 | |
| MaskSNPs | 0.12 | 0.03 | 0.19 | |
| PlotAvgSMF | 0.71 | 0.03 | 0.75 | |
| PlotFootprints | 4.33 | 0.09 | 4.42 | |
| PlotSM | 1.0 | 0.1 | 1.1 | |
| PlotSingleMoleculeStack | 1.32 | 0.12 | 1.45 | |
| PlotSingleSiteSMF | 3.38 | 0.22 | 3.59 | |
| Plot_FootprintCharter_SM | 4.55 | 0.20 | 4.74 | |
| RollingMean | 0.03 | 0.00 | 0.03 | |
| SingleTFStates | 0 | 0 | 0 | |
| SortReads | 0.23 | 0.02 | 0.25 | |
| SortReadsBySingleTF | 0.05 | 0.00 | 0.05 | |
| SortReadsBySingleTF_MultiSiteWrapper | 0 | 0 | 0 | |
| SortReadsByTFCluster | 0.01 | 0.01 | 0.03 | |
| SortReadsByTFCluster_MultiSiteWrapper | 0.00 | 0.02 | 0.01 | |
| StateQuantification | 0.1 | 0.0 | 0.1 | |
| StateQuantificationBySingleTF | 0.05 | 0.00 | 0.05 | |
| StateQuantificationByTFPair | 0.08 | 0.00 | 0.08 | |
| StateQuantificationPlot | 0.56 | 0.05 | 0.61 | |
| TFPairStates | 0.02 | 0.00 | 0.01 | |
| cbind_fill_sparseMatrix | 0.78 | 0.36 | 1.14 | |
| rbind_fill_sparseMatrix | 0.92 | 0.23 | 1.16 | |