Back to Multiple platform build/check report for BioC 3.22:   simplified   long
ABCDEFGHIJKLMNOPQR[S]TUVWXYZ

This page was generated on 2025-10-18 12:06 -0400 (Sat, 18 Oct 2025).

HostnameOSArch (*)R versionInstalled pkgs
nebbiolo2Linux (Ubuntu 24.04.3 LTS)x86_644.5.1 Patched (2025-08-23 r88802) -- "Great Square Root" 4887
lconwaymacOS 12.7.6 Montereyx86_644.5.1 Patched (2025-09-10 r88807) -- "Great Square Root" 4677
kjohnson3macOS 13.7.7 Venturaarm644.5.1 Patched (2025-09-10 r88807) -- "Great Square Root" 4622
taishanLinux (openEuler 24.03 LTS)aarch644.5.0 (2025-04-11) -- "How About a Twenty-Six" 4632
Click on any hostname to see more info about the system (e.g. compilers)      (*) as reported by 'uname -p', except on Windows and Mac OS X

Package 1933/2353HostnameOS / ArchINSTALLBUILDCHECKBUILD BIN
Sconify 1.29.1  (landing page)
Tyler J Burns
Snapshot Date: 2025-10-17 13:45 -0400 (Fri, 17 Oct 2025)
git_url: https://git.bioconductor.org/packages/Sconify
git_branch: devel
git_last_commit: 8983508
git_last_commit_date: 2025-10-05 13:59:52 -0400 (Sun, 05 Oct 2025)
nebbiolo2Linux (Ubuntu 24.04.3 LTS) / x86_64  OK    OK    OK  UNNEEDED, same version is already published
lconwaymacOS 12.7.6 Monterey / x86_64  OK    OK    OK    OK  UNNEEDED, same version is already published
kjohnson3macOS 13.7.7 Ventura / arm64  OK    OK    OK    OK  UNNEEDED, same version is already published
taishanLinux (openEuler 24.03 LTS) / aarch64  OK    OK    OK  


CHECK results for Sconify on kjohnson3

To the developers/maintainers of the Sconify package:
- Allow up to 24 hours (and sometimes 48 hours) for your latest push to git@git.bioconductor.org:packages/Sconify.git to reflect on this report. See Troubleshooting Build Report for more information.
- Use the following Renviron settings to reproduce errors and warnings.
- If 'R CMD check' started to fail recently on the Linux builder(s) over a missing dependency, add the missing dependency to 'Suggests:' in your DESCRIPTION file. See Renviron.bioc for more information.

raw results


Summary

Package: Sconify
Version: 1.29.1
Command: /Library/Frameworks/R.framework/Resources/bin/R CMD check --install=check:Sconify.install-out.txt --library=/Library/Frameworks/R.framework/Resources/library --no-vignettes --timings Sconify_1.29.1.tar.gz
StartedAt: 2025-10-17 22:02:21 -0400 (Fri, 17 Oct 2025)
EndedAt: 2025-10-17 22:03:07 -0400 (Fri, 17 Oct 2025)
EllapsedTime: 45.5 seconds
RetCode: 0
Status:   OK  
CheckDir: Sconify.Rcheck
Warnings: 0

Command output

##############################################################################
##############################################################################
###
### Running command:
###
###   /Library/Frameworks/R.framework/Resources/bin/R CMD check --install=check:Sconify.install-out.txt --library=/Library/Frameworks/R.framework/Resources/library --no-vignettes --timings Sconify_1.29.1.tar.gz
###
##############################################################################
##############################################################################


* using log directory ‘/Users/biocbuild/bbs-3.22-bioc/meat/Sconify.Rcheck’
* using R version 4.5.1 Patched (2025-09-10 r88807)
* using platform: aarch64-apple-darwin20
* R was compiled by
    Apple clang version 16.0.0 (clang-1600.0.26.6)
    GNU Fortran (GCC) 14.2.0
* running under: macOS Ventura 13.7.7
* using session charset: UTF-8
* using option ‘--no-vignettes’
* checking for file ‘Sconify/DESCRIPTION’ ... OK
* checking extension type ... Package
* this is package ‘Sconify’ version ‘1.29.1’
* package encoding: UTF-8
* checking package namespace information ... OK
* checking package dependencies ... OK
* checking if this is a source package ... OK
* checking if there is a namespace ... OK
* checking for hidden files and directories ... OK
* checking for portable file names ... OK
* checking for sufficient/correct file permissions ... OK
* checking whether package ‘Sconify’ can be installed ... OK
* checking installed package size ... OK
* checking package directory ... OK
* checking ‘build’ directory ... OK
* checking DESCRIPTION meta-information ... OK
* checking top-level files ... OK
* checking for left-over files ... OK
* checking index information ... OK
* checking package subdirectories ... OK
* checking code files for non-ASCII characters ... OK
* checking R files for syntax errors ... OK
* checking whether the package can be loaded ... OK
* checking whether the package can be loaded with stated dependencies ... OK
* checking whether the package can be unloaded cleanly ... OK
* checking whether the namespace can be loaded with stated dependencies ... OK
* checking whether the namespace can be unloaded cleanly ... OK
* checking dependencies in R code ... OK
* checking S3 generic/method consistency ... OK
* checking replacement functions ... OK
* checking foreign function calls ... OK
* checking R code for possible problems ... OK
* checking Rd files ... OK
* checking Rd metadata ... OK
* checking Rd cross-references ... OK
* checking for missing documentation entries ... OK
* checking for code/documentation mismatches ... OK
* checking Rd \usage sections ... OK
* checking Rd contents ... OK
* checking for unstated dependencies in examples ... OK
* checking contents of ‘data’ directory ... OK
* checking data for non-ASCII characters ... OK
* checking LazyData ... OK
* checking data for ASCII and uncompressed saves ... OK
* checking files in ‘vignettes’ ... OK
* checking examples ... OK
* checking for unstated dependencies in ‘tests’ ... OK
* checking tests ...
  Running ‘testthat.R’
 OK
* checking for unstated dependencies in vignettes ... OK
* checking package vignettes ... OK
* checking running R code from vignettes ... SKIPPED
* checking re-building of vignette outputs ... SKIPPED
* checking PDF version of manual ... OK
* DONE

Status: OK


Installation output

Sconify.Rcheck/00install.out

##############################################################################
##############################################################################
###
### Running command:
###
###   /Library/Frameworks/R.framework/Resources/bin/R CMD INSTALL Sconify
###
##############################################################################
##############################################################################


* installing to library ‘/Library/Frameworks/R.framework/Versions/4.5-arm64/Resources/library’
* installing *source* package ‘Sconify’ ...
** this is package ‘Sconify’ version ‘1.29.1’
** using staged installation
** R
** data
*** moving datasets to lazyload DB
** inst
** byte-compile and prepare package for lazy loading
Note: wrong number of arguments to '/' 
Note: wrong number of arguments to 'asinh' 
** help
*** installing help indices
** building package indices
** installing vignettes
** testing if installed package can be loaded from temporary location
** testing if installed package can be loaded from final location
** testing if installed package keeps a record of temporary installation path
* DONE (Sconify)

Tests output

Sconify.Rcheck/tests/testthat.Rout


R version 4.5.1 Patched (2025-09-10 r88807) -- "Great Square Root"
Copyright (C) 2025 The R Foundation for Statistical Computing
Platform: aarch64-apple-darwin20

R is free software and comes with ABSOLUTELY NO WARRANTY.
You are welcome to redistribute it under certain conditions.
Type 'license()' or 'licence()' for distribution details.

R is a collaborative project with many contributors.
Type 'contributors()' for more information and
'citation()' on how to cite R or R packages in publications.

Type 'demo()' for some demos, 'help()' for on-line help, or
'help.start()' for an HTML browser interface to help.
Type 'q()' to quit R.

> library(testthat)
> library(Sconify)
> 
> test_check("Sconify")
Read the 100 x 27 data matrix successfully!
Using no_dims = 2, perplexity = 30.000000, and theta = 0.500000
Computing input similarities...
Building tree...
Done in 0.00 seconds (sparsity = 0.966200)!
Learning embedding...
Iteration 50: error is 53.856400 (50 iterations in 0.01 seconds)
Iteration 100: error is 55.172505 (50 iterations in 0.01 seconds)
Iteration 150: error is 55.804381 (50 iterations in 0.01 seconds)
Iteration 200: error is 53.487805 (50 iterations in 0.01 seconds)
Iteration 250: error is 53.734176 (50 iterations in 0.01 seconds)
Iteration 300: error is 1.620511 (50 iterations in 0.00 seconds)
Iteration 350: error is 1.037821 (50 iterations in 0.00 seconds)
Iteration 400: error is 0.430932 (50 iterations in 0.00 seconds)
Iteration 450: error is 0.249825 (50 iterations in 0.00 seconds)
Iteration 500: error is 0.216581 (50 iterations in 0.00 seconds)
Iteration 550: error is 0.213651 (50 iterations in 0.00 seconds)
Iteration 600: error is 0.214800 (50 iterations in 0.00 seconds)
Iteration 650: error is 0.215244 (50 iterations in 0.00 seconds)
Iteration 700: error is 0.214193 (50 iterations in 0.00 seconds)
Iteration 750: error is 0.214487 (50 iterations in 0.00 seconds)
Iteration 800: error is 0.214009 (50 iterations in 0.00 seconds)
Iteration 850: error is 0.214429 (50 iterations in 0.00 seconds)
Iteration 900: error is 0.213911 (50 iterations in 0.00 seconds)
Iteration 950: error is 0.214958 (50 iterations in 0.00 seconds)
Iteration 1000: error is 0.215932 (50 iterations in 0.00 seconds)
Fitting performed in 0.08 seconds.
Read the 1000 x 27 data matrix successfully!
Using no_dims = 2, perplexity = 30.000000, and theta = 0.500000
Computing input similarities...
Building tree...
Done in 0.05 seconds (sparsity = 0.129120)!
Learning embedding...
Iteration 50: error is 64.220356 (50 iterations in 0.10 seconds)
Iteration 100: error is 60.793707 (50 iterations in 0.09 seconds)
Iteration 150: error is 60.363645 (50 iterations in 0.08 seconds)
Iteration 200: error is 60.216840 (50 iterations in 0.09 seconds)
Iteration 250: error is 60.150883 (50 iterations in 0.09 seconds)
Iteration 300: error is 1.337354 (50 iterations in 0.07 seconds)
Iteration 350: error is 1.225608 (50 iterations in 0.06 seconds)
Iteration 400: error is 1.197151 (50 iterations in 0.06 seconds)
Iteration 450: error is 1.187450 (50 iterations in 0.06 seconds)
Iteration 500: error is 1.180683 (50 iterations in 0.06 seconds)
Iteration 550: error is 1.175560 (50 iterations in 0.06 seconds)
Iteration 600: error is 1.170701 (50 iterations in 0.06 seconds)
Iteration 650: error is 1.164943 (50 iterations in 0.06 seconds)
Iteration 700: error is 1.160230 (50 iterations in 0.06 seconds)
Iteration 750: error is 1.156371 (50 iterations in 0.06 seconds)
Iteration 800: error is 1.155796 (50 iterations in 0.06 seconds)
Iteration 850: error is 1.156427 (50 iterations in 0.06 seconds)
Iteration 900: error is 1.155735 (50 iterations in 0.06 seconds)
Iteration 950: error is 1.154637 (50 iterations in 0.06 seconds)
Iteration 1000: error is 1.152763 (50 iterations in 0.06 seconds)
Fitting performed in 1.36 seconds.
[ FAIL 0 | WARN 2 | SKIP 0 | PASS 72 ]

[ FAIL 0 | WARN 2 | SKIP 0 | PASS 72 ]
> 
> proc.time()
   user  system elapsed 
  6.826   0.352   7.348 

Example timings

Sconify.Rcheck/Sconify-Ex.timings

nameusersystemelapsed
FcsToTibble0.0420.0000.043
Fnn0.1200.2910.419
GetKnnDe0.0390.0020.041
GetMarkerNames0.0090.0010.010
ImputeTesting1.0810.0061.089
MakeHist0.2270.0030.231
MakeKnnList0.1100.0090.118
MeaningOfLife000
ParseMarkers0.0870.0120.100
PostProcessing0.0200.0010.020
ProcessMultipleFiles0.0320.0020.033
QuantNormalizeElements0.0520.0020.055
SconeValues3.7810.1193.978
SplitFile0.0230.0000.023
StringToNumbers000
SubsampleAndTsne0.6300.0520.691
TsneVis0.0550.0020.057