Back to Multiple platform build/check report for BioC 3.22: simplified long |
|
This page was generated on 2025-10-18 12:06 -0400 (Sat, 18 Oct 2025).
Hostname | OS | Arch (*) | R version | Installed pkgs |
---|---|---|---|---|
nebbiolo2 | Linux (Ubuntu 24.04.3 LTS) | x86_64 | 4.5.1 Patched (2025-08-23 r88802) -- "Great Square Root" | 4887 |
lconway | macOS 12.7.6 Monterey | x86_64 | 4.5.1 Patched (2025-09-10 r88807) -- "Great Square Root" | 4677 |
kjohnson3 | macOS 13.7.7 Ventura | arm64 | 4.5.1 Patched (2025-09-10 r88807) -- "Great Square Root" | 4622 |
taishan | Linux (openEuler 24.03 LTS) | aarch64 | 4.5.0 (2025-04-11) -- "How About a Twenty-Six" | 4632 |
Click on any hostname to see more info about the system (e.g. compilers) (*) as reported by 'uname -p', except on Windows and Mac OS X |
Package 1765/2353 | Hostname | OS / Arch | INSTALL | BUILD | CHECK | BUILD BIN | ||||||||
ReUseData 1.9.0 (landing page) Qian Liu
| nebbiolo2 | Linux (Ubuntu 24.04.3 LTS) / x86_64 | OK | OK | OK | ![]() | ||||||||
lconway | macOS 12.7.6 Monterey / x86_64 | OK | OK | OK | OK | ![]() | ||||||||
kjohnson3 | macOS 13.7.7 Ventura / arm64 | OK | OK | OK | OK | ![]() | ||||||||
taishan | Linux (openEuler 24.03 LTS) / aarch64 | OK | OK | OK | ||||||||||
To the developers/maintainers of the ReUseData package: - Allow up to 24 hours (and sometimes 48 hours) for your latest push to git@git.bioconductor.org:packages/ReUseData.git to reflect on this report. See Troubleshooting Build Report for more information. - Use the following Renviron settings to reproduce errors and warnings. - If 'R CMD check' started to fail recently on the Linux builder(s) over a missing dependency, add the missing dependency to 'Suggests:' in your DESCRIPTION file. See Renviron.bioc for more information. |
Package: ReUseData |
Version: 1.9.0 |
Command: /Library/Frameworks/R.framework/Resources/bin/R CMD check --install=check:ReUseData.install-out.txt --library=/Library/Frameworks/R.framework/Resources/library --no-vignettes --timings ReUseData_1.9.0.tar.gz |
StartedAt: 2025-10-17 21:42:42 -0400 (Fri, 17 Oct 2025) |
EndedAt: 2025-10-17 21:43:32 -0400 (Fri, 17 Oct 2025) |
EllapsedTime: 49.5 seconds |
RetCode: 0 |
Status: OK |
CheckDir: ReUseData.Rcheck |
Warnings: 0 |
############################################################################## ############################################################################## ### ### Running command: ### ### /Library/Frameworks/R.framework/Resources/bin/R CMD check --install=check:ReUseData.install-out.txt --library=/Library/Frameworks/R.framework/Resources/library --no-vignettes --timings ReUseData_1.9.0.tar.gz ### ############################################################################## ############################################################################## * using log directory ‘/Users/biocbuild/bbs-3.22-bioc/meat/ReUseData.Rcheck’ * using R version 4.5.1 Patched (2025-09-10 r88807) * using platform: aarch64-apple-darwin20 * R was compiled by Apple clang version 16.0.0 (clang-1600.0.26.6) GNU Fortran (GCC) 14.2.0 * running under: macOS Ventura 13.7.7 * using session charset: UTF-8 * using option ‘--no-vignettes’ * checking for file ‘ReUseData/DESCRIPTION’ ... OK * this is package ‘ReUseData’ version ‘1.9.0’ * package encoding: UTF-8 * checking package namespace information ... OK * checking package dependencies ... OK * checking if this is a source package ... OK * checking if there is a namespace ... OK * checking for hidden files and directories ... NOTE Found the following hidden files and directories: .BBSoptions These were most likely included in error. See section ‘Package structure’ in the ‘Writing R Extensions’ manual. * checking for portable file names ... OK * checking for sufficient/correct file permissions ... OK * checking whether package ‘ReUseData’ can be installed ... OK * checking installed package size ... OK * checking package directory ... OK * checking ‘build’ directory ... OK * checking DESCRIPTION meta-information ... OK * checking top-level files ... OK * checking for left-over files ... OK * checking index information ... OK * checking package subdirectories ... OK * checking code files for non-ASCII characters ... OK * checking R files for syntax errors ... OK * checking whether the package can be loaded ... OK * checking whether the package can be loaded with stated dependencies ... OK * checking whether the package can be unloaded cleanly ... OK * checking whether the namespace can be loaded with stated dependencies ... OK * checking whether the namespace can be unloaded cleanly ... OK * checking dependencies in R code ... OK * checking S3 generic/method consistency ... OK * checking replacement functions ... OK * checking foreign function calls ... OK * checking R code for possible problems ... OK * checking Rd files ... OK * checking Rd metadata ... OK * checking Rd cross-references ... OK * checking for missing documentation entries ... OK * checking for code/documentation mismatches ... OK * checking Rd \usage sections ... OK * checking Rd contents ... OK * checking for unstated dependencies in examples ... OK * checking files in ‘vignettes’ ... OK * checking examples ... OK * checking for unstated dependencies in ‘tests’ ... OK * checking tests ... Running ‘testthat.R’ OK * checking for unstated dependencies in vignettes ... OK * checking package vignettes ... OK * checking running R code from vignettes ... SKIPPED * checking re-building of vignette outputs ... SKIPPED * checking PDF version of manual ... OK * DONE Status: 1 NOTE See ‘/Users/biocbuild/bbs-3.22-bioc/meat/ReUseData.Rcheck/00check.log’ for details.
ReUseData.Rcheck/00install.out
############################################################################## ############################################################################## ### ### Running command: ### ### /Library/Frameworks/R.framework/Resources/bin/R CMD INSTALL ReUseData ### ############################################################################## ############################################################################## * installing to library ‘/Library/Frameworks/R.framework/Versions/4.5-arm64/Resources/library’ * installing *source* package ‘ReUseData’ ... ** this is package ‘ReUseData’ version ‘1.9.0’ ** using staged installation ** R ** inst ** byte-compile and prepare package for lazy loading ** help *** installing help indices ** building package indices ** installing vignettes ** testing if installed package can be loaded from temporary location ** testing if installed package can be loaded from final location ** testing if installed package keeps a record of temporary installation path * DONE (ReUseData)
ReUseData.Rcheck/tests/testthat.Rout
R version 4.5.1 Patched (2025-09-10 r88807) -- "Great Square Root" Copyright (C) 2025 The R Foundation for Statistical Computing Platform: aarch64-apple-darwin20 R is free software and comes with ABSOLUTELY NO WARRANTY. You are welcome to redistribute it under certain conditions. Type 'license()' or 'licence()' for distribution details. R is a collaborative project with many contributors. Type 'contributors()' for more information and 'citation()' on how to cite R or R packages in publications. Type 'demo()' for some demos, 'help()' for on-line help, or 'help.start()' for an HTML browser interface to help. Type 'q()' to quit R. > library(testthat) > library(ReUseData) > > test_check("ReUseData") Note: you need to assign a name for the recipe: rcpName <- recipeLoad('xx') Data recipe loaded! Use inputs() to check required input parameters before evaluation. Check here: https://rcwl.org/dataRecipes/echo_out.html for user instructions (e.g., eligible input values, data source, etc.) }[1;30mINFO[0m Final process status is success Updating data record... outfile.txt added Updating data record... eab56342f192_GRCh38.primary_assembly.genome.fa.1.bt2 added eab54001db27_GRCh38.primary_assembly.genome.fa.2.bt2 added eab539dafe45_GRCh38.primary_assembly.genome.fa.3.bt2 added eab5586b81af_GRCh38.primary_assembly.genome.fa.4.bt2 added eab57a0f3582_GRCh38.primary_assembly.genome.fa.rev.1.bt2 added eab57c822868_GRCh38.primary_assembly.genome.fa.rev.2.bt2 added eab5452b03b4_outfile.txt added eab5b0041e6_GRCh37_to_GRCh38.chain added eab53de668ae_GRCh37_to_NCBI34.chain added eab561e29741_GRCh37_to_NCBI35.chain added eab563385e9b_GRCh37_to_NCBI36.chain added eab59cb4501_GRCh38_to_GRCh37.chain added eab51f49ad_GRCh38_to_NCBI34.chain added eab561dfceb_GRCh38_to_NCBI35.chain added eab51ac7ab70_GRCh38_to_NCBI36.chain added eab52ac853cc_NCBI34_to_GRCh37.chain added eab545f58c05_NCBI34_to_GRCh38.chain added eab57bbbc024_NCBI35_to_GRCh37.chain added eab56343baf2_NCBI35_to_GRCh38.chain added eab573a698c7_NCBI36_to_GRCh37.chain added eab53e786c22_NCBI36_to_GRCh38.chain added eab554034c38_GRCm38_to_NCBIM36.chain added eab524811b9f_GRCm38_to_NCBIM37.chain added eab5183c7672_NCBIM36_to_GRCm38.chain added eab5298442cc_NCBIM37_to_GRCm38.chain added eab52a3d745f_1000G_omni2.5.b37.vcf.gz added eab528a31ea3_1000G_omni2.5.b37.vcf.gz.tbi added eab56d30742c_Mills_and_1000G_gold_standard.indels.b37.vcf.gz added eab581b2cb5_Mills_and_1000G_gold_standard.indels.b37.vcf.gz.tbi added eab53014233b_1000G_omni2.5.hg38.vcf.gz added eab57a150f25_1000G_omni2.5.hg38.vcf.gz.tbi added eab57c9584c0_Mills_and_1000G_gold_standard.indels.hg38.vcf.gz added eab53c3e9926_Mills_and_1000G_gold_standard.indels.hg38.vcf.gz.tbi added eab531b8acb0_af-only-gnomad.raw.sites.vcf added eab553517050_af-only-gnomad.raw.sites.vcf.idx added eab57a4beec_Mutect2-exome-panel.vcf.idx added eab550f27bdf_Mutect2-WGS-panel-b37.vcf added eab55fa296fd_Mutect2-WGS-panel-b37.vcf.idx added eab52b66ed18_small_exac_common_3.vcf added eab57257d8ea_small_exac_common_3.vcf.idx added eab56562254b_1000g_pon.hg38.vcf.gz added eab5e7e92ed_1000g_pon.hg38.vcf.gz.tbi added eab517e00d0a_af-only-gnomad.hg38.vcf.gz added eab5767817c4_af-only-gnomad.hg38.vcf.gz.tbi added eab54660819f_small_exac_common_3.hg38.vcf.gz added eab569de11d1_small_exac_common_3.hg38.vcf.gz.tbi added eab57263e6a3_gencode.v41.annotation.gtf added eab57cbb1200_gencode.v42.annotation.gtf added eab55d9afdf9_gencode.vM30.annotation.gtf added eab56a981671_gencode.vM31.annotation.gtf added eab526e98b63_gencode.v41.transcripts.fa added eab52ebe248a_gencode.v41.transcripts.fa.fai added eab54550f7ff_gencode.v42.transcripts.fa added eab546c9a9e6_gencode.v42.transcripts.fa.fai added eab561b15f58_gencode.vM30.pc_transcripts.fa added eab543eabc83_gencode.vM30.pc_transcripts.fa.fai added eab567fe5f4a_gencode.vM31.pc_transcripts.fa added eab56d22289c_gencode.vM31.pc_transcripts.fa.fai added eab55d9851bd_GRCh38.primary_assembly.genome.fa.1.ht2 added eab53b1e7f4c_GRCh38.primary_assembly.genome.fa.2.ht2 added eab54f3774e6_GRCh38.primary_assembly.genome.fa.3.ht2 added eab541dbd0ab_GRCh38.primary_assembly.genome.fa.4.ht2 added eab54660ac54_GRCh38.primary_assembly.genome.fa.5.ht2 added eab574d1e2e4_GRCh38.primary_assembly.genome.fa.6.ht2 added eab57f8722a6_GRCh38.primary_assembly.genome.fa.7.ht2 added eab5f401b3_GRCh38.primary_assembly.genome.fa.8.ht2 added eab5139b8f42_GRCh38_full_analysis_set_plus_decoy_hla.fa.fai added eab549da401c_GRCh38_full_analysis_set_plus_decoy_hla.fa.amb added eab517a71425_GRCh38_full_analysis_set_plus_decoy_hla.fa.ann added eab55a1b9544_GRCh38_full_analysis_set_plus_decoy_hla.fa.bwt added eab548e4d193_GRCh38_full_analysis_set_plus_decoy_hla.fa.pac added eab5267b2f48_GRCh38_full_analysis_set_plus_decoy_hla.fa.sa added eab5615d33b4_GRCh38_full_analysis_set_plus_decoy_hla.fa added eab52deda05c_GRCh38.primary_assembly.genome.fa.fai added eab54bbb0f92_GRCh38.primary_assembly.genome.fa.amb added eab565fb6115_GRCh38.primary_assembly.genome.fa.ann added eab55aa2de01_GRCh38.primary_assembly.genome.fa.bwt added eab57a9d4223_GRCh38.primary_assembly.genome.fa.pac added eab56a6146b8_GRCh38.primary_assembly.genome.fa.sa added eab5186a1098_GRCh38.primary_assembly.genome.fa added eab55b6777ad_hs37d5.fa.fai added eab565e22dbc_hs37d5.fa.amb added eab56428c5e5_hs37d5.fa.ann added eab530d870c2_hs37d5.fa.bwt added eab551d2e99b_hs37d5.fa.pac added eab56de6e914_hs37d5.fa.sa added eab552d0586a_hs37d5.fa added eab56c5cc19f_complete_ref_lens.bin added eab53dabe54d_ctable.bin added eab5605b41dc_ctg_offsets.bin added eab574103f0_duplicate_clusters.tsv added eab53d698548_info.json added eab55aad5977_mphf.bin added eab52accc223_pos.bin added eab568dd9dc8_pre_indexing.log added eab52da1eb41_rank.bin added eab5615c0fce_ref_indexing.log added eab56311cf51_refAccumLengths.bin added eab5264201a7_reflengths.bin added eab5377a8e90_refseq.bin added eab54f25ac64_seq.bin added eab5325901d4_versionInfo.json added eab571871f1e_salmon_index added eab55e0c24cc_chrLength.txt added eab56f43fd50_chrName.txt added eab558abc841_chrNameLength.txt added eab575e850e1_chrStart.txt added eab567162040_exonGeTrInfo.tab added eab55d9f7e9f_exonInfo.tab added eab5123228be_geneInfo.tab added eab51b10db47_Genome added eab56fac2032_genomeParameters.txt added eab5d75ebe5_Log.out added eab538d20e4a_SA added eab566a8396a_SAindex added eab52e5192cd_sjdbInfo.txt added eab56d7ce87c_sjdbList.fromGTF.out.tab added eab523835d0c_sjdbList.out.tab added eab5551d10b_transcriptInfo.tab added eab53e732be7_GRCh38.GENCODE.v42_100 added eab57b476ab8_knownGene_hg38.sql added eab5daf9543_knownGene_hg38.txt added eab527068ba_refGene_hg38.sql added eab521eb8c96_refGene_hg38.txt added eab56f5add3f_knownGene_mm39.sql added eab536738c36_knownGene_mm39.txt added eab55bfa4927_refGene_mm39.sql added eab5cd8ce9e_refGene_mm39.txt added trying URL 'https://storage.googleapis.com/reusedata/echo/outfile.txt' Content type 'text/plain' length 30 bytes ================================================== downloaded 30 bytes trying URL 'https://storage.googleapis.com/reusedata/echo/echo_out_Hello_World!_outfile.yml' Content type 'application/x-yaml' length 151 bytes ================================================== downloaded 151 bytes trying URL 'https://storage.googleapis.com/reusedata/echo/echo_out_Hello_World!_outfile.cwl' Content type 'application/octet-stream' length 1152 bytes ================================================== downloaded 1152 bytes trying URL 'https://storage.googleapis.com/reusedata/echo/echo_out_Hello_World!_outfile.md5' Content type 'application/octet-stream' length 45 bytes ================================================== downloaded 45 bytes trying URL 'https://storage.googleapis.com/reusedata/echo/echo_out_Hello_World!_outfile.sh' Content type 'application/x-shellscript' length 68 bytes ================================================== downloaded 68 bytes Data is downloaded: /var/folders/r0/l4fjk6cj5xj0j3brt4bplpl40000gt/T//Rtmp0VxA5K/test_gcpData/outfile.txt }[1;30mINFO[0m Final process status is success NOTE: existing caches will be removed and regenerated! Updating recipes... STAR_index.R added bowtie2_index.R added echo_out.R added ensembl_liftover.R added gcp_broad_gatk_hg19.R added gcp_broad_gatk_hg38.R added gcp_gatk_mutect2_b37.R added gcp_gatk_mutect2_hg38.R added gencode_annotation.R added gencode_genome_grch38.R added gencode_transcripts.R added hisat2_index.R added reference_genome.R added salmon_index.R added ucsc_database.R added Data recipe loaded! Use inputs(ensembl_liftover) to check required input parameters before evaluation. Check here: https://rcwl.org/dataRecipes/ensembl_liftover.html for user instructions (e.g., eligible input values, data source, etc.) [ FAIL 0 | WARN 0 | SKIP 0 | PASS 44 ] > Sys.setenv(cachePath = file.path(tempdir(), "cache")) > > > > proc.time() user system elapsed 6.398 0.671 7.781
ReUseData.Rcheck/ReUseData-Ex.timings
name | user | system | elapsed | |
dataHub-class | 1.916 | 0.219 | 2.163 | |
dataSearch | 0.346 | 0.013 | 0.375 | |
dataUpdate | 0 | 0 | 0 | |
getCloudData | 0.874 | 0.055 | 2.048 | |
getData | 0.001 | 0.000 | 0.000 | |
meta_data | 0.000 | 0.000 | 0.001 | |
recipeHub-class | 0.038 | 0.005 | 0.043 | |
recipeLoad | 0.389 | 0.029 | 0.422 | |
recipeMake | 0.000 | 0.001 | 0.000 | |
recipeSearch | 0.159 | 0.009 | 0.168 | |
recipeUpdate | 0 | 0 | 0 | |