Back to Multiple platform build/check report for BioC 3.22:   simplified   long
ABCDEFGHIJKLMNOPQ[R]STUVWXYZ

This page was generated on 2025-10-20 12:05 -0400 (Mon, 20 Oct 2025).

HostnameOSArch (*)R versionInstalled pkgs
nebbiolo2Linux (Ubuntu 24.04.3 LTS)x86_644.5.1 Patched (2025-08-23 r88802) -- "Great Square Root" 4887
lconwaymacOS 12.7.6 Montereyx86_644.5.1 Patched (2025-09-10 r88807) -- "Great Square Root" 4677
kjohnson3macOS 13.7.7 Venturaarm644.5.1 Patched (2025-09-10 r88807) -- "Great Square Root" 4622
taishanLinux (openEuler 24.03 LTS)aarch644.5.0 (2025-04-11) -- "How About a Twenty-Six" 4632
Click on any hostname to see more info about the system (e.g. compilers)      (*) as reported by 'uname -p', except on Windows and Mac OS X

Package 1730/2353HostnameOS / ArchINSTALLBUILDCHECKBUILD BIN
RCy3 2.29.2  (landing page)
Alex Pico
Snapshot Date: 2025-10-19 13:45 -0400 (Sun, 19 Oct 2025)
git_url: https://git.bioconductor.org/packages/RCy3
git_branch: devel
git_last_commit: b195f53
git_last_commit_date: 2025-10-13 20:16:19 -0400 (Mon, 13 Oct 2025)
nebbiolo2Linux (Ubuntu 24.04.3 LTS) / x86_64  OK    OK    OK  UNNEEDED, same version is already published
lconwaymacOS 12.7.6 Monterey / x86_64  OK    OK    OK    OK  UNNEEDED, same version is already published
kjohnson3macOS 13.7.7 Ventura / arm64  OK    OK    OK    OK  UNNEEDED, same version is already published
taishanLinux (openEuler 24.03 LTS) / aarch64  OK    OK    OK  


CHECK results for RCy3 on lconway

To the developers/maintainers of the RCy3 package:
- Allow up to 24 hours (and sometimes 48 hours) for your latest push to git@git.bioconductor.org:packages/RCy3.git to reflect on this report. See Troubleshooting Build Report for more information.
- Use the following Renviron settings to reproduce errors and warnings.
- If 'R CMD check' started to fail recently on the Linux builder(s) over a missing dependency, add the missing dependency to 'Suggests:' in your DESCRIPTION file. See Renviron.bioc for more information.

raw results


Summary

Package: RCy3
Version: 2.29.2
Command: /Library/Frameworks/R.framework/Resources/bin/R CMD check --install=check:RCy3.install-out.txt --library=/Library/Frameworks/R.framework/Resources/library --no-vignettes --timings RCy3_2.29.2.tar.gz
StartedAt: 2025-10-20 01:01:45 -0400 (Mon, 20 Oct 2025)
EndedAt: 2025-10-20 01:03:28 -0400 (Mon, 20 Oct 2025)
EllapsedTime: 103.3 seconds
RetCode: 0
Status:   OK  
CheckDir: RCy3.Rcheck
Warnings: 0

Command output

##############################################################################
##############################################################################
###
### Running command:
###
###   /Library/Frameworks/R.framework/Resources/bin/R CMD check --install=check:RCy3.install-out.txt --library=/Library/Frameworks/R.framework/Resources/library --no-vignettes --timings RCy3_2.29.2.tar.gz
###
##############################################################################
##############################################################################


* using log directory ‘/Users/biocbuild/bbs-3.22-bioc/meat/RCy3.Rcheck’
* using R version 4.5.1 Patched (2025-09-10 r88807)
* using platform: x86_64-apple-darwin20
* R was compiled by
    Apple clang version 14.0.0 (clang-1400.0.29.202)
    GNU Fortran (GCC) 14.2.0
* running under: macOS Monterey 12.7.6
* using session charset: UTF-8
* using option ‘--no-vignettes’
* checking for file ‘RCy3/DESCRIPTION’ ... OK
* checking extension type ... Package
* this is package ‘RCy3’ version ‘2.29.2’
* package encoding: UTF-8
* checking package namespace information ... OK
* checking package dependencies ... OK
* checking if this is a source package ... OK
* checking if there is a namespace ... OK
* checking for hidden files and directories ... NOTE
Found the following hidden files and directories:
  .travis.yml
These were most likely included in error. See section ‘Package
structure’ in the ‘Writing R Extensions’ manual.
* checking for portable file names ... OK
* checking for sufficient/correct file permissions ... OK
* checking whether package ‘RCy3’ can be installed ... OK
* checking installed package size ... OK
* checking package directory ... OK
* checking ‘build’ directory ... OK
* checking DESCRIPTION meta-information ... NOTE
License stub is invalid DCF.
* checking top-level files ... OK
* checking for left-over files ... OK
* checking index information ... OK
* checking package subdirectories ... OK
* checking code files for non-ASCII characters ... OK
* checking R files for syntax errors ... OK
* checking whether the package can be loaded ... OK
* checking whether the package can be loaded with stated dependencies ... OK
* checking whether the package can be unloaded cleanly ... OK
* checking whether the namespace can be loaded with stated dependencies ... OK
* checking whether the namespace can be unloaded cleanly ... OK
* checking dependencies in R code ... OK
* checking S3 generic/method consistency ... OK
* checking replacement functions ... OK
* checking foreign function calls ... OK
* checking R code for possible problems ... NOTE
.checkHexColor: no visible global function definition for ‘colors’
.edgeNameToEdgeSUID: no visible binding for global variable ‘SUID’
.nodeNameToNodeSUID: no visible binding for global variable ‘SUID’
createNetworkFromDataFrames: no visible binding for global variable
  ‘SUID’
Undefined global functions or variables:
  SUID colors
Consider adding
  importFrom("grDevices", "colors")
to your NAMESPACE file.
* checking Rd files ... NOTE
checkRd: (-1) importFileFromUrl.Rd:24: Lost braces; missing escapes or markup?
    24 | dict: {'filePath': <new file's absolute path in Cytoscape workstation>, 'fileByteCount': number of bytes read}
       |       ^
checkRd: (-1) sandboxGetFileInfo.Rd:17: Lost braces; missing escapes or markup?
    17 | dict: {'filePath': <full path on Cytoscape workstation>, 'modifiedTime': <last changed time, '' if file doesn't exist>, 'isFile': <True if file, False if directory>}
       |       ^
checkRd: (-1) sandboxRemove.Rd:15: Lost braces; missing escapes or markup?
    15 | dict: {'sandboxPath': <directory on Cytoscape workstation>, 'existed': <True if sandbox existed>}
       |       ^
checkRd: (-1) sandboxRemoveFile.Rd:17: Lost braces; missing escapes or markup?
    17 | dict: {'filePath': <file's absolute path in Cytoscape workstation>, 'existed': True if file existed before being deleted}
       |       ^
checkRd: (-1) sandboxUrlTo.Rd:27: Lost braces; missing escapes or markup?
    27 | dict: {'filePath': <new file's absolute path in Cytoscape workstation>, 'fileByteCount': number of bytes read}
       |       ^
* checking Rd metadata ... OK
* checking Rd cross-references ... OK
* checking for missing documentation entries ... OK
* checking for code/documentation mismatches ... OK
* checking Rd \usage sections ... OK
* checking Rd contents ... OK
* checking for unstated dependencies in examples ... OK
* checking files in ‘vignettes’ ... OK
* checking examples ... OK
* checking for unstated dependencies in ‘tests’ ... OK
* checking tests ...
  Running ‘runTests.R’
 OK
* checking for unstated dependencies in vignettes ... OK
* checking package vignettes ... OK
* checking running R code from vignettes ... SKIPPED
* checking re-building of vignette outputs ... SKIPPED
* checking PDF version of manual ... OK
* DONE

Status: 4 NOTEs
See
  ‘/Users/biocbuild/bbs-3.22-bioc/meat/RCy3.Rcheck/00check.log’
for details.


Installation output

RCy3.Rcheck/00install.out

##############################################################################
##############################################################################
###
### Running command:
###
###   /Library/Frameworks/R.framework/Resources/bin/R CMD INSTALL RCy3
###
##############################################################################
##############################################################################


* installing to library ‘/Library/Frameworks/R.framework/Versions/4.5-x86_64/Resources/library’
* installing *source* package ‘RCy3’ ...
** this is package ‘RCy3’ version ‘2.29.2’
** using staged installation
** R
** inst
** byte-compile and prepare package for lazy loading
** help
*** installing help indices
** building package indices
** installing vignettes
** testing if installed package can be loaded from temporary location
** testing if installed package can be loaded from final location
** testing if installed package keeps a record of temporary installation path
* DONE (RCy3)

Tests output

RCy3.Rcheck/tests/runTests.Rout


R version 4.5.1 Patched (2025-09-10 r88807) -- "Great Square Root"
Copyright (C) 2025 The R Foundation for Statistical Computing
Platform: x86_64-apple-darwin20

R is free software and comes with ABSOLUTELY NO WARRANTY.
You are welcome to redistribute it under certain conditions.
Type 'license()' or 'licence()' for distribution details.

R is a collaborative project with many contributors.
Type 'contributors()' for more information and
'citation()' on how to cite R or R packages in publications.

Type 'demo()' for some demos, 'help()' for on-line help, or
'help.start()' for an HTML browser interface to help.
Type 'q()' to quit R.

> # tests disabled as the Bioconductor build system no longer supports interactive sessions
> #require(RCy3) || stop("unable to load RCy3")
> #BiocGenerics:::testPackage('RCy3')
> 
> proc.time()
   user  system elapsed 
  0.198   0.083   0.288 

Example timings

RCy3.Rcheck/RCy3-Ex.timings

nameusersystemelapsed
AddToGroup000
RemoveFromGroup0.0000.0010.000
UpdateAnnotationBoundedText0.0000.0010.000
addAnnotationBoundedText0.0000.0000.001
addAnnotationImage0.0000.0010.001
addAnnotationShape000
addAnnotationText000
addCyEdges0.0010.0000.001
addCyNodes000
analyzeNetwork0.0000.0010.000
applyFilter000
bundleEdges0.0000.0000.001
checkNotebookIsRunning0.0000.0000.001
checkRunningRemote000
clearEdgeBends000
clearEdgePropertyBypass0.0000.0000.001
clearNetworkCenterBypass0.0000.0000.001
clearNetworkPropertyBypass000
clearNetworkZoomBypass0.0000.0010.000
clearNodeOpacityBypass000
clearNodePropertyBypass000
clearSelection000
cloneNetwork0.0000.0000.001
closeSession0.0010.0000.001
collapseGroup000
commandEcho0.0000.0010.000
commandOpenDialog000
commandPause000
commandQuit000
commandRunFile0.0000.0000.001
commandSleep000
commandsAPI000
commandsGET000
commandsHelp0.0000.0000.001
commandsPOST000
commandsRun000
copyVisualStyle000
createColumnFilter0.0000.0010.001
createCompositeFilter000
createCytoscapejsFromNetwork000
createDegreeFilter0.0000.0010.001
createGraphFromNetwork000
createGroup000
createGroupByColumn0.0000.0000.001
createIgraphFromNetwork000
createNetworkFromCytoscapejs000
createNetworkFromDataFrames000
createNetworkFromGraph000
createNetworkFromIgraph0.0000.0000.001
createSubnetwork0.0000.0010.000
createView000
createVisualStyle000
cybrowserClose000
cybrowserDialog0.0000.0010.000
cybrowserHide000
cybrowserList000
cybrowserSend0.0000.0010.000
cybrowserShow000
cybrowserVersion000
cyrestAPI0.0000.0000.001
cyrestDELETE0.0000.0000.001
cyrestGET000
cyrestPOST000
cyrestPUT000
cytoscapeApiVersions000
cytoscapeFreeMemory000
cytoscapeMemoryStatus0.0000.0010.000
cytoscapeNumberOfCores000
cytoscapePing0.0010.0000.001
cytoscapeVersionInfo000
deleteAllNetworks000
deleteAllVisualStyle000
deleteAnnotation000
deleteDuplicateEdges000
deleteGroup0.0000.0000.001
deleteNetwork000
deleteSelectedEdges000
deleteSelectedNodes000
deleteSelfLoops000
deleteStyleMapping0.0000.0000.001
deleteTableColumn000
deleteVisualStyle0.0000.0010.000
diffusionAdvanced000
diffusionBasic000
disableApp000
doInitializeSandbox000
doRequestRemote0.0000.0010.000
doSetSandbox000
dockPanel0.0000.0010.000
dot-exportShowImage0.0000.0000.001
dot-getDefaultSandbox000
dot-getRequester000
enableApp000
expandGroup000
exportFilters000
exportImage0.0000.0010.000
exportJPG0.0000.0000.001
exportNetwork000
exportNetworkToNDEx000
exportPDF000
exportPNG000
exportPS000
exportSVG000
exportVisualStyles000
findRemoteCytoscape000
fitContent0.0000.0010.001
floatPanel0.0000.0000.001
getAbsSandboxPath000
getAllEdges000
getAllNodes000
getAllStyleMappings000
getAnnotationList000
getAppInformation000
getAppStatus000
getAppUpdates0.0000.0000.001
getArrowShapes0.0000.0000.001
getAvailableApps000
getBackgroundColorDefault0.0000.0010.000
getBrowserClientChannel0.0010.0000.000
getBrowserClientJs0.0000.0010.000
getCollectionList000
getCollectionName000
getCollectionNetworks000
getCollectionSuid000
getCurrentSandbox0.0000.0010.000
getCurrentSandboxName0.0000.0000.001
getCurrentSandboxPath000
getCurrentStyle000
getDefaultSandbox000
getDefaultSandboxPath0.0000.0000.001
getDisabledApps000
getEdgeColor000
getEdgeCount000
getEdgeInfo000
getEdgeLineStyle0.0000.0000.001
getEdgeLineWidth0.0000.0000.001
getEdgeProperty000
getEdgeSelectionColorDefault0.0010.0000.000
getEdgeTargetArrowShape000
getFilterList000
getFirstNeighbors000
getGroupInfo000
getInstalledApps0.0000.0000.001
getJupyterBridgeURL0.0000.0010.000
getLayoutNameMapping000
getLayoutNames000
getLayoutPropertyNames000
getLayoutPropertyType000
getLayoutPropertyValue000
getLineStyles000
getNetworkCenter0.0000.0000.001
getNetworkCount000
getNetworkList0.0000.0010.000
getNetworkNDExId0.0010.0000.000
getNetworkName000
getNetworkProperty000
getNetworkSuid000
getNetworkViewSuid000
getNetworkViews0.0000.0000.001
getNetworkZoom0.0000.0000.001
getNodeColor0.0000.0000.001
getNodeCount000
getNodeHeight000
getNodeLabelPosition0.0010.0000.000
getNodeLabelPositionDefault000
getNodePosition000
getNodeProperty000
getNodeSelectionColorDefault000
getNodeShapes0.0000.0010.001
getNodeSize000
getNodeWidth000
getNotebookIsRunning000
getSandboxReinitialize000
getSelectedEdgeCount000
getSelectedEdges000
getSelectedNodeCount000
getSelectedNodes000
getStyleDependencies0.0000.0010.000
getStyleMapping000
getTableColumnNames0.0000.0010.000
getTableColumnTypes000
getTableColumns000
getTableValue000
getUninstalledApps000
getVisualPropertyDefault000
getVisualPropertyNames0.0000.0010.001
getVisualStyleJSON0.0000.0000.001
getVisualStyleNames000
groupAnnotation0.0000.0000.001
hideAllPanels0.0000.0010.001
hideEdges000
hideNodes0.0000.0010.000
hidePanel0.0010.0000.001
hideSelectedEdges0.0000.0000.001
hideSelectedNodes000
importFileFromUrl0.0000.0000.001
importFilters0.0000.0000.001
importNetworkFromFile0.0000.0000.001
importNetworkFromNDEx000
importVisualStyles0.0000.0000.001
installApp0.0000.0000.001
invertEdgeSelection0.0000.0000.001
invertNodeSelection000
layoutCopycat000
layoutNetwork000
listGroups0.0000.0000.001
lockNodeDimensions000
makeSimpleGraph0.0750.0010.078
makeSimpleIgraph0.0870.0090.097
mapTableColumn000
mapVisualProperty000
matchArrowColorToEdge000
mergeNetworks0.0000.0000.001
notebookExportShowImage000
notebookShowImage000
openAppStore000
openSession0.0000.0010.000
paletteColorBrewerAccent0.0040.0010.006
paletteColorBrewerBlues000
paletteColorBrewerBrBG0.0000.0000.001
paletteColorBrewerBuGn000
paletteColorBrewerBuPu000
paletteColorBrewerDark20.0010.0000.000
paletteColorBrewerGnBu0.0000.0000.001
paletteColorBrewerGreens0.0000.0000.001
paletteColorBrewerGreys0.0000.0010.000
paletteColorBrewerOrRd0.0010.0000.001
paletteColorBrewerOranges000
paletteColorBrewerPRGn0.0000.0010.000
paletteColorBrewerPaired0.0000.0000.001
paletteColorBrewerPastel1000
paletteColorBrewerPastel2000
paletteColorBrewerPiYG0.0000.0000.001
paletteColorBrewerPuBu0.0000.0010.000
paletteColorBrewerPuBuGn0.0000.0000.001
paletteColorBrewerPuOr000
paletteColorBrewerPuRd0.0010.0000.000
paletteColorBrewerPurples0.0000.0000.001
paletteColorBrewerRdBu000
paletteColorBrewerRdPu000
paletteColorBrewerRdYlBu000
paletteColorBrewerReds0.0000.0000.001
paletteColorBrewerSet10.0010.0010.000
paletteColorBrewerSet2000
paletteColorBrewerSet30.0000.0000.001
paletteColorBrewerYlGn0.0010.0000.000
paletteColorBrewerYlGnBu0.0000.0000.001
paletteColorBrewerYlOrBr000
paletteColorBrewerYlOrRd0.0000.0010.001
paletteColorRandom0.0010.0000.000
paletteColorVirdis000
removeNodeCustomGraphics0.0000.0010.001
renameNetwork000
renameTableColumn000
resetDefaultSandbox000
rotateLayout000
runningRemoteCheck000
sandboxGetFileInfo000
sandboxGetFrom000
sandboxInitializer000
sandboxRemove0.0000.0000.001
sandboxRemoveFile000
sandboxSendTo000
sandboxSet0.0000.0000.001
sandboxUrlTo000
saveSession0.0010.0000.000
scaleLayout0.0000.0010.000
selectAll000
selectAllEdges000
selectAllNodes0.0000.0000.001
selectEdges000
selectEdgesAdjacentToNodes000
selectEdgesAdjacentToSelectedNodes000
selectEdgesConnectingSelectedNodes000
selectFirstNeighbors000
selectNodes0.0000.0000.001
selectNodesConnectedBySelectedEdges000
setBackgroundColorDefault0.0000.0000.001
setCatchupFilterSecs0.0000.0000.001
setCatchupNetworkSecs0.0000.0000.001
setCollectionName0.0000.0000.001
setCurrentNetwork000
setCurrentSandbox000
setCurrentView0.0010.0000.000
setDefaultSandbox0.0000.0010.000
setDefaultSandboxPath0.0000.0000.001
setEdgeColorBypass000
setEdgeColorDefault000
setEdgeColorMapping000
setEdgeFontFaceBypass000
setEdgeFontFaceDefault0.0000.0010.000
setEdgeFontFaceMapping000
setEdgeFontSizeBypass000
setEdgeFontSizeDefault0.0010.0000.000
setEdgeFontSizeMapping000
setEdgeLabelBypass0.0000.0010.000
setEdgeLabelColorBypass000
setEdgeLabelColorDefault0.0000.0010.000
setEdgeLabelColorMapping000
setEdgeLabelDefault000
setEdgeLabelMapping000
setEdgeLabelOpacityBypass000
setEdgeLabelOpacityDefault000
setEdgeLabelOpacityMapping000
setEdgeLineStyleBypass000
setEdgeLineStyleDefault000
setEdgeLineStyleMapping0.0000.0010.001
setEdgeLineWidthBypass000
setEdgeLineWidthDefault000
setEdgeLineWidthMapping000
setEdgeOpacityBypass000
setEdgeOpacityDefault0.0000.0010.000
setEdgeOpacityMapping000
setEdgePropertyBypass0.0000.0010.001
setEdgeSelectionColorDefault0.0010.0000.000
setEdgeSourceArrowColorBypass000
setEdgeSourceArrowColorDefault000
setEdgeSourceArrowColorMapping000
setEdgeSourceArrowMapping000
setEdgeSourceArrowShapeBypass000
setEdgeSourceArrowShapeDefault0.0000.0010.001
setEdgeSourceArrowShapeMapping0.0010.0000.000
setEdgeTargetArrowColorBypass0.0000.0010.000
setEdgeTargetArrowColorDefault000
setEdgeTargetArrowColorMapping000
setEdgeTargetArrowMapping000
setEdgeTargetArrowShapeBypass000
setEdgeTargetArrowShapeDefault000
setEdgeTargetArrowShapeMapping000
setEdgeTooltipBypass000
setEdgeTooltipDefault000
setEdgeTooltipMapping000
setLayoutProperties000
setModelPropagationSecs000
setNetworkCenterBypass0.0000.0000.001
setNetworkPropertyBypass0.0000.0000.001
setNetworkZoomBypass0.0010.0000.000
setNodeBorderColorBypass0.0000.0010.000
setNodeBorderColorDefault000
setNodeBorderColorMapping0.0000.0010.000
setNodeBorderOpacityBypass000
setNodeBorderOpacityDefault000
setNodeBorderOpacityMapping000
setNodeBorderWidthBypass000
setNodeBorderWidthDefault000
setNodeBorderWidthMapping000
setNodeColorBypass000
setNodeColorDefault0.0000.0010.000
setNodeColorMapping0.0000.0000.001
setNodeComboOpacityMapping000
setNodeCustomBarChart000
setNodeCustomBoxChart000
setNodeCustomHeatMapChart0.0000.0010.000
setNodeCustomLineChart0.0000.0000.001
setNodeCustomLinearGradient000
setNodeCustomPieChart000
setNodeCustomPosition000
setNodeCustomRadialGradient000
setNodeCustomRingChart000
setNodeFillOpacityBypass000
setNodeFillOpacityDefault000
setNodeFillOpacityMapping0.0010.0000.001
setNodeFontFaceBypass0.0000.0000.001
setNodeFontFaceDefault0.0010.0000.001
setNodeFontFaceMapping0.0000.0000.001
setNodeFontSizeBypass000
setNodeFontSizeDefault000
setNodeFontSizeMapping0.0000.0010.000
setNodeHeightBypass000
setNodeHeightDefault000
setNodeHeightMapping000
setNodeLabelBypass000
setNodeLabelColorBypass000
setNodeLabelColorDefault000
setNodeLabelColorMapping0.0000.0010.000
setNodeLabelDefault0.0010.0000.000
setNodeLabelMapping000
setNodeLabelOpacityBypass000
setNodeLabelOpacityDefault000
setNodeLabelOpacityMapping000
setNodeLabelPositionBypass0.0000.0000.001
setNodeLabelPositionDefault000
setNodeOpacityBypass0.0000.0000.001
setNodePositionBypass000
setNodePropertyBypass000
setNodeSelectionColorDefault000
setNodeShapeBypass000
setNodeShapeDefault000
setNodeShapeMapping000
setNodeSizeBypass000
setNodeSizeDefault000
setNodeSizeMapping000
setNodeTooltipBypass0.0010.0000.000
setNodeTooltipDefault000
setNodeTooltipMapping000
setNodeWidthBypass000
setNodeWidthDefault0.0000.0000.001
setNodeWidthMapping0.0000.0010.000
setNotebookIsRunning000
setSandboxReinitialize000
setStyleDependencies000
setVisualPropertyDefault000
setVisualStyle000
syncNodeCustomGraphicsSize000
toggleGraphicsDetails000
ungroupAnnotation0.0000.0000.001
unhideAll0.0000.0000.001
unhideEdges0.0000.0000.001
unhideNodes0.0000.0000.001
uninstallApp000
updateAnnotationImage000
updateAnnotationShape000
updateAnnotationText000
updateApp000
updateGroupAnnotation000
updateNetworkInNDEx000
updateStyleDefaults0.0000.0000.001
updateStyleMapping000