Back to Multiple platform build/check report for BioC 3.22:   simplified   long
ABCDEFGHIJKLMNO[P]QRSTUVWXYZ

This page was generated on 2025-10-18 12:05 -0400 (Sat, 18 Oct 2025).

HostnameOSArch (*)R versionInstalled pkgs
nebbiolo2Linux (Ubuntu 24.04.3 LTS)x86_644.5.1 Patched (2025-08-23 r88802) -- "Great Square Root" 4887
lconwaymacOS 12.7.6 Montereyx86_644.5.1 Patched (2025-09-10 r88807) -- "Great Square Root" 4677
kjohnson3macOS 13.7.7 Venturaarm644.5.1 Patched (2025-09-10 r88807) -- "Great Square Root" 4622
taishanLinux (openEuler 24.03 LTS)aarch644.5.0 (2025-04-11) -- "How About a Twenty-Six" 4632
Click on any hostname to see more info about the system (e.g. compilers)      (*) as reported by 'uname -p', except on Windows and Mac OS X

Package 1588/2353HostnameOS / ArchINSTALLBUILDCHECKBUILD BIN
PhyloProfile 2.1.12  (landing page)
Vinh Tran
Snapshot Date: 2025-10-17 13:45 -0400 (Fri, 17 Oct 2025)
git_url: https://git.bioconductor.org/packages/PhyloProfile
git_branch: devel
git_last_commit: f3488bd
git_last_commit_date: 2025-10-10 13:16:29 -0400 (Fri, 10 Oct 2025)
nebbiolo2Linux (Ubuntu 24.04.3 LTS) / x86_64  OK    OK    OK  UNNEEDED, same version is already published
lconwaymacOS 12.7.6 Monterey / x86_64  OK    OK    OK    OK  UNNEEDED, same version is already published
kjohnson3macOS 13.7.7 Ventura / arm64  OK    OK    OK    OK  UNNEEDED, same version is already published
taishanLinux (openEuler 24.03 LTS) / aarch64  OK    OK    OK  


CHECK results for PhyloProfile on lconway

To the developers/maintainers of the PhyloProfile package:
- Allow up to 24 hours (and sometimes 48 hours) for your latest push to git@git.bioconductor.org:packages/PhyloProfile.git to reflect on this report. See Troubleshooting Build Report for more information.
- Use the following Renviron settings to reproduce errors and warnings.
- If 'R CMD check' started to fail recently on the Linux builder(s) over a missing dependency, add the missing dependency to 'Suggests:' in your DESCRIPTION file. See Renviron.bioc for more information.

raw results


Summary

Package: PhyloProfile
Version: 2.1.12
Command: /Library/Frameworks/R.framework/Resources/bin/R CMD check --install=check:PhyloProfile.install-out.txt --library=/Library/Frameworks/R.framework/Resources/library --no-vignettes --timings PhyloProfile_2.1.12.tar.gz
StartedAt: 2025-10-18 00:30:00 -0400 (Sat, 18 Oct 2025)
EndedAt: 2025-10-18 00:33:39 -0400 (Sat, 18 Oct 2025)
EllapsedTime: 219.1 seconds
RetCode: 0
Status:   OK  
CheckDir: PhyloProfile.Rcheck
Warnings: 0

Command output

##############################################################################
##############################################################################
###
### Running command:
###
###   /Library/Frameworks/R.framework/Resources/bin/R CMD check --install=check:PhyloProfile.install-out.txt --library=/Library/Frameworks/R.framework/Resources/library --no-vignettes --timings PhyloProfile_2.1.12.tar.gz
###
##############################################################################
##############################################################################


* using log directory ‘/Users/biocbuild/bbs-3.22-bioc/meat/PhyloProfile.Rcheck’
* using R version 4.5.1 Patched (2025-09-10 r88807)
* using platform: x86_64-apple-darwin20
* R was compiled by
    Apple clang version 14.0.0 (clang-1400.0.29.202)
    GNU Fortran (GCC) 14.2.0
* running under: macOS Monterey 12.7.6
* using session charset: UTF-8
* using option ‘--no-vignettes’
* checking for file ‘PhyloProfile/DESCRIPTION’ ... OK
* this is package ‘PhyloProfile’ version ‘2.1.12’
* package encoding: UTF-8
* checking package namespace information ... OK
* checking package dependencies ... INFO
Imports includes 31 non-default packages.
Importing from so many packages makes the package vulnerable to any of
them becoming unavailable.  Move as many as possible to Suggests and
use conditionally.
* checking if this is a source package ... OK
* checking if there is a namespace ... OK
* checking for hidden files and directories ... OK
* checking for portable file names ... OK
* checking for sufficient/correct file permissions ... OK
* checking whether package ‘PhyloProfile’ can be installed ... OK
* checking installed package size ... OK
* checking package directory ... OK
* checking ‘build’ directory ... OK
* checking DESCRIPTION meta-information ... OK
* checking top-level files ... OK
* checking for left-over files ... OK
* checking index information ... OK
* checking package subdirectories ... OK
* checking code files for non-ASCII characters ... OK
* checking R files for syntax errors ... OK
* checking whether the package can be loaded ... OK
* checking whether the package can be loaded with stated dependencies ... OK
* checking whether the package can be unloaded cleanly ... OK
* checking whether the namespace can be loaded with stated dependencies ... OK
* checking whether the namespace can be unloaded cleanly ... OK
* checking dependencies in R code ... OK
* checking S3 generic/method consistency ... OK
* checking replacement functions ... OK
* checking foreign function calls ... OK
* checking R code for possible problems ... OK
* checking Rd files ... OK
* checking Rd metadata ... OK
* checking Rd cross-references ... OK
* checking for missing documentation entries ... OK
* checking for code/documentation mismatches ... OK
* checking Rd \usage sections ... OK
* checking Rd contents ... OK
* checking for unstated dependencies in examples ... OK
* checking contents of ‘data’ directory ... OK
* checking data for non-ASCII characters ... OK
* checking data for ASCII and uncompressed saves ... OK
* checking files in ‘vignettes’ ... OK
* checking examples ... OK
Examples with CPU (user + system) or elapsed time > 5s
                     user system elapsed
heatmapPlottingFast 4.942  0.243   4.961
* checking for unstated dependencies in ‘tests’ ... OK
* checking tests ...
  Running ‘testthat.R’
 OK
* checking for unstated dependencies in vignettes ... OK
* checking package vignettes ... OK
* checking running R code from vignettes ... SKIPPED
* checking re-building of vignette outputs ... SKIPPED
* checking PDF version of manual ... OK
* DONE

Status: OK


Installation output

PhyloProfile.Rcheck/00install.out

##############################################################################
##############################################################################
###
### Running command:
###
###   /Library/Frameworks/R.framework/Resources/bin/R CMD INSTALL PhyloProfile
###
##############################################################################
##############################################################################


* installing to library ‘/Library/Frameworks/R.framework/Versions/4.5-x86_64/Resources/library’
* installing *source* package ‘PhyloProfile’ ...
** this is package ‘PhyloProfile’ version ‘2.1.12’
** using staged installation
** R
** data
** inst
** byte-compile and prepare package for lazy loading
** help
*** installing help indices
** building package indices
** installing vignettes
** testing if installed package can be loaded from temporary location
** testing if installed package can be loaded from final location
** testing if installed package keeps a record of temporary installation path
* DONE (PhyloProfile)

Tests output

PhyloProfile.Rcheck/tests/testthat.Rout


R version 4.5.1 Patched (2025-09-10 r88807) -- "Great Square Root"
Copyright (C) 2025 The R Foundation for Statistical Computing
Platform: x86_64-apple-darwin20

R is free software and comes with ABSOLUTELY NO WARRANTY.
You are welcome to redistribute it under certain conditions.
Type 'license()' or 'licence()' for distribution details.

R is a collaborative project with many contributors.
Type 'contributors()' for more information and
'citation()' on how to cite R or R packages in publications.

Type 'demo()' for some demos, 'help()' for on-line help, or
'help.start()' for an HTML browser interface to help.
Type 'q()' to quit R.

> library(testthat)
> library(PhyloProfile)
> 
> test_check("PhyloProfile")
[ FAIL 0 | WARN 0 | SKIP 0 | PASS 22 ]
> 
> proc.time()
   user  system elapsed 
  8.839   0.657   9.554 

Example timings

PhyloProfile.Rcheck/PhyloProfile-Ex.timings

nameusersystemelapsed
addDimRedTaxaColors0.9100.0410.961
addFeatureColors0.0350.0040.040
addRankDivisionPlot1.8450.0411.896
calcPresSpec0.0440.0020.047
checkColorPalette0.0010.0000.001
checkInputValidity0.0050.0010.006
checkNewick0.0030.0010.004
checkOmaID000
checkOverlapDomains0.0170.0010.018
clusterDataDend0.0220.0020.024
compareMedianTaxonGroups0.0260.0040.029
compareTaxonGroups0.0320.0040.036
createArchiPlot2.7530.0442.821
createDimRedPlotData0.7650.0220.793
createGeneAgePlot0.3870.0040.394
createLongMatrix0.0180.0080.026
createPercentageDistributionData0.0820.0140.098
createProfileFromOma000
createUnrootedTree0.0160.0010.017
createVarDistPlot0.3110.0040.316
createVariableDistributionData0.0080.0030.012
createVariableDistributionDataSubset0.0070.0020.008
dataCustomizedPlot0.0330.0030.036
dataFeatureTaxGroup0.0150.0020.018
dataMainPlot0.0320.0080.040
dataVarDistTaxGroup0.0050.0020.007
dimReduction0.7110.0130.728
estimateGeneAge0.1490.0140.164
fastaParser0.0310.0020.033
featureDistTaxPlot0.4190.0050.427
filterProfileData0.1300.0290.161
fromInputToProfile0.2050.0110.218
geneAgePlotDf0.0120.0000.012
generateSinglePlot0.5900.0060.598
getAllDomainsOma000
getAllFastaOma000
getCommonAncestor0.0360.0040.041
getCoreGene0.1060.0110.118
getDataClustering0.0190.0020.021
getDataForOneOma0.0010.0000.000
getDendrogram0.0520.0030.055
getDistanceMatrix0.0220.0020.025
getDomainFolder0.0010.0000.001
getFastaFromFasInput0.0170.0010.018
getFastaFromFile0.0100.0010.012
getFastaFromFolder0.0080.0010.010
getIDsRank0.0220.0030.025
getInputTaxaID0.0030.0020.004
getInputTaxaName0.0130.0030.016
getNameList0.0200.0250.046
getOmaDataForOneOrtholog0.0000.0010.001
getOmaDomainFromURL000
getOmaMembers000
getQualColForVector000
getSelectedFastaOma000
getSelectedTaxonNames0.0220.0050.027
getTaxHierarchy0.0180.0020.020
getTaxonomyInfo0.0150.0020.017
getTaxonomyMatrix0.1210.0830.209
getTaxonomyRanks0.0000.0000.001
gridArrangeSharedLegend0.0000.0000.001
groupLabelDimRedData0.0630.0080.071
heatmapPlotting0.5120.0060.524
heatmapPlottingFast4.9420.2434.961
highlightProfilePlot0.5790.0300.612
id2name0.0050.0010.006
joinPlotMergeLegends0.9940.0111.012
linearizeArchitecture0.0120.0010.012
mainTaxonomyRank0.0010.0010.001
modifyFeatureName0.0180.0130.033
pairDomainPlotting0.7330.0090.748
parseDomainInput0.0160.0130.030
parseInfoProfile0.1320.0110.144
plotDimRed1.3970.0221.428
plotDimRed3D1.0360.0921.179
prepareDimRedData0.0600.0060.067
processNcbiTaxonomy0.0000.0000.001
processOrthoID0.1320.0800.281
qualitativeColours000
rankIndexing0.0430.0010.047
reduceProfile0.0820.0030.086
resolveOverlapFeatures0.0160.0010.017
runPhyloProfile0.0910.0480.164
singleDomainPlotting0.2840.0040.290
sortDomains0.0090.0010.011
sortDomainsByList0.0110.0020.012
sortInputTaxa0.0310.0070.037
sortTaxaFromTree0.0110.0010.012
taxonomyTableCreator0.1520.0060.160
varDistTaxPlot1.1640.0071.174
wideToLong0.0110.0070.018
xmlParser0.0170.0020.020