| Back to Multiple platform build/check report for BioC 3.22: simplified long |
|
This page was generated on 2025-10-20 12:05 -0400 (Mon, 20 Oct 2025).
| Hostname | OS | Arch (*) | R version | Installed pkgs |
|---|---|---|---|---|
| nebbiolo2 | Linux (Ubuntu 24.04.3 LTS) | x86_64 | 4.5.1 Patched (2025-08-23 r88802) -- "Great Square Root" | 4887 |
| lconway | macOS 12.7.6 Monterey | x86_64 | 4.5.1 Patched (2025-09-10 r88807) -- "Great Square Root" | 4677 |
| kjohnson3 | macOS 13.7.7 Ventura | arm64 | 4.5.1 Patched (2025-09-10 r88807) -- "Great Square Root" | 4622 |
| taishan | Linux (openEuler 24.03 LTS) | aarch64 | 4.5.0 (2025-04-11) -- "How About a Twenty-Six" | 4632 |
| Click on any hostname to see more info about the system (e.g. compilers) (*) as reported by 'uname -p', except on Windows and Mac OS X | ||||
| Package 1566/2353 | Hostname | OS / Arch | INSTALL | BUILD | CHECK | BUILD BIN | ||||||||
| Pedixplorer 1.5.6 (landing page) Louis Le Nezet
| nebbiolo2 | Linux (Ubuntu 24.04.3 LTS) / x86_64 | OK | OK | OK | |||||||||
| lconway | macOS 12.7.6 Monterey / x86_64 | OK | OK | OK | OK | |||||||||
| kjohnson3 | macOS 13.7.7 Ventura / arm64 | OK | OK | OK | OK | |||||||||
| taishan | Linux (openEuler 24.03 LTS) / aarch64 | OK | OK | OK | ||||||||||
|
To the developers/maintainers of the Pedixplorer package: - Allow up to 24 hours (and sometimes 48 hours) for your latest push to git@git.bioconductor.org:packages/Pedixplorer.git to reflect on this report. See Troubleshooting Build Report for more information. - Use the following Renviron settings to reproduce errors and warnings. - If 'R CMD check' started to fail recently on the Linux builder(s) over a missing dependency, add the missing dependency to 'Suggests:' in your DESCRIPTION file. See Renviron.bioc for more information. |
| Package: Pedixplorer |
| Version: 1.5.6 |
| Command: /Library/Frameworks/R.framework/Resources/bin/R CMD check --install=check:Pedixplorer.install-out.txt --library=/Library/Frameworks/R.framework/Resources/library --no-vignettes --timings Pedixplorer_1.5.6.tar.gz |
| StartedAt: 2025-10-20 00:37:43 -0400 (Mon, 20 Oct 2025) |
| EndedAt: 2025-10-20 00:41:56 -0400 (Mon, 20 Oct 2025) |
| EllapsedTime: 252.9 seconds |
| RetCode: 0 |
| Status: OK |
| CheckDir: Pedixplorer.Rcheck |
| Warnings: 0 |
##############################################################################
##############################################################################
###
### Running command:
###
### /Library/Frameworks/R.framework/Resources/bin/R CMD check --install=check:Pedixplorer.install-out.txt --library=/Library/Frameworks/R.framework/Resources/library --no-vignettes --timings Pedixplorer_1.5.6.tar.gz
###
##############################################################################
##############################################################################
* using log directory ‘/Users/biocbuild/bbs-3.22-bioc/meat/Pedixplorer.Rcheck’
* using R version 4.5.1 Patched (2025-09-10 r88807)
* using platform: x86_64-apple-darwin20
* R was compiled by
Apple clang version 14.0.0 (clang-1400.0.29.202)
GNU Fortran (GCC) 14.2.0
* running under: macOS Monterey 12.7.6
* using session charset: UTF-8
* using option ‘--no-vignettes’
* checking for file ‘Pedixplorer/DESCRIPTION’ ... OK
* this is package ‘Pedixplorer’ version ‘1.5.6’
* package encoding: UTF-8
* checking package namespace information ... OK
* checking package dependencies ... INFO
Imports includes 21 non-default packages.
Importing from so many packages makes the package vulnerable to any of
them becoming unavailable. Move as many as possible to Suggests and
use conditionally.
* checking if this is a source package ... OK
* checking if there is a namespace ... OK
* checking for hidden files and directories ... OK
* checking for portable file names ... OK
* checking for sufficient/correct file permissions ... OK
* checking whether package ‘Pedixplorer’ can be installed ... OK
* checking installed package size ... OK
* checking package directory ... OK
* checking ‘build’ directory ... OK
* checking DESCRIPTION meta-information ... OK
* checking top-level files ... OK
* checking for left-over files ... OK
* checking index information ... OK
* checking package subdirectories ... OK
* checking code files for non-ASCII characters ... OK
* checking R files for syntax errors ... OK
* checking whether the package can be loaded ... OK
* checking whether the package can be loaded with stated dependencies ... OK
* checking whether the package can be unloaded cleanly ... OK
* checking whether the namespace can be loaded with stated dependencies ... OK
* checking whether the namespace can be unloaded cleanly ... OK
* checking dependencies in R code ... OK
* checking S3 generic/method consistency ... OK
* checking replacement functions ... OK
* checking foreign function calls ... OK
* checking R code for possible problems ... OK
* checking Rd files ... OK
* checking Rd metadata ... OK
* checking Rd cross-references ... OK
* checking for missing documentation entries ... OK
* checking for code/documentation mismatches ... OK
* checking Rd \usage sections ... OK
* checking Rd contents ... OK
* checking for unstated dependencies in examples ... OK
* checking contents of ‘data’ directory ... OK
* checking data for non-ASCII characters ... OK
* checking data for ASCII and uncompressed saves ... OK
* checking files in ‘vignettes’ ... OK
* checking examples ... OK
Examples with CPU (user + system) or elapsed time > 5s
user system elapsed
shrink 6.878 0.057 6.983
* checking for unstated dependencies in ‘tests’ ... OK
* checking tests ...
Running ‘testthat.R’
OK
* checking for unstated dependencies in vignettes ... OK
* checking package vignettes ... OK
* checking running R code from vignettes ... SKIPPED
* checking re-building of vignette outputs ... SKIPPED
* checking PDF version of manual ... OK
* DONE
Status: OK
Pedixplorer.Rcheck/00install.out
############################################################################## ############################################################################## ### ### Running command: ### ### /Library/Frameworks/R.framework/Resources/bin/R CMD INSTALL Pedixplorer ### ############################################################################## ############################################################################## * installing to library ‘/Library/Frameworks/R.framework/Versions/4.5-x86_64/Resources/library’ * installing *source* package ‘Pedixplorer’ ... ** this is package ‘Pedixplorer’ version ‘1.5.6’ ** using staged installation ** R ** data ** inst ** byte-compile and prepare package for lazy loading ** help *** installing help indices ** building package indices ** installing vignettes ** testing if installed package can be loaded from temporary location ** testing if installed package can be loaded from final location ** testing if installed package keeps a record of temporary installation path * DONE (Pedixplorer)
Pedixplorer.Rcheck/tests/testthat.Rout
R version 4.5.1 Patched (2025-09-10 r88807) -- "Great Square Root"
Copyright (C) 2025 The R Foundation for Statistical Computing
Platform: x86_64-apple-darwin20
R is free software and comes with ABSOLUTELY NO WARRANTY.
You are welcome to redistribute it under certain conditions.
Type 'license()' or 'licence()' for distribution details.
R is a collaborative project with many contributors.
Type 'contributors()' for more information and
'citation()' on how to cite R or R packages in publications.
Type 'demo()' for some demos, 'help()' for on-line help, or
'help.start()' for an HTML browser interface to help.
Type 'q()' to quit R.
> # This file is part of the standard setup for testthat.
> # It is recommended that you do not modify it.
> #
> # Where should you do additional test configuration?
> # Learn more about the roles of various files in:
> # * https://r-pkgs.org/tests.html
> # * https://testthat.r-lib.org/reference/test_package.html#special-files
>
> ## Beware when testing with shinytest2
> ## the package version used will be the one avalailable through
> ## `library(Pedixplorer)` as an independant R session is launched
> ## To do so you need to `unload("Pedixplorer")`, `build()`
> ## and `install("../Pedixplorer*.tar.gz")` the package before running the tests
>
> library(Pedixplorer)
> library(shinytest2)
Loading required package: testthat
> library(R.devices)
R.devices v2.17.2 (2024-01-29 13:30:11 UTC) successfully loaded. See ?R.devices for help.
> library(rlang)
Attaching package: 'rlang'
The following objects are masked from 'package:testthat':
is_false, is_null, is_true
>
> ## Set up the environment
> Sys.setenv(
+ CHROMOTE_CHROME = Sys.getenv("CHROMOTE_CHROME"),
+ CHROMOTE_HEADLESS = Sys.getenv("CHROMOTE_HEADLESS"),
+ SKIP_SHINY_TESTS = Sys.getenv("SKIP_SHINY_TESTS"),
+ CHROMOTE_ARGS = Sys.getenv("CHROMOTE_ARGS"),
+ R_TESTS = ""
+ )
>
> print(Sys.getenv("CHROMOTE_CHROME"))
[1] ""
>
> ## Set up the environment
> options(
+ shiny.testmode = TRUE,
+ shinytest2.load_timeout = 120000,
+ shiny.fullstacktrace = TRUE,
+ shiny.port = 3929,
+ chromote.verbose = TRUE,
+ digits = 4, width = 150,
+ browser = Sys.getenv("CHROMOTE_CHROME"),
+ keep.source = TRUE,
+ pager = "internal",
+ papersize = "a4",
+ pkgType = "source",
+ showErrorCalls = TRUE,
+ timeout = 600,
+ unzip = "internal",
+ error = rlang::entrace,
+ rlang_backtrace_on_error_report = "full",
+ rlang_backtrace_on_warning_report = "full"
+ )
>
> rlang::global_entrace()
>
>
> ## Clean up any open devices
> all_dev <- grDevices::dev.list()
> for (devi in all_dev) {
+ grDevices::dev.off(devi)
+ }
>
> ## Set up the plotting device
> par_lst <- list(
+ "pin" = c(8, 8), "cex" = 1,
+ "fin" = c(6, 6), "bg" = "white", "family" = "HersheySans",
+ "usr" = c(0, 1, 0, 1), "xaxp" = c(0, 1, 5), "yaxp" = c(0, 1, 5),
+ "fig" = c(0, 1, 0, 1), "mar" = rep(1, 4), "xpd" = TRUE,
+ "lwd" = 1, "oma" = rep(1, 4)
+ )
>
> op <- par(par_lst)
>
> R.devices::devNew("pdf", width = 10, height = 10, par = par_lst)
>
> ## Run the tests
> test_check("Pedixplorer")
Individuals: 1_113 won't be plotted
Individuals: 113 won't be plotted
Individuals: 1_113 won't be plotted
Multiple families present, only plotting family 1
Individuals: 1_113 won't be plotted
Multiple families present, only plotting family 1
Individuals: 1_113 won't be plotted
Multiple families present, only plotting family 1
Individuals: 1_113 won't be plotted
Multiple families present, only plotting family 1
Individuals: 1_113 won't be plotted
Multiple families present, only plotting family 1
Individuals: 1_113 won't be plotted
Individuals: 1_113 won't be plotted
Individuals: 1_113 won't be plotted
Individuals: 1_113 won't be plotted
Individuals: 5_26050, 5_26051, 5_68, 5_71, 5_72, 5_73, 5_74, 5_75, 5_76, 5_77, 5_78 won't be plotted
[ FAIL 0 | WARN 3 | SKIP 48 | PASS 356 ]
══ Skipped tests (48) ════════════════════════════════════════════════════════════════════════════════════════════════════════════════════════════════
• On CRAN (48): 'test-align.R:34:5', 'test-align.R:80:5', 'test-align.R:96:5', 'test-app.R:6:5', 'test-class.R:18:5', 'test-class.R:127:5',
'test-class.R:170:5', 'test-class.R:215:5', 'test-fix_parents.R:5:5', 'test-fix_parents.R:20:5', 'test-fix_parents.R:61:5',
'test-fix_parents.R:80:5', 'test-ibdmatrix.R:11:5', 'test-is_informative.R:69:5', 'test-kindepth.R:42:5', 'test-kinship.R:127:5',
'test-modules.R:6:5', 'test-modules.R:22:5', 'test-modules.R:38:5', 'test-modules.R:48:5', 'test-modules.R:74:5', 'test-modules.R:109:5',
'test-modules.R:139:5', 'test-modules.R:149:5', 'test-modules.R:189:5', 'test-norm_data.R:26:5', 'test-norm_data.R:156:5', 'test-parameters.R:2:5',
'test-parameters.R:34:5', 'test-ped_to_legdf.R:20:5', 'test-plot.R:27:5', 'test-plot.R:64:5', 'test-plot.R:89:5', 'test-plot.R:113:5',
'test-plot.R:119:5', 'test-plot.R:176:5', 'test-plot.R:204:5', 'test-plot.R:235:5', 'test-plot.R:258:5', 'test-plot_fct.R:11:5',
'test-plot_fct.R:78:5', 'test-plot_fct.R:82:5', 'test-plot_fct.R:105:5', 'test-shrink.R:20:5', 'test-shrink.R:130:5', 'test-twins.R:14:5',
'test-useful_inds.R:36:5', 'test-utils.R:76:5'
[ FAIL 0 | WARN 3 | SKIP 48 | PASS 356 ]
Deleting unused snapshots:
• align/sampleped-norel.svg
• kindepth/double-marriage.svg
• linux-4.4/app/ped_shiny-001-Ped_F2_K3_T_IAll_SF1.png
• linux-4.4/app/ped_shiny-002-Ped_F1_K2_I1_121-1_131_SF1.csv
• linux-4.4/modules/color_picker-001.json
• linux-4.4/modules/color_picker-001_.png
• linux-4.4/modules/color_picker-002.json
• linux-4.4/modules/color_picker-002_.png
• linux-4.4/modules/data_col_sel-001.json
• linux-4.4/modules/data_col_sel-001_.png
• linux-4.4/modules/data_col_sel-002.json
• linux-4.4/modules/data_col_sel-002_.png
• linux-4.4/modules/data_download-001-mtcars_data_file.csv
• linux-4.4/modules/data_import-001.json
• linux-4.4/modules/data_import-001_.png
• linux-4.4/modules/data_import-002.json
• linux-4.4/modules/data_import-002_.png
• linux-4.4/modules/health_sel-001.json
• linux-4.4/modules/health_sel-001_.png
• linux-4.4/modules/health_sel-002.json
• linux-4.4/modules/health_sel-002_.png
• linux-4.4/modules/health_sel-003.json
• linux-4.4/modules/health_sel-003_.png
• linux-4.4/modules/inf_sel-001.json
• linux-4.4/modules/inf_sel-001_.png
• linux-4.4/modules/inf_sel-002.json
• linux-4.4/modules/inf_sel-002_.png
• linux-4.4/modules/inf_sel-003.json
• linux-4.4/modules/inf_sel-003_.png
• linux-4.4/modules/ped_avaf_infos-001.json
• linux-4.4/modules/ped_avaf_infos-001_.png
• ped_to_legdf/legend-alone.svg
• ped_to_legdf/plot-with-legend.svg
• plot/ped-2-affections-ggplot.svg
• plot/ped-simple-affection-ggplot.svg
• plot/ped-with-all-annotations-ggplot.svg
• plot/ped1reorder.svg
• plot_fct/subregion.svg
• shrink/pedigree-shrink-2.svg
• shrink/shrinked-ped.svg
• windows-4.4/app/ped_shiny-001-Ped_F2_K3_T_IAll_SF1.png
• windows-4.4/app/ped_shiny-002-Ped_F1_K2_I1_121-1_131_SF1.csv
• windows-4.4/modules/color_picker-001.json
• windows-4.4/modules/color_picker-001_.png
• windows-4.4/modules/color_picker-002.json
• windows-4.4/modules/color_picker-002_.png
• windows-4.4/modules/data_col_sel-001.json
• windows-4.4/modules/data_col_sel-001_.png
• windows-4.4/modules/data_col_sel-002.json
• windows-4.4/modules/data_col_sel-002_.png
• windows-4.4/modules/data_download-001-mtcars_data_file.csv
• windows-4.4/modules/data_import-001.json
• windows-4.4/modules/data_import-001_.png
• windows-4.4/modules/data_import-002.json
• windows-4.4/modules/data_import-002_.png
• windows-4.4/modules/health_sel-001.json
• windows-4.4/modules/health_sel-001_.png
• windows-4.4/modules/health_sel-002.json
• windows-4.4/modules/health_sel-002_.png
• windows-4.4/modules/health_sel-003.json
• windows-4.4/modules/health_sel-003_.png
• windows-4.4/modules/inf_sel-001.json
• windows-4.4/modules/inf_sel-001_.png
• windows-4.4/modules/inf_sel-002.json
• windows-4.4/modules/inf_sel-002_.png
• windows-4.4/modules/inf_sel-003.json
• windows-4.4/modules/inf_sel-003_.png
• windows-4.4/modules/ped_avaf_infos-001.json
• windows-4.4/modules/ped_avaf_infos-001_.png
>
> dev.off()
pdf
2
> par(op)
>
> proc.time()
user system elapsed
92.858 2.836 97.483
Pedixplorer.Rcheck/Pedixplorer-Ex.timings
| name | user | system | elapsed | |
| Hints-class | 0.015 | 0.004 | 0.019 | |
| Ped-class | 0.371 | 0.033 | 0.407 | |
| Pedigree-class | 0.789 | 0.015 | 0.811 | |
| Pedixplorer_package | 0.000 | 0.000 | 0.001 | |
| Rel-class | 0.108 | 0.002 | 0.111 | |
| Scales-class | 0.006 | 0.001 | 0.008 | |
| align | 1.071 | 0.013 | 1.092 | |
| alignped1 | 0.483 | 0.007 | 0.492 | |
| alignped2 | 0.487 | 0.009 | 0.499 | |
| alignped3 | 0.468 | 0.008 | 0.478 | |
| alignped4 | 0.514 | 0.007 | 0.525 | |
| ancestors | 0.001 | 0.000 | 0.001 | |
| anchor_to_factor | 0.001 | 0.001 | 0.001 | |
| app_plot_all | 0.001 | 0.000 | 0.000 | |
| app_resize_plot | 0.000 | 0.001 | 0.001 | |
| auto_hint | 0.246 | 0.005 | 0.259 | |
| best_hint | 0.782 | 0.017 | 0.803 | |
| bit_size | 0.192 | 0.003 | 0.197 | |
| char_to_date | 0.000 | 0.000 | 0.001 | |
| check_col_config | 0.001 | 0.000 | 0.001 | |
| check_columns | 0.003 | 0.001 | 0.004 | |
| circfun | 0.001 | 0.001 | 0.002 | |
| color_picker | 0.001 | 0.001 | 0.001 | |
| complete_twins | 0.084 | 0.002 | 0.087 | |
| compute_stress | 0.228 | 0.004 | 0.233 | |
| create_text_column | 0.006 | 0.000 | 0.006 | |
| data_col_sel | 0.001 | 0.000 | 0.001 | |
| data_download | 0 | 0 | 0 | |
| data_import | 0 | 0 | 0 | |
| descendants | 0.175 | 0.003 | 0.178 | |
| distribute_by | 0.001 | 0.000 | 0.001 | |
| eval_perm | 0.238 | 0.004 | 0.243 | |
| family_check | 0.242 | 0.003 | 0.246 | |
| family_infos_table | 0.272 | 0.004 | 0.276 | |
| family_sel | 0 | 0 | 0 | |
| fertility_to_factor | 0.000 | 0.000 | 0.001 | |
| find_avail_affected | 1.457 | 0.013 | 1.476 | |
| find_avail_noninform | 0.286 | 0.004 | 0.292 | |
| find_ray_intersections | 0.000 | 0.000 | 0.001 | |
| find_unavailable | 0.275 | 0.003 | 0.279 | |
| fix_parents | 0.050 | 0.002 | 0.053 | |
| generate_aff_inds | 0.003 | 0.001 | 0.004 | |
| generate_border | 0.002 | 0.001 | 0.003 | |
| generate_colors | 0.306 | 0.006 | 0.316 | |
| generate_fill | 0.009 | 0.001 | 0.010 | |
| get_dataframe | 0 | 0 | 0 | |
| get_famid | 0.000 | 0.001 | 0.000 | |
| get_families_table | 0.046 | 0.003 | 0.049 | |
| get_title | 0.001 | 0.000 | 0.002 | |
| health_sel | 0.000 | 0.000 | 0.001 | |
| ibd_matrix | 0.014 | 0.000 | 0.015 | |
| inf_sel | 0 | 0 | 0 | |
| is_disconnected | 0.017 | 0.000 | 0.016 | |
| is_founder | 0.000 | 0.000 | 0.001 | |
| is_informative | 0.506 | 0.008 | 0.519 | |
| is_parent | 0.205 | 0.003 | 0.210 | |
| kindepth | 0.224 | 0.004 | 0.230 | |
| kinship | 0.522 | 0.020 | 0.545 | |
| make_class_info | 0.001 | 0.000 | 0.000 | |
| make_famid | 0.246 | 0.006 | 0.254 | |
| make_reactive | 0.006 | 0.000 | 0.007 | |
| make_rownames | 0.000 | 0.000 | 0.001 | |
| min_dist_inf | 0.221 | 0.003 | 0.225 | |
| minnbreast | 3.575 | 0.162 | 3.786 | |
| miscarriage_to_factor | 0.001 | 0.000 | 0.001 | |
| na_to_length | 0 | 0 | 0 | |
| norm_ped | 0.044 | 0.002 | 0.047 | |
| norm_rel | 0.024 | 0.000 | 0.025 | |
| num_child | 0.353 | 0.077 | 0.522 | |
| parent_of | 0.223 | 0.013 | 0.241 | |
| paste0max | 0.001 | 0.000 | 0.000 | |
| ped_avaf_infos | 0.000 | 0.000 | 0.001 | |
| ped_server | 0 | 0 | 0 | |
| ped_shiny | 0.000 | 0.000 | 0.001 | |
| ped_to_legdf | 0.255 | 0.004 | 0.262 | |
| ped_to_plotdf | 0.416 | 0.006 | 0.426 | |
| ped_ui | 0 | 0 | 0 | |
| permute | 0.000 | 0.001 | 0.001 | |
| plink_to_pedigree | 0.001 | 0.000 | 0.001 | |
| plot_download | 0 | 0 | 0 | |
| plot_fromdf | 0.750 | 0.008 | 0.765 | |
| plot_legend_app | 0.001 | 0.000 | 0.000 | |
| plot_ped | 0.204 | 0.003 | 0.210 | |
| plot_pedigree | 0.202 | 0.003 | 0.206 | |
| polyfun | 0.009 | 0.000 | 0.010 | |
| polygons | 0.014 | 0.002 | 0.017 | |
| read_data | 0 | 0 | 0 | |
| rel_code_to_factor | 0.001 | 0.000 | 0.001 | |
| relped | 0.275 | 0.006 | 0.285 | |
| rescale | 0.000 | 0.001 | 0.001 | |
| sampleped | 0.187 | 0.003 | 0.191 | |
| sex_to_factor | 0 | 0 | 0 | |
| shrink | 6.878 | 0.057 | 6.983 | |
| unrelated | 0.272 | 0.005 | 0.283 | |
| upd_famid | 0.452 | 0.012 | 0.465 | |
| useful_inds | 0.251 | 0.006 | 0.259 | |
| validate_and_rename_df | 0.003 | 0.001 | 0.003 | |
| vect_to_binary | 0.001 | 0.000 | 0.002 | |