| Back to Multiple platform build/check report for BioC 3.22: simplified long |
|
This page was generated on 2025-10-23 12:04 -0400 (Thu, 23 Oct 2025).
| Hostname | OS | Arch (*) | R version | Installed pkgs |
|---|---|---|---|---|
| nebbiolo2 | Linux (Ubuntu 24.04.3 LTS) | x86_64 | 4.5.1 Patched (2025-08-23 r88802) -- "Great Square Root" | 4894 |
| lconway | macOS 12.7.6 Monterey | x86_64 | 4.5.1 Patched (2025-09-10 r88807) -- "Great Square Root" | 4684 |
| kjohnson3 | macOS 13.7.7 Ventura | arm64 | 4.5.1 Patched (2025-09-10 r88807) -- "Great Square Root" | 4629 |
| taishan | Linux (openEuler 24.03 LTS) | aarch64 | 4.5.0 (2025-04-11) -- "How About a Twenty-Six" | 4642 |
| Click on any hostname to see more info about the system (e.g. compilers) (*) as reported by 'uname -p', except on Windows and Mac OS X | ||||
| Package 1436/2355 | Hostname | OS / Arch | INSTALL | BUILD | CHECK | BUILD BIN | ||||||||
| NanoStringNCTools 1.17.2 (landing page) Maddy Griswold
| nebbiolo2 | Linux (Ubuntu 24.04.3 LTS) / x86_64 | OK | OK | OK | |||||||||
| lconway | macOS 12.7.6 Monterey / x86_64 | OK | OK | OK | OK | |||||||||
| kjohnson3 | macOS 13.7.7 Ventura / arm64 | OK | OK | OK | OK | |||||||||
| taishan | Linux (openEuler 24.03 LTS) / aarch64 | OK | OK | NA | ||||||||||
|
To the developers/maintainers of the NanoStringNCTools package: - Allow up to 24 hours (and sometimes 48 hours) for your latest push to git@git.bioconductor.org:packages/NanoStringNCTools.git to reflect on this report. See Troubleshooting Build Report for more information. - Use the following Renviron settings to reproduce errors and warnings. - If 'R CMD check' started to fail recently on the Linux builder(s) over a missing dependency, add the missing dependency to 'Suggests:' in your DESCRIPTION file. See Renviron.bioc for more information. |
| Package: NanoStringNCTools |
| Version: 1.17.2 |
| Command: /home/biocbuild/bbs-3.22-bioc/R/bin/R CMD check --install=check:NanoStringNCTools.install-out.txt --library=/home/biocbuild/bbs-3.22-bioc/R/site-library --timings NanoStringNCTools_1.17.2.tar.gz |
| StartedAt: 2025-10-23 02:33:16 -0400 (Thu, 23 Oct 2025) |
| EndedAt: 2025-10-23 02:35:21 -0400 (Thu, 23 Oct 2025) |
| EllapsedTime: 125.1 seconds |
| RetCode: 0 |
| Status: OK |
| CheckDir: NanoStringNCTools.Rcheck |
| Warnings: 0 |
##############################################################################
##############################################################################
###
### Running command:
###
### /home/biocbuild/bbs-3.22-bioc/R/bin/R CMD check --install=check:NanoStringNCTools.install-out.txt --library=/home/biocbuild/bbs-3.22-bioc/R/site-library --timings NanoStringNCTools_1.17.2.tar.gz
###
##############################################################################
##############################################################################
* using log directory ‘/home/biocbuild/bbs-3.22-bioc/meat/NanoStringNCTools.Rcheck’
* using R version 4.5.1 Patched (2025-08-23 r88802)
* using platform: x86_64-pc-linux-gnu
* R was compiled by
gcc (Ubuntu 13.3.0-6ubuntu2~24.04) 13.3.0
GNU Fortran (Ubuntu 13.3.0-6ubuntu2~24.04) 13.3.0
* running under: Ubuntu 24.04.3 LTS
* using session charset: UTF-8
* checking for file ‘NanoStringNCTools/DESCRIPTION’ ... OK
* this is package ‘NanoStringNCTools’ version ‘1.17.2’
* package encoding: UTF-8
* checking package namespace information ... OK
* checking package dependencies ... OK
* checking if this is a source package ... OK
* checking if there is a namespace ... OK
* checking for hidden files and directories ... OK
* checking for portable file names ... OK
* checking for sufficient/correct file permissions ... OK
* checking whether package ‘NanoStringNCTools’ can be installed ... OK
* checking installed package size ... OK
* checking package directory ... OK
* checking ‘build’ directory ... OK
* checking DESCRIPTION meta-information ... NOTE
License components which are templates and need '+ file LICENSE':
MIT
* checking top-level files ... NOTE
File
LICENSE
is not mentioned in the DESCRIPTION file.
* checking for left-over files ... OK
* checking index information ... OK
* checking package subdirectories ... OK
* checking code files for non-ASCII characters ... OK
* checking R files for syntax errors ... OK
* checking whether the package can be loaded ... OK
* checking whether the package can be loaded with stated dependencies ... OK
* checking whether the package can be unloaded cleanly ... OK
* checking whether the namespace can be loaded with stated dependencies ... OK
* checking whether the namespace can be unloaded cleanly ... OK
* checking loading without being on the library search path ... OK
* checking dependencies in R code ... OK
* checking S3 generic/method consistency ... OK
* checking replacement functions ... OK
* checking foreign function calls ... OK
* checking R code for possible problems ... NOTE
autoplot.NanoStringRccSet : <anonymous>: warning in switch(x[2], A =
qcCutoffs[["BindingDensity"]][["maximumBD"]], B =
qcCutoffs[["BindingDensity"]][["maximumBD"]], C =
qcCutoffs[["BindingDensity"]][["maximumBD"]], D =
qcCutoffs[["BindingDensity"]][["maximumBD"]], E =
qcCutoffs[["BindingDensity"]][["maximumBD"]], G =
qcCutoffs[["BindingDensity"]][["maximumBD"]], H =
qcCutoffs[["BindingDensity"]][["maximumBD"]], P =
qcCutoffs[["BindingDensity"]][["maximumBDSprint"]], default =
qcCutoffs[["BindingDensity"]][["maximumBD"]]): partial argument match
of 'E' to 'EXPR'
setQCFlags,NanoStringRccSet : <anonymous>: warning in switch(x[2], A =
maxBindDen, B = maxBindDen, C = maxBindDen, D = maxBindDen, E =
maxBindDen, G = maxBindDen, H = maxBindDen, P = maxBindDenSprint,
default = maxBindDen): partial argument match of 'E' to 'EXPR'
autoplot.NanoStringRccSet: no visible binding for global variable
‘xend’
autoplot.NanoStringRccSet: no visible binding for global variable
‘passingThreshold’
autoplot.NanoStringRccSet: no visible binding for global variable
‘GeomMean’
autoplot.NanoStringRccSet: no visible binding for global variable ‘h’
autoplot.NanoStringRccSet: no visible binding for global variable
‘label’
Undefined global functions or variables:
GeomMean h label passingThreshold xend
* checking Rd files ... OK
* checking Rd metadata ... OK
* checking Rd cross-references ... NOTE
Found the following Rd file(s) with Rd \link{} targets missing package
anchors:
NanoStringRccSet-class.Rd: ExpressionSet-class, AnnotatedDataFrame,
MIAME, ExpressionSet, experimentData, preproc
SignatureSet.Rd: NumericList
readRlfFile.Rd: DataFrame-class
Please provide package anchors for all Rd \link{} targets not in the
package itself and the base packages.
* checking for missing documentation entries ... OK
* checking for code/documentation mismatches ... OK
* checking Rd \usage sections ... OK
* checking Rd contents ... OK
* checking for unstated dependencies in examples ... OK
* checking files in ‘vignettes’ ... OK
* checking examples ... OK
* checking for unstated dependencies in ‘tests’ ... OK
* checking tests ...
Running ‘run_unitTests.R’
OK
* checking for unstated dependencies in vignettes ... OK
* checking package vignettes ... OK
* checking re-building of vignette outputs ... OK
* checking PDF version of manual ... OK
* DONE
Status: 4 NOTEs
See
‘/home/biocbuild/bbs-3.22-bioc/meat/NanoStringNCTools.Rcheck/00check.log’
for details.
NanoStringNCTools.Rcheck/00install.out
############################################################################## ############################################################################## ### ### Running command: ### ### /home/biocbuild/bbs-3.22-bioc/R/bin/R CMD INSTALL NanoStringNCTools ### ############################################################################## ############################################################################## * installing to library ‘/home/biocbuild/bbs-3.22-bioc/R/site-library’ * installing *source* package ‘NanoStringNCTools’ ... ** this is package ‘NanoStringNCTools’ version ‘1.17.2’ ** using staged installation ** R ** inst ** byte-compile and prepare package for lazy loading ** help *** installing help indices ** building package indices ** installing vignettes ** testing if installed package can be loaded from temporary location ** testing if installed package can be loaded from final location ** testing if installed package keeps a record of temporary installation path * DONE (NanoStringNCTools)
NanoStringNCTools.Rcheck/tests/run_unitTests.Rout
R version 4.5.1 Patched (2025-08-23 r88802) -- "Great Square Root"
Copyright (C) 2025 The R Foundation for Statistical Computing
Platform: x86_64-pc-linux-gnu
R is free software and comes with ABSOLUTELY NO WARRANTY.
You are welcome to redistribute it under certain conditions.
Type 'license()' or 'licence()' for distribution details.
R is a collaborative project with many contributors.
Type 'contributors()' for more information and
'citation()' on how to cite R or R packages in publications.
Type 'demo()' for some demos, 'help()' for on-line help, or
'help.start()' for an HTML browser interface to help.
Type 'q()' to quit R.
> require("NanoStringNCTools") || stop("unable to load NanoStringNCTools package")
Loading required package: NanoStringNCTools
Loading required package: Biobase
Loading required package: BiocGenerics
Loading required package: generics
Attaching package: 'generics'
The following objects are masked from 'package:base':
as.difftime, as.factor, as.ordered, intersect, is.element, setdiff,
setequal, union
Attaching package: 'BiocGenerics'
The following objects are masked from 'package:stats':
IQR, mad, sd, var, xtabs
The following objects are masked from 'package:base':
Filter, Find, Map, Position, Reduce, anyDuplicated, aperm, append,
as.data.frame, basename, cbind, colnames, dirname, do.call,
duplicated, eval, evalq, get, grep, grepl, is.unsorted, lapply,
mapply, match, mget, order, paste, pmax, pmax.int, pmin, pmin.int,
rank, rbind, rownames, sapply, saveRDS, table, tapply, unique,
unsplit, which.max, which.min
Welcome to Bioconductor
Vignettes contain introductory material; view with
'browseVignettes()'. To cite Bioconductor, see
'citation("Biobase")', and for packages 'citation("pkgname")'.
Loading required package: S4Vectors
Loading required package: stats4
Attaching package: 'S4Vectors'
The following object is masked from 'package:utils':
findMatches
The following objects are masked from 'package:base':
I, expand.grid, unname
Loading required package: ggplot2
[1] TRUE
> BiocGenerics:::testPackage("NanoStringNCTools")
RUNIT TEST PROTOCOL -- Thu Oct 23 02:35:02 2025
***********************************************
Number of test functions: 52
Number of errors: 0
Number of failures: 0
1 Test Suite :
NanoStringNCTools RUnit Tests - 52 test functions, 0 errors, 0 failures
Number of test functions: 52
Number of errors: 0
Number of failures: 0
>
> proc.time()
user system elapsed
10.279 0.422 10.689
NanoStringNCTools.Rcheck/NanoStringNCTools-Ex.timings
| name | user | system | elapsed | |
| NanoStringRccSet-autoplot | 0.349 | 0.003 | 0.353 | |
| NanoStringRccSet-class | 0.845 | 0.043 | 0.888 | |
| SignatureSet | 0.022 | 0.000 | 0.022 | |
| geom_beeswarm_interactive | 0.273 | 0.003 | 0.276 | |
| log2t | 0.000 | 0.000 | 0.001 | |
| normalize | 0.248 | 0.001 | 0.250 | |
| readNanoStringRccSet | 0.741 | 0.016 | 0.758 | |
| readRccFile | 0.048 | 0.001 | 0.049 | |
| readRlfFile | 0.039 | 0.000 | 0.039 | |
| sScale | 0.003 | 0.000 | 0.003 | |
| setQCFlags | 0.553 | 0.017 | 0.570 | |
| writeNanoStringRccSet | 0.366 | 0.003 | 0.369 | |