| Back to Multiple platform build/check report for BioC 3.22: simplified long |
|
This page was generated on 2025-10-24 12:04 -0400 (Fri, 24 Oct 2025).
| Hostname | OS | Arch (*) | R version | Installed pkgs |
|---|---|---|---|---|
| nebbiolo2 | Linux (Ubuntu 24.04.3 LTS) | x86_64 | 4.5.1 Patched (2025-08-23 r88802) -- "Great Square Root" | 4898 |
| lconway | macOS 12.7.6 Monterey | x86_64 | 4.5.1 Patched (2025-09-10 r88807) -- "Great Square Root" | 4688 |
| kjohnson3 | macOS 13.7.7 Ventura | arm64 | 4.5.1 Patched (2025-09-10 r88807) -- "Great Square Root" | 4634 |
| taishan | Linux (openEuler 24.03 LTS) | aarch64 | 4.5.0 (2025-04-11) -- "How About a Twenty-Six" | 4658 |
| Click on any hostname to see more info about the system (e.g. compilers) (*) as reported by 'uname -p', except on Windows and Mac OS X | ||||
| Package 1429/2359 | Hostname | OS / Arch | INSTALL | BUILD | CHECK | BUILD BIN | ||||||||
| MutationalPatterns 3.19.1 (landing page) Mark van Roosmalen
| nebbiolo2 | Linux (Ubuntu 24.04.3 LTS) / x86_64 | OK | OK | ERROR | |||||||||
| lconway | macOS 12.7.6 Monterey / x86_64 | OK | ERROR | skipped | skipped | |||||||||
| kjohnson3 | macOS 13.7.7 Ventura / arm64 | OK | ERROR | skipped | skipped | |||||||||
| taishan | Linux (openEuler 24.03 LTS) / aarch64 | OK | OK | NA | ||||||||||
|
To the developers/maintainers of the MutationalPatterns package: - Allow up to 24 hours (and sometimes 48 hours) for your latest push to git@git.bioconductor.org:packages/MutationalPatterns.git to reflect on this report. See Troubleshooting Build Report for more information. - Use the following Renviron settings to reproduce errors and warnings. - If 'R CMD check' started to fail recently on the Linux builder(s) over a missing dependency, add the missing dependency to 'Suggests:' in your DESCRIPTION file. See Renviron.bioc for more information. |
| Package: MutationalPatterns |
| Version: 3.19.1 |
| Command: /home/biocbuild/bbs-3.22-bioc/R/bin/R CMD check --install=check:MutationalPatterns.install-out.txt --library=/home/biocbuild/bbs-3.22-bioc/R/site-library --timings MutationalPatterns_3.19.1.tar.gz |
| StartedAt: 2025-10-24 01:56:18 -0400 (Fri, 24 Oct 2025) |
| EndedAt: 2025-10-24 02:16:17 -0400 (Fri, 24 Oct 2025) |
| EllapsedTime: 1199.3 seconds |
| RetCode: 1 |
| Status: ERROR |
| CheckDir: MutationalPatterns.Rcheck |
| Warnings: NA |
##############################################################################
##############################################################################
###
### Running command:
###
### /home/biocbuild/bbs-3.22-bioc/R/bin/R CMD check --install=check:MutationalPatterns.install-out.txt --library=/home/biocbuild/bbs-3.22-bioc/R/site-library --timings MutationalPatterns_3.19.1.tar.gz
###
##############################################################################
##############################################################################
* using log directory ‘/home/biocbuild/bbs-3.22-bioc/meat/MutationalPatterns.Rcheck’
* using R version 4.5.1 Patched (2025-08-23 r88802)
* using platform: x86_64-pc-linux-gnu
* R was compiled by
gcc (Ubuntu 13.3.0-6ubuntu2~24.04) 13.3.0
GNU Fortran (Ubuntu 13.3.0-6ubuntu2~24.04) 13.3.0
* running under: Ubuntu 24.04.3 LTS
* using session charset: UTF-8
* checking for file ‘MutationalPatterns/DESCRIPTION’ ... OK
* checking extension type ... Package
* this is package ‘MutationalPatterns’ version ‘3.19.1’
* package encoding: UTF-8
* checking package namespace information ... OK
* checking package dependencies ... OK
* checking if this is a source package ... OK
* checking if there is a namespace ... OK
* checking for hidden files and directories ... OK
* checking for portable file names ... OK
* checking for sufficient/correct file permissions ... OK
* checking whether package ‘MutationalPatterns’ can be installed ... OK
* checking installed package size ... OK
* checking package directory ... OK
* checking ‘build’ directory ... OK
* checking DESCRIPTION meta-information ... NOTE
License stub is invalid DCF.
* checking top-level files ... OK
* checking for left-over files ... OK
* checking index information ... OK
* checking package subdirectories ... OK
* checking code files for non-ASCII characters ... OK
* checking R files for syntax errors ... OK
* checking whether the package can be loaded ... OK
* checking whether the package can be loaded with stated dependencies ... OK
* checking whether the package can be unloaded cleanly ... OK
* checking whether the namespace can be loaded with stated dependencies ... OK
* checking whether the namespace can be unloaded cleanly ... OK
* checking loading without being on the library search path ... OK
* checking dependencies in R code ... OK
* checking S3 generic/method consistency ... OK
* checking replacement functions ... OK
* checking foreign function calls ... OK
* checking R code for possible problems ... OK
* checking Rd files ... OK
* checking Rd metadata ... OK
* checking Rd cross-references ... OK
* checking for missing documentation entries ... OK
* checking for code/documentation mismatches ... OK
* checking Rd \usage sections ... OK
* checking Rd contents ... OK
* checking for unstated dependencies in examples ... OK
* checking files in ‘vignettes’ ... OK
* checking examples ... OK
Examples with CPU (user + system) or elapsed time > 5s
user system elapsed
context_potential_damage_analysis 23.573 0.683 24.256
read_vcfs_as_granges 19.695 2.593 27.463
plot_lesion_segregation 16.949 0.010 16.959
get_mut_type 11.289 0.000 11.290
plot_compare_indels 10.880 0.037 10.917
calculate_lesion_segregation 10.490 0.256 10.746
genomic_distribution 10.148 0.185 10.334
plot_indel_contexts 10.004 0.002 10.006
bin_mutation_density 9.035 0.485 9.521
plot_compare_dbs 7.085 0.020 7.105
fit_to_signatures_bootstrapped 6.702 0.157 6.859
plot_river 6.571 0.095 6.666
get_indel_context 6.356 0.230 6.587
plot_profile_heatmap 5.692 0.003 5.695
plot_spectrum_region 5.429 0.034 5.464
plot_spectrum 5.274 0.030 5.305
mut_matrix_stranded 5.018 0.148 5.167
* checking for unstated dependencies in ‘tests’ ... OK
* checking tests ...
Running ‘testthat.R’
ERROR
Running the tests in ‘tests/testthat.R’ failed.
Last 13 lines of output:
382/1728 mismatches (average diff: 1.45)
[68] 2 - 1 == 1
[69] 4 - 3 == 1
[70] 5 - 6 == -1
[71] 2 - 1 == 1
[72] 1 - 0 == 1
[74] 3 - 2 == 1
[77] 4 - 3 == 1
[78] 2 - 1 == 1
[79] 1 - 0 == 1
...
[ FAIL 3 | WARN 41 | SKIP 0 | PASS 471 ]
Error: Test failures
Execution halted
* checking for unstated dependencies in vignettes ... OK
* checking package vignettes ... OK
* checking re-building of vignette outputs ... OK
* checking PDF version of manual ... OK
* DONE
Status: 1 ERROR, 1 NOTE
See
‘/home/biocbuild/bbs-3.22-bioc/meat/MutationalPatterns.Rcheck/00check.log’
for details.
MutationalPatterns.Rcheck/00install.out
############################################################################## ############################################################################## ### ### Running command: ### ### /home/biocbuild/bbs-3.22-bioc/R/bin/R CMD INSTALL MutationalPatterns ### ############################################################################## ############################################################################## * installing to library ‘/home/biocbuild/bbs-3.22-bioc/R/site-library’ * installing *source* package ‘MutationalPatterns’ ... ** this is package ‘MutationalPatterns’ version ‘3.19.1’ ** using staged installation ** R ** inst ** byte-compile and prepare package for lazy loading ** help *** installing help indices ** building package indices ** installing vignettes ** testing if installed package can be loaded from temporary location ** testing if installed package can be loaded from final location ** testing if installed package keeps a record of temporary installation path * DONE (MutationalPatterns)
MutationalPatterns.Rcheck/tests/testthat.Rout.fail
R version 4.5.1 Patched (2025-08-23 r88802) -- "Great Square Root"
Copyright (C) 2025 The R Foundation for Statistical Computing
Platform: x86_64-pc-linux-gnu
R is free software and comes with ABSOLUTELY NO WARRANTY.
You are welcome to redistribute it under certain conditions.
Type 'license()' or 'licence()' for distribution details.
R is a collaborative project with many contributors.
Type 'contributors()' for more information and
'citation()' on how to cite R or R packages in publications.
Type 'demo()' for some demos, 'help()' for on-line help, or
'help.start()' for an HTML browser interface to help.
Type 'q()' to quit R.
> library(testthat)
> library(MutationalPatterns)
Loading required package: GenomicRanges
Loading required package: stats4
Loading required package: BiocGenerics
Loading required package: generics
Attaching package: 'generics'
The following objects are masked from 'package:base':
as.difftime, as.factor, as.ordered, intersect, is.element, setdiff,
setequal, union
Attaching package: 'BiocGenerics'
The following objects are masked from 'package:stats':
IQR, mad, sd, var, xtabs
The following objects are masked from 'package:base':
Filter, Find, Map, Position, Reduce, anyDuplicated, aperm, append,
as.data.frame, basename, cbind, colnames, dirname, do.call,
duplicated, eval, evalq, get, grep, grepl, is.unsorted, lapply,
mapply, match, mget, order, paste, pmax, pmax.int, pmin, pmin.int,
rank, rbind, rownames, sapply, saveRDS, table, tapply, unique,
unsplit, which.max, which.min
Loading required package: S4Vectors
Attaching package: 'S4Vectors'
The following object is masked from 'package:utils':
findMatches
The following objects are masked from 'package:base':
I, expand.grid, unname
Loading required package: IRanges
Loading required package: Seqinfo
Loading required package: NMF
Loading required package: registry
Loading required package: rngtools
Loading required package: cluster
NMF - BioConductor layer [OK] | Shared memory capabilities [NO: bigmemory] | Cores 2/2
To enable shared memory capabilities, try: install.extras('
NMF
')
Attaching package: 'NMF'
The following object is masked from 'package:S4Vectors':
nrun
The following object is masked from 'package:generics':
fit
The following object is masked from 'package:testthat':
compare
>
> test_check("MutationalPatterns")
[ FAIL 3 | WARN 41 | SKIP 0 | PASS 471 ]
══ Failed tests ════════════════════════════════════════════════════════════════
── Failure ('test-context_potential_damage_analysis.R:46:3'): Output is equal to expected ──
`output` not equal to `expected`.
Component "n": Mean relative difference: 0.09452736
Component "ratio": Mean relative difference: 0.06150134
Component "blosum62": Mean relative difference: 0.2656804
── Failure ('test-mut_matrix_stranded.R:20:3'): transforms correctly ───────────
`output` not equal to `expected`.
382/1728 mismatches (average diff: 1.45)
[68] 2 - 1 == 1
[69] 4 - 3 == 1
[70] 5 - 6 == -1
[71] 2 - 1 == 1
[72] 1 - 0 == 1
[74] 3 - 2 == 1
[77] 4 - 3 == 1
[78] 2 - 1 == 1
[79] 1 - 0 == 1
...
── Failure ('test-mut_matrix_stranded.R:29:3'): a list is also acceptable input ──
`output_list` not equal to `expected`.
382/1728 mismatches (average diff: 1.45)
[68] 2 - 1 == 1
[69] 4 - 3 == 1
[70] 5 - 6 == -1
[71] 2 - 1 == 1
[72] 1 - 0 == 1
[74] 3 - 2 == 1
[77] 4 - 3 == 1
[78] 2 - 1 == 1
[79] 1 - 0 == 1
...
[ FAIL 3 | WARN 41 | SKIP 0 | PASS 471 ]
Error: Test failures
Execution halted
MutationalPatterns.Rcheck/MutationalPatterns-Ex.timings
| name | user | system | elapsed | |
| bin_mutation_density | 9.035 | 0.485 | 9.521 | |
| binomial_test | 0.009 | 0.000 | 0.009 | |
| calculate_lesion_segregation | 10.490 | 0.256 | 10.746 | |
| cluster_signatures | 0.039 | 0.002 | 0.042 | |
| context_potential_damage_analysis | 23.573 | 0.683 | 24.256 | |
| convert_sigs_to_ref | 0.037 | 0.003 | 0.041 | |
| cos_sim | 0 | 0 | 0 | |
| cos_sim_matrix | 0.019 | 0.001 | 0.020 | |
| count_dbs_contexts | 0.082 | 0.000 | 0.082 | |
| count_indel_contexts | 0.149 | 0.002 | 0.151 | |
| count_mbs_contexts | 0.073 | 0.000 | 0.073 | |
| determine_regional_similarity | 2.780 | 0.082 | 2.862 | |
| enrichment_depletion_test | 0.126 | 0.000 | 0.126 | |
| extract_signatures | 0.001 | 0.000 | 0.001 | |
| fit_to_signatures | 0.085 | 0.010 | 0.095 | |
| fit_to_signatures_bootstrapped | 6.702 | 0.157 | 6.859 | |
| fit_to_signatures_strict | 3.690 | 0.034 | 3.725 | |
| genomic_distribution | 10.148 | 0.185 | 10.334 | |
| get_dbs_context | 0.238 | 0.002 | 0.240 | |
| get_indel_context | 6.356 | 0.230 | 6.587 | |
| get_known_signatures | 0.192 | 0.051 | 0.244 | |
| get_mut_type | 11.289 | 0.000 | 11.290 | |
| lengthen_mut_matrix | 0.011 | 0.000 | 0.012 | |
| merge_signatures | 1.021 | 0.013 | 1.035 | |
| mut_context | 1.073 | 0.078 | 1.152 | |
| mut_matrix | 1.853 | 0.101 | 1.954 | |
| mut_matrix_stranded | 5.018 | 0.148 | 5.167 | |
| mut_strand | 1.824 | 0.024 | 1.849 | |
| mut_type | 0.029 | 0.000 | 0.029 | |
| mut_type_occurrences | 0.844 | 0.027 | 0.871 | |
| mutations_from_vcf | 0.027 | 0.000 | 0.028 | |
| plot_192_profile | 3.580 | 0.009 | 3.590 | |
| plot_96_profile | 3.060 | 0.000 | 3.061 | |
| plot_bootstrapped_contribution | 2.671 | 0.025 | 2.697 | |
| plot_compare_dbs | 7.085 | 0.020 | 7.105 | |
| plot_compare_indels | 10.880 | 0.037 | 10.917 | |
| plot_compare_mbs | 1.375 | 0.002 | 1.377 | |
| plot_compare_profiles | 2.733 | 0.004 | 2.736 | |
| plot_contribution | 2.290 | 0.000 | 2.291 | |
| plot_contribution_heatmap | 2.397 | 0.003 | 2.400 | |
| plot_correlation_bootstrap | 1.696 | 0.001 | 1.697 | |
| plot_cosine_heatmap | 2.755 | 0.002 | 2.757 | |
| plot_dbs_contexts | 4.857 | 0.001 | 4.860 | |
| plot_enrichment_depletion | 4.818 | 0.002 | 4.821 | |
| plot_indel_contexts | 10.004 | 0.002 | 10.006 | |
| plot_lesion_segregation | 16.949 | 0.010 | 16.959 | |
| plot_main_dbs_contexts | 0.882 | 0.002 | 0.884 | |
| plot_main_indel_contexts | 0.941 | 0.001 | 0.943 | |
| plot_mbs_contexts | 0.753 | 0.001 | 0.754 | |
| plot_original_vs_reconstructed | 0.994 | 0.000 | 0.994 | |
| plot_profile_heatmap | 5.692 | 0.003 | 5.695 | |
| plot_profile_region | 1.259 | 0.000 | 1.259 | |
| plot_rainfall | 2.022 | 0.003 | 2.025 | |
| plot_regional_similarity | 2.639 | 0.003 | 2.642 | |
| plot_river | 6.571 | 0.095 | 6.666 | |
| plot_signature_strand_bias | 0.941 | 0.000 | 0.941 | |
| plot_spectrum | 5.274 | 0.030 | 5.305 | |
| plot_spectrum_region | 5.429 | 0.034 | 5.464 | |
| plot_strand | 0.271 | 0.001 | 0.273 | |
| plot_strand_bias | 0.903 | 0.001 | 0.905 | |
| pool_mut_mat | 0.036 | 0.000 | 0.036 | |
| read_vcfs_as_granges | 19.695 | 2.593 | 27.463 | |
| rename_nmf_signatures | 0.027 | 0.008 | 0.035 | |
| signature_potential_damage_analysis | 0.097 | 0.025 | 0.123 | |
| split_muts_region | 4.111 | 0.291 | 4.402 | |
| strand_bias_test | 0.142 | 0.028 | 0.170 | |
| strand_occurrences | 0.156 | 0.012 | 0.168 | |
| type_context | 1.171 | 0.115 | 1.287 | |