Back to Multiple platform build/check report for BioC 3.22: simplified long |
|
This page was generated on 2025-10-18 12:05 -0400 (Sat, 18 Oct 2025).
Hostname | OS | Arch (*) | R version | Installed pkgs |
---|---|---|---|---|
nebbiolo2 | Linux (Ubuntu 24.04.3 LTS) | x86_64 | 4.5.1 Patched (2025-08-23 r88802) -- "Great Square Root" | 4887 |
lconway | macOS 12.7.6 Monterey | x86_64 | 4.5.1 Patched (2025-09-10 r88807) -- "Great Square Root" | 4677 |
kjohnson3 | macOS 13.7.7 Ventura | arm64 | 4.5.1 Patched (2025-09-10 r88807) -- "Great Square Root" | 4622 |
taishan | Linux (openEuler 24.03 LTS) | aarch64 | 4.5.0 (2025-04-11) -- "How About a Twenty-Six" | 4632 |
Click on any hostname to see more info about the system (e.g. compilers) (*) as reported by 'uname -p', except on Windows and Mac OS X |
Package 1389/2353 | Hostname | OS / Arch | INSTALL | BUILD | CHECK | BUILD BIN | ||||||||
MsQuality 1.9.2 (landing page) Thomas Naake
| nebbiolo2 | Linux (Ubuntu 24.04.3 LTS) / x86_64 | OK | OK | ERROR | |||||||||
lconway | macOS 12.7.6 Monterey / x86_64 | OK | OK | ERROR | OK | |||||||||
kjohnson3 | macOS 13.7.7 Ventura / arm64 | OK | OK | ERROR | OK | |||||||||
taishan | Linux (openEuler 24.03 LTS) / aarch64 | OK | OK | TIMEOUT | ||||||||||
To the developers/maintainers of the MsQuality package: - Allow up to 24 hours (and sometimes 48 hours) for your latest push to git@git.bioconductor.org:packages/MsQuality.git to reflect on this report. See Troubleshooting Build Report for more information. - Use the following Renviron settings to reproduce errors and warnings. - If 'R CMD check' started to fail recently on the Linux builder(s) over a missing dependency, add the missing dependency to 'Suggests:' in your DESCRIPTION file. See Renviron.bioc for more information. |
Package: MsQuality |
Version: 1.9.2 |
Command: /Library/Frameworks/R.framework/Resources/bin/R CMD check --install=check:MsQuality.install-out.txt --library=/Library/Frameworks/R.framework/Resources/library --no-vignettes --timings MsQuality_1.9.2.tar.gz |
StartedAt: 2025-10-17 23:52:15 -0400 (Fri, 17 Oct 2025) |
EndedAt: 2025-10-18 00:00:06 -0400 (Sat, 18 Oct 2025) |
EllapsedTime: 470.5 seconds |
RetCode: 1 |
Status: ERROR |
CheckDir: MsQuality.Rcheck |
Warnings: NA |
############################################################################## ############################################################################## ### ### Running command: ### ### /Library/Frameworks/R.framework/Resources/bin/R CMD check --install=check:MsQuality.install-out.txt --library=/Library/Frameworks/R.framework/Resources/library --no-vignettes --timings MsQuality_1.9.2.tar.gz ### ############################################################################## ############################################################################## * using log directory ‘/Users/biocbuild/bbs-3.22-bioc/meat/MsQuality.Rcheck’ * using R version 4.5.1 Patched (2025-09-10 r88807) * using platform: x86_64-apple-darwin20 * R was compiled by Apple clang version 14.0.0 (clang-1400.0.29.202) GNU Fortran (GCC) 14.2.0 * running under: macOS Monterey 12.7.6 * using session charset: UTF-8 * using option ‘--no-vignettes’ * checking for file ‘MsQuality/DESCRIPTION’ ... OK * checking extension type ... Package * this is package ‘MsQuality’ version ‘1.9.2’ * package encoding: UTF-8 * checking package namespace information ... OK * checking package dependencies ... OK * checking if this is a source package ... OK * checking if there is a namespace ... OK * checking for hidden files and directories ... OK * checking for portable file names ... OK * checking for sufficient/correct file permissions ... OK * checking whether package ‘MsQuality’ can be installed ... OK * checking installed package size ... OK * checking package directory ... OK * checking ‘build’ directory ... OK * checking DESCRIPTION meta-information ... OK * checking top-level files ... OK * checking for left-over files ... OK * checking index information ... OK * checking package subdirectories ... OK * checking code files for non-ASCII characters ... OK * checking R files for syntax errors ... OK * checking whether the package can be loaded ... OK * checking whether the package can be loaded with stated dependencies ... OK * checking whether the package can be unloaded cleanly ... OK * checking whether the namespace can be loaded with stated dependencies ... OK * checking whether the namespace can be unloaded cleanly ... OK * checking dependencies in R code ... OK * checking S3 generic/method consistency ... OK * checking replacement functions ... OK * checking foreign function calls ... OK * checking R code for possible problems ... OK * checking Rd files ... OK * checking Rd metadata ... OK * checking Rd cross-references ... OK * checking for missing documentation entries ... OK * checking for code/documentation mismatches ... OK * checking Rd \usage sections ... OK * checking Rd contents ... OK * checking for unstated dependencies in examples ... OK * checking contents of ‘data’ directory ... OK * checking data for non-ASCII characters ... OK * checking data for ASCII and uncompressed saves ... OK * checking files in ‘vignettes’ ... OK * checking examples ... OK Examples with CPU (user + system) or elapsed time > 5s user system elapsed calculateMetricsFromSpectra 10.817 3.626 12.325 calculateMetrics 5.957 1.042 6.707 calculateMetricsFromMsExperiment 4.768 1.779 3.705 calculateMetricsFromOneSampleSpectra 4.069 1.298 2.716 * checking for unstated dependencies in ‘tests’ ... OK * checking tests ... Running ‘testthat.R’ ERROR Running the tests in ‘tests/testthat.R’ failed. Last 13 lines of output: Backtrace: ▆ 1. ├─testthat::expect_equal(...) at test_function_calculateMetrics_from_Spectra.R:509:5 2. │ └─testthat::quasi_label(enquo(object), label, arg = "object") 3. │ └─rlang::eval_bare(expr, quo_get_env(quo)) 4. └─MsQuality::calculateMetrics(...) 5. └─MsQuality::calculateMetricsFromSpectra(...) 6. ├─BiocParallel::bplapply(...) 7. └─BiocParallel::bplapply(...) 8. └─BiocParallel:::.bpinit(...) [ FAIL 3 | WARN 0 | SKIP 0 | PASS 747 ] Error: Test failures Execution halted * checking for unstated dependencies in vignettes ... OK * checking package vignettes ... OK * checking running R code from vignettes ... SKIPPED * checking re-building of vignette outputs ... SKIPPED * checking PDF version of manual ... OK * DONE Status: 1 ERROR See ‘/Users/biocbuild/bbs-3.22-bioc/meat/MsQuality.Rcheck/00check.log’ for details.
MsQuality.Rcheck/00install.out
############################################################################## ############################################################################## ### ### Running command: ### ### /Library/Frameworks/R.framework/Resources/bin/R CMD INSTALL MsQuality ### ############################################################################## ############################################################################## * installing to library ‘/Library/Frameworks/R.framework/Versions/4.5-x86_64/Resources/library’ * installing *source* package ‘MsQuality’ ... ** this is package ‘MsQuality’ version ‘1.9.2’ ** using staged installation ** R ** data ** inst ** byte-compile and prepare package for lazy loading ** help *** installing help indices ** building package indices ** installing vignettes ** testing if installed package can be loaded from temporary location ** testing if installed package can be loaded from final location ** testing if installed package keeps a record of temporary installation path * DONE (MsQuality)
MsQuality.Rcheck/tests/testthat.Rout.fail
R version 4.5.1 Patched (2025-09-10 r88807) -- "Great Square Root" Copyright (C) 2025 The R Foundation for Statistical Computing Platform: x86_64-apple-darwin20 R is free software and comes with ABSOLUTELY NO WARRANTY. You are welcome to redistribute it under certain conditions. Type 'license()' or 'licence()' for distribution details. R is a collaborative project with many contributors. Type 'contributors()' for more information and 'citation()' on how to cite R or R packages in publications. Type 'demo()' for some demos, 'help()' for on-line help, or 'help.start()' for an HTML browser interface to help. Type 'q()' to quit R. > library("testthat") > library("MsQuality") > library("Spectra") Loading required package: S4Vectors Loading required package: stats4 Loading required package: BiocGenerics Loading required package: generics Attaching package: 'generics' The following objects are masked from 'package:base': as.difftime, as.factor, as.ordered, intersect, is.element, setdiff, setequal, union Attaching package: 'BiocGenerics' The following objects are masked from 'package:stats': IQR, mad, sd, var, xtabs The following objects are masked from 'package:base': Filter, Find, Map, Position, Reduce, anyDuplicated, aperm, append, as.data.frame, basename, cbind, colnames, dirname, do.call, duplicated, eval, evalq, get, grep, grepl, is.unsorted, lapply, mapply, match, mget, order, paste, pmax, pmax.int, pmin, pmin.int, rank, rbind, rownames, sapply, saveRDS, table, tapply, unique, unsplit, which.max, which.min Attaching package: 'S4Vectors' The following object is masked from 'package:utils': findMatches The following objects are masked from 'package:base': I, expand.grid, unname Loading required package: BiocParallel > library("MsExperiment") Loading required package: ProtGenerics Attaching package: 'ProtGenerics' The following object is masked from 'package:stats': smooth > library("msdata") > library("S4Vectors") > > test_check("MsQuality") trying URL 'https://api.github.com/repos/HUPO-PSI/psi-ms-CV/releases/latest' Content type 'application/json; charset=utf-8' length 7693 bytes ================================================== downloaded 7693 bytes trying URL 'https://github.com/HUPO-PSI/psi-ms-CV/releases/download/v4.1.205/psi-ms.obo' Content type 'application/octet-stream' length 1053531 bytes (1.0 MB) ================================================== downloaded 1.0 MB [ FAIL 3 | WARN 0 | SKIP 0 | PASS 747 ] ══ Failed tests ════════════════════════════════════════════════════════════════ ── Error ('test_function_calculateMetrics_from_Spectra.R:156:5'): calculateMetricsFromOneSampleSpectra ── Error in `h(simpleError(msg, call))`: error in evaluating the argument 'object' in selecting a method for function 'filterEmptySpectra': error in evaluating the argument 'object' in selecting a method for function 'filterIntensity': error in evaluating the argument 'i' in selecting a method for function 'extractByIndex': values must be length 1, but FUN(X[[3]]) result is length 0 Backtrace: ▆ 1. ├─testthat::expect_equal(...) at test_function_calculateMetrics_from_Spectra.R:156:5 2. │ └─testthat::quasi_label(enquo(object), label, arg = "object") 3. │ └─rlang::eval_bare(expr, quo_get_env(quo)) 4. ├─MsQuality:::calculateMetricsFromOneSampleSpectra(...) 5. │ ├─ProtGenerics::filterEmptySpectra(...) 6. │ ├─ProtGenerics::filterIntensity(...) 7. │ ├─ProtGenerics::filterEmptySpectra(spectra) 8. │ └─Spectra::filterEmptySpectra(spectra) 9. │ └─Spectra (local) .local(object, ...) 10. │ ├─ProtGenerics::extractByIndex(object@backend, which(as.logical(lengths(object)))) 11. │ ├─base::which(as.logical(lengths(object))) 12. │ └─base::lengths(object) 13. │ ├─methods (local) lengths(x, use.names) 14. │ └─Spectra (local) lengths(x, use.names) 15. │ └─base::lengths(x@backend, use.names = use.names) 16. │ ├─methods (local) lengths(x, use.names) 17. │ └─Spectra (local) lengths(x, use.names) 18. │ └─base::vapply(peaksData(x), nrow, NA_integer_) 19. ├─base::.handleSimpleError(...) 20. │ └─base (local) h(simpleError(msg, call)) 21. ├─base::.handleSimpleError(...) 22. │ └─base (local) h(simpleError(msg, call)) 23. └─base::.handleSimpleError(...) 24. └─base (local) h(simpleError(msg, call)) ── Error ('test_function_calculateMetrics_from_Spectra.R:273:5'): calculateMetricsFromSpectra ── <bplist_error/bperror/error/condition> Error: BiocParallel errors 1 remote errors, element index: 1 0 unevaluated and other errors first remote error: Error in h(simpleError(msg, call)): error in evaluating the argument 'object' in selecting a method for function 'filterEmptySpectra': error in evaluating the argument 'object' in selecting a method for function 'filterIntensity': error in evaluating the argument 'i' in selecting a method for function 'extractByIndex': values must be length 1, but FUN(X[[3]]) result is length 0 Backtrace: ▆ 1. ├─testthat::expect_equal(...) at test_function_calculateMetrics_from_Spectra.R:273:5 2. │ └─testthat::quasi_label(enquo(object), label, arg = "object") 3. │ └─rlang::eval_bare(expr, quo_get_env(quo)) 4. └─MsQuality::calculateMetricsFromSpectra(...) 5. ├─BiocParallel::bplapply(...) 6. └─BiocParallel::bplapply(...) 7. └─BiocParallel:::.bpinit(...) ── Error ('test_function_calculateMetrics_from_Spectra.R:509:5'): calculateMetrics ── <bplist_error/bperror/error/condition> Error: BiocParallel errors 1 remote errors, element index: 1 0 unevaluated and other errors first remote error: Error in h(simpleError(msg, call)): error in evaluating the argument 'object' in selecting a method for function 'filterEmptySpectra': error in evaluating the argument 'object' in selecting a method for function 'filterIntensity': error in evaluating the argument 'i' in selecting a method for function 'extractByIndex': values must be length 1, but FUN(X[[3]]) result is length 0 Backtrace: ▆ 1. ├─testthat::expect_equal(...) at test_function_calculateMetrics_from_Spectra.R:509:5 2. │ └─testthat::quasi_label(enquo(object), label, arg = "object") 3. │ └─rlang::eval_bare(expr, quo_get_env(quo)) 4. └─MsQuality::calculateMetrics(...) 5. └─MsQuality::calculateMetricsFromSpectra(...) 6. ├─BiocParallel::bplapply(...) 7. └─BiocParallel::bplapply(...) 8. └─BiocParallel:::.bpinit(...) [ FAIL 3 | WARN 0 | SKIP 0 | PASS 747 ] Error: Test failures Execution halted
MsQuality.Rcheck/MsQuality-Ex.timings
name | user | system | elapsed | |
MsQuality-package | 0.000 | 0.001 | 0.000 | |
areaUnderTic | 0.247 | 0.023 | 0.270 | |
areaUnderTicRtQuantiles | 0.219 | 0.009 | 0.228 | |
calculateMetrics | 5.957 | 1.042 | 6.707 | |
calculateMetricsFromMsExperiment | 4.768 | 1.779 | 3.705 | |
calculateMetricsFromOneSampleSpectra | 4.069 | 1.298 | 2.716 | |
calculateMetricsFromSpectra | 10.817 | 3.626 | 12.325 | |
chromatographyDuration | 0.166 | 0.032 | 0.199 | |
dot-rtOrderSpectra | 0.180 | 0.020 | 0.201 | |
extentIdentifiedPrecursorIntensity | 0.145 | 0.013 | 0.158 | |
meanCharge | 0.162 | 0.014 | 0.177 | |
medianCharge | 0.140 | 0.012 | 0.153 | |
medianPrecursorMz | 0.163 | 0.014 | 0.178 | |
medianTicOfRtRange | 0.153 | 0.013 | 0.168 | |
medianTicRtIqr | 0.173 | 0.014 | 0.188 | |
msSignal10xChange | 0.174 | 0.014 | 0.189 | |
mzAcquisitionRange | 0.177 | 0.012 | 0.190 | |
numberEmptyScans | 0.269 | 0.051 | 0.322 | |
numberSpectra | 0.155 | 0.010 | 0.166 | |
plotMetric | 3.099 | 1.218 | 3.337 | |
plotMetricTibble | 2.600 | 1.285 | 2.261 | |
precursorIntensityMean | 0.149 | 0.017 | 0.167 | |
precursorIntensityQuartiles | 0.150 | 0.012 | 0.163 | |
precursorIntensityRange | 0.142 | 0.015 | 0.158 | |
precursorIntensitySd | 0.147 | 0.014 | 0.161 | |
qualityMetrics | 0.208 | 0.056 | 0.266 | |
ratioCharge1over2 | 0.159 | 0.012 | 0.171 | |
ratioCharge3over2 | 0.161 | 0.012 | 0.174 | |
ratioCharge4over2 | 0.146 | 0.010 | 0.158 | |
rtAcquisitionRange | 0.147 | 0.011 | 0.159 | |
rtIqr | 0.162 | 0.013 | 0.175 | |
rtIqrRate | 0.156 | 0.011 | 0.167 | |
rtOverMsQuarters | 0.162 | 0.012 | 0.175 | |
shinyMsQuality | 0.584 | 0.376 | 1.967 | |
ticQuantileRtFraction | 1.952 | 0.731 | 0.272 | |
ticQuartileToQuartileLogRatio | 0.155 | 0.016 | 0.171 | |
transformIntoMzQC | 2.277 | 1.036 | 1.873 | |