Back to Multiple platform build/check report for BioC 3.22:   simplified   long
ABCDEFGHIJKL[M]NOPQRSTUVWXYZ

This page was generated on 2025-10-21 12:06 -0400 (Tue, 21 Oct 2025).

HostnameOSArch (*)R versionInstalled pkgs
nebbiolo2Linux (Ubuntu 24.04.3 LTS)x86_644.5.1 Patched (2025-08-23 r88802) -- "Great Square Root" 4887
lconwaymacOS 12.7.6 Montereyx86_644.5.1 Patched (2025-09-10 r88807) -- "Great Square Root" 4677
kjohnson3macOS 13.7.7 Venturaarm644.5.1 Patched (2025-09-10 r88807) -- "Great Square Root" 4622
taishanLinux (openEuler 24.03 LTS)aarch644.5.0 (2025-04-11) -- "How About a Twenty-Six" 4642
Click on any hostname to see more info about the system (e.g. compilers)      (*) as reported by 'uname -p', except on Windows and Mac OS X

Package 1369/2353HostnameOS / ArchINSTALLBUILDCHECKBUILD BIN
MsBackendMetaboLights 1.3.1  (landing page)
Johannes Rainer
Snapshot Date: 2025-10-20 13:45 -0400 (Mon, 20 Oct 2025)
git_url: https://git.bioconductor.org/packages/MsBackendMetaboLights
git_branch: devel
git_last_commit: 11ea78a
git_last_commit_date: 2025-04-30 02:41:33 -0400 (Wed, 30 Apr 2025)
nebbiolo2Linux (Ubuntu 24.04.3 LTS) / x86_64  OK    OK    OK  UNNEEDED, same version is already published
lconwaymacOS 12.7.6 Monterey / x86_64  OK    OK    OK    OK  UNNEEDED, same version is already published
kjohnson3macOS 13.7.7 Ventura / arm64  OK    OK    OK    OK  UNNEEDED, same version is already published
taishanLinux (openEuler 24.03 LTS) / aarch64  OK    OK    TIMEOUT  


CHECK results for MsBackendMetaboLights on kjohnson3

To the developers/maintainers of the MsBackendMetaboLights package:
- Allow up to 24 hours (and sometimes 48 hours) for your latest push to git@git.bioconductor.org:packages/MsBackendMetaboLights.git to reflect on this report. See Troubleshooting Build Report for more information.
- Use the following Renviron settings to reproduce errors and warnings.
- If 'R CMD check' started to fail recently on the Linux builder(s) over a missing dependency, add the missing dependency to 'Suggests:' in your DESCRIPTION file. See Renviron.bioc for more information.

raw results


Summary

Package: MsBackendMetaboLights
Version: 1.3.1
Command: /Library/Frameworks/R.framework/Resources/bin/R CMD check --install=check:MsBackendMetaboLights.install-out.txt --library=/Library/Frameworks/R.framework/Resources/library --no-vignettes --timings MsBackendMetaboLights_1.3.1.tar.gz
StartedAt: 2025-10-20 20:53:14 -0400 (Mon, 20 Oct 2025)
EndedAt: 2025-10-20 20:59:21 -0400 (Mon, 20 Oct 2025)
EllapsedTime: 366.5 seconds
RetCode: 0
Status:   OK  
CheckDir: MsBackendMetaboLights.Rcheck
Warnings: 0

Command output

##############################################################################
##############################################################################
###
### Running command:
###
###   /Library/Frameworks/R.framework/Resources/bin/R CMD check --install=check:MsBackendMetaboLights.install-out.txt --library=/Library/Frameworks/R.framework/Resources/library --no-vignettes --timings MsBackendMetaboLights_1.3.1.tar.gz
###
##############################################################################
##############################################################################


* using log directory ‘/Users/biocbuild/bbs-3.22-bioc/meat/MsBackendMetaboLights.Rcheck’
* using R version 4.5.1 Patched (2025-09-10 r88807)
* using platform: aarch64-apple-darwin20
* R was compiled by
    Apple clang version 16.0.0 (clang-1600.0.26.6)
    GNU Fortran (GCC) 14.2.0
* running under: macOS Ventura 13.7.7
* using session charset: UTF-8
* using option ‘--no-vignettes’
* checking for file ‘MsBackendMetaboLights/DESCRIPTION’ ... OK
* this is package ‘MsBackendMetaboLights’ version ‘1.3.1’
* package encoding: UTF-8
* checking package namespace information ... OK
* checking package dependencies ... OK
* checking if this is a source package ... OK
* checking if there is a namespace ... OK
* checking for hidden files and directories ... OK
* checking for portable file names ... OK
* checking for sufficient/correct file permissions ... OK
* checking whether package ‘MsBackendMetaboLights’ can be installed ... OK
* checking installed package size ... OK
* checking package directory ... OK
* checking ‘build’ directory ... OK
* checking DESCRIPTION meta-information ... OK
* checking top-level files ... OK
* checking for left-over files ... OK
* checking index information ... OK
* checking package subdirectories ... OK
* checking code files for non-ASCII characters ... OK
* checking R files for syntax errors ... OK
* checking whether the package can be loaded ... OK
* checking whether the package can be loaded with stated dependencies ... OK
* checking whether the package can be unloaded cleanly ... OK
* checking whether the namespace can be loaded with stated dependencies ... OK
* checking whether the namespace can be unloaded cleanly ... OK
* checking dependencies in R code ... OK
* checking S3 generic/method consistency ... OK
* checking replacement functions ... OK
* checking foreign function calls ... OK
* checking R code for possible problems ... OK
* checking Rd files ... OK
* checking Rd metadata ... OK
* checking Rd cross-references ... OK
* checking for missing documentation entries ... OK
* checking for code/documentation mismatches ... OK
* checking Rd \usage sections ... OK
* checking Rd contents ... OK
* checking for unstated dependencies in examples ... OK
* checking files in ‘vignettes’ ... OK
* checking examples ... OK
Examples with CPU (user + system) or elapsed time > 5s
                       user system elapsed
MsBackendMetaboLights 2.843  0.569   9.664
MetaboLights-utils    0.128  0.014   6.789
* checking for unstated dependencies in ‘tests’ ... OK
* checking tests ...
  Running ‘testthat.R’
 OK
* checking for unstated dependencies in vignettes ... OK
* checking package vignettes ... OK
* checking running R code from vignettes ... SKIPPED
* checking re-building of vignette outputs ... SKIPPED
* checking PDF version of manual ... OK
* DONE

Status: OK


Installation output

MsBackendMetaboLights.Rcheck/00install.out

##############################################################################
##############################################################################
###
### Running command:
###
###   /Library/Frameworks/R.framework/Resources/bin/R CMD INSTALL MsBackendMetaboLights
###
##############################################################################
##############################################################################


* installing to library ‘/Library/Frameworks/R.framework/Versions/4.5-arm64/Resources/library’
* installing *source* package ‘MsBackendMetaboLights’ ...
** this is package ‘MsBackendMetaboLights’ version ‘1.3.1’
** using staged installation
** R
** byte-compile and prepare package for lazy loading
** help
*** installing help indices
*** copying figures
** building package indices
** installing vignettes
** testing if installed package can be loaded from temporary location
** testing if installed package can be loaded from final location
** testing if installed package keeps a record of temporary installation path
* DONE (MsBackendMetaboLights)

Tests output

MsBackendMetaboLights.Rcheck/tests/testthat.Rout


R version 4.5.1 Patched (2025-09-10 r88807) -- "Great Square Root"
Copyright (C) 2025 The R Foundation for Statistical Computing
Platform: aarch64-apple-darwin20

R is free software and comes with ABSOLUTELY NO WARRANTY.
You are welcome to redistribute it under certain conditions.
Type 'license()' or 'licence()' for distribution details.

R is a collaborative project with many contributors.
Type 'contributors()' for more information and
'citation()' on how to cite R or R packages in publications.

Type 'demo()' for some demos, 'help()' for on-line help, or
'help.start()' for an HTML browser interface to help.
Type 'q()' to quit R.

> #' MetaboLights ID: MTBLS8735
> #' ftp://ftp.ebi.ac.uk/pub/databases/metabolights/studies/public/MTBLS8735
> 
> library(testthat)
> library(MsBackendMetaboLights)
Loading required package: Spectra
Loading required package: S4Vectors
Loading required package: stats4
Loading required package: BiocGenerics
Loading required package: generics

Attaching package: 'generics'

The following objects are masked from 'package:base':

    as.difftime, as.factor, as.ordered, intersect, is.element, setdiff,
    setequal, union


Attaching package: 'BiocGenerics'

The following objects are masked from 'package:stats':

    IQR, mad, sd, var, xtabs

The following objects are masked from 'package:base':

    Filter, Find, Map, Position, Reduce, anyDuplicated, aperm, append,
    as.data.frame, basename, cbind, colnames, dirname, do.call,
    duplicated, eval, evalq, get, grep, grepl, is.unsorted, lapply,
    mapply, match, mget, order, paste, pmax, pmax.int, pmin, pmin.int,
    rank, rbind, rownames, sapply, saveRDS, table, tapply, unique,
    unsplit, which.max, which.min


Attaching package: 'S4Vectors'

The following object is masked from 'package:utils':

    findMatches

The following objects are masked from 'package:base':

    I, expand.grid, unname

Loading required package: BiocParallel
> 
> test_check("MsBackendMetaboLights")
[ FAIL 0 | WARN 0 | SKIP 0 | PASS 74 ]
> 
> ## Run tests with the unit test suite defined in the Spectra package to ensure
> ## compliance with the definitions of the MsBackend interface/class.
> be <- backendInitialize(MsBackendMetaboLights(), mtblsId = "MTBLS39",
+                         filePattern = "63A.cdf")
Used data files from the assay's column "Raw Spectral Data File" since none were available in column "Derived Spectral Data File".
> 
> library(Spectra)
> test_suite <- system.file("test_backends", "test_MsBackend",
+                           package = "Spectra")
> res <- test_dir(test_suite, stop_on_failure = TRUE)
✔ | F W  S  OK | Context

⠏ |          0 | peaks_variables                                                
⠙ |          2 | peaks_variables                                                
⠸ |          4 | peaks_variables                                                
✔ |          4 | peaks_variables

⠏ |          0 | spectra_subsetting                                             
⠋ |          1 | spectra_subsetting                                             
⠹ |         43 | spectra_subsetting                                             
⠋ |         81 | spectra_subsetting                                             
⠧ |        118 | spectra_subsetting                                             
⠧ |        158 | spectra_subsetting                                             
⠸ |        194 | spectra_subsetting                                             
⠸ |        234 | spectra_subsetting                                             
⠋ |        271 | spectra_subsetting                                             
⠦ |        307 | spectra_subsetting                                             
⠇ |        349 | spectra_subsetting                                             
⠏ |        390 | spectra_subsetting                                             
⠦ |        427 | spectra_subsetting                                             
⠴ |        466 | spectra_subsetting                                             
⠼ |        505 | spectra_subsetting                                             
⠸ |        544 | spectra_subsetting                                             
⠹ |        583 | spectra_subsetting                                             
⠙ |        622 | spectra_subsetting                                             
⠋ |        661 | spectra_subsetting                                             
⠏ |        700 | spectra_subsetting                                             
⠇ |        739 | spectra_subsetting                                             
⠧ |        778 | spectra_subsetting                                             
⠦ |        817 | spectra_subsetting                                             
⠴ |        856 | spectra_subsetting                                             
⠼ |        895 | spectra_subsetting                                             
⠸ |        934 | spectra_subsetting                                             
⠹ |        973 | spectra_subsetting                                             
⠙ |        1012 | spectra_subsetting                                            
⠧ |        1048 | spectra_subsetting                                            
⠸ |        1084 | spectra_subsetting                                            
⠦ |        1117 | spectra_subsetting                                            
⠹ |        1153 | spectra_subsetting                                            
⠹ |        1183 | spectra_subsetting                                            
⠴ |        1216 | spectra_subsetting                                            
⠼ |        1255 | spectra_subsetting                                            
⠴ |        1286 | spectra_subsetting                                            
⠧ |        1318 | spectra_subsetting                                            
⠸ |        1354 | spectra_subsetting                                            
⠦ |        1387 | spectra_subsetting                                            
⠦ |        1417 | spectra_subsetting                                            
⠹ |        1453 | spectra_subsetting                                            
⠴ |        1486 | spectra_subsetting                                            
⠴ |        1516 | spectra_subsetting                                            
⠇ |        1549 | spectra_subsetting                                            
⠴ |        1576 | spectra_subsetting                                            
⠧ |        1598 | spectra_subsetting                                            
⠦ |        1627 | spectra_subsetting                                            
⠦ |        1657 | spectra_subsetting                                            
⠹ |        1693 | spectra_subsetting                                            
⠦ |        1717 | spectra_subsetting                                            
⠋ |        1751 | spectra_subsetting                                            
⠇ |        1789 | spectra_subsetting                                            
⠦ |        1827 | spectra_subsetting                                            
⠋ |        1861 | spectra_subsetting                                            
⠸ |        1894 | spectra_subsetting                                            
⠧ |        1928 | spectra_subsetting                                            
⠋ |        1961 | spectra_subsetting                                            
⠋ |        1981 | spectra_subsetting                                            
⠸ |        2014 | spectra_subsetting                                            
⠦ |        2047 | spectra_subsetting                                            
⠏ |        2080 | spectra_subsetting                                            
⠴ |        2116 | spectra_subsetting                                            
⠙ |        2152 | spectra_subsetting                                            
⠼ |        2185 | spectra_subsetting                                            
⠙ |        2222 | spectra_subsetting                                            
⠦ |        2257 | spectra_subsetting                                            
⠸ |        2294 | spectra_subsetting                                            
⠇ |        2329 | spectra_subsetting                                            
⠧ |        2368 | spectra_subsetting                                            
⠸ |        2404 | spectra_subsetting                                            
⠏ |        2440 | spectra_subsetting                                            
⠇ |        2479 | spectra_subsetting                                            
⠧ |        2518 | spectra_subsetting                                            
⠦ |        2557 | spectra_subsetting                                            
⠴ |        2596 | spectra_subsetting                                            
⠇ |        2629 | spectra_subsetting                                            
⠧ |        2668 | spectra_subsetting                                            
⠦ |        2707 | spectra_subsetting                                            
⠴ |        2746 | spectra_subsetting                                            
⠴ |        2786 | spectra_subsetting                                            
⠇ |        2809 | spectra_subsetting                                            
⠼ |        2845 | spectra_subsetting                                            
⠋ |        2881 | spectra_subsetting                                            
⠏ |        2920 | spectra_subsetting                                            
⠇ |        2959 | spectra_subsetting                                            
⠙ |        2992 | spectra_subsetting                                            
⠋ |        3031 | spectra_subsetting                                            
⠧ |        3068 | spectra_subsetting                                            
⠸ |        3104 | spectra_subsetting                                            
⠙ |        3142 | spectra_subsetting                                            
⠧ |        3178 | spectra_subsetting                                            
⠙ |        3212 | spectra_subsetting                                            
⠏ |        3250 | spectra_subsetting                                            
⠇ |        3289 | spectra_subsetting                                            
⠧ |        3328 | spectra_subsetting                                            
⠙ |        3362 | spectra_subsetting                                            
⠸ |        3394 | spectra_subsetting                                            
⠏ |        3430 | spectra_subsetting                                            
⠇ |        3469 | spectra_subsetting                                            
⠧ |        3508 | spectra_subsetting                                            
⠙ |        3542 | spectra_subsetting                                            
⠏ |        3580 | spectra_subsetting                                            
⠸ |        3614 | spectra_subsetting                                            
⠏ |        3650 | spectra_subsetting                                            
⠼ |        3685 | spectra_subsetting                                            
⠧ |        3718 | spectra_subsetting                                            
⠧ |        3748 | spectra_subsetting                                            
⠋ |        3781 | spectra_subsetting                                            
⠧ |        3818 | spectra_subsetting                                            
⠏ |        3850 | spectra_subsetting                                            
⠴ |        3886 | spectra_subsetting                                            
⠴ |        3916 | spectra_subsetting                                            
⠙ |        3952 | spectra_subsetting                                            
⠧ |        3988 | spectra_subsetting                                            
⠋ |        4021 | spectra_subsetting                                            
⠧ |        4058 | spectra_subsetting                                            
⠸ |        4094 | spectra_subsetting                                            
⠏ |        4130 | spectra_subsetting                                            
⠧ |        4168 | spectra_subsetting                                            
⠸ |        4204 | spectra_subsetting                                            
⠏ |        4240 | spectra_subsetting                                            
⠹ |        4273 | spectra_subsetting                                            
⠇ |        4309 | spectra_subsetting                                            
⠧ |        4348 | spectra_subsetting                                            
⠏ |        4380 | spectra_subsetting                                            
⠦ |        4417 | spectra_subsetting                                            
⠹ |        4453 | spectra_subsetting                                            
⠧ |        4488 | spectra_subsetting                                            
⠇ |        4519 | spectra_subsetting                                            
⠙ |        4552 | spectra_subsetting                                            
⠧ |        4588 | spectra_subsetting                                            
⠸ |        4624 | spectra_subsetting                                            
⠹ |        4663 | spectra_subsetting                                            
⠏ |        4700 | spectra_subsetting                                            
⠼ |        4735 | spectra_subsetting                                            
⠇ |        4769 | spectra_subsetting                                            
⠋ |        4801 | spectra_subsetting                                            
⠦ |        4837 | spectra_subsetting                                            
⠦ |        4867 | spectra_subsetting                                            
⠹ |        4903 | spectra_subsetting                                            
⠇ |        4939 | spectra_subsetting                                            
⠙ |        4972 | spectra_subsetting                                            
⠦ |        4997 | spectra_subsetting                                            
⠇ |        4999 | spectra_subsetting                                            
⠋ |        5001 | spectra_subsetting                                            
⠹ |        5003 | spectra_subsetting                                            
⠼ |        5005 | spectra_subsetting                                            
⠦ |        5007 | spectra_subsetting                                            
⠇ |        5009 | spectra_subsetting                                            
⠋ |        5011 | spectra_subsetting                                            
⠹ |        5013 | spectra_subsetting                                            
⠼ |        5015 | spectra_subsetting                                            
⠴ |        5016 | spectra_subsetting                                            
⠧ |        5018 | spectra_subsetting                                            
⠏ |        5020 | spectra_subsetting                                            
⠙ |        5022 | spectra_subsetting                                            
⠸ |        5024 | spectra_subsetting                                            
⠴ |        5026 | spectra_subsetting                                            
⠧ |        5028 | spectra_subsetting                                            
⠏ |        5030 | spectra_subsetting                                            
⠙ |        5032 | spectra_subsetting                                            
⠸ |        5034 | spectra_subsetting                                            
⠴ |        5036 | spectra_subsetting                                            
⠧ |        5038 | spectra_subsetting                                            
⠏ |        5040 | spectra_subsetting                                            
⠙ |        5042 | spectra_subsetting                                            
⠸ |        5044 | spectra_subsetting                                            
⠴ |        5046 | spectra_subsetting                                            
⠧ |        5048 | spectra_subsetting                                            
⠏ |        5050 | spectra_subsetting                                            
⠙ |        5052 | spectra_subsetting                                            
⠸ |        5054 | spectra_subsetting                                            
⠴ |        5056 | spectra_subsetting                                            
⠧ |        5058 | spectra_subsetting                                            
⠏ |        5060 | spectra_subsetting                                            
⠙ |        5062 | spectra_subsetting                                            
⠸ |        5064 | spectra_subsetting                                            
⠴ |        5066 | spectra_subsetting                                            
⠧ |        5068 | spectra_subsetting                                            
⠇ |        5069 | spectra_subsetting                                            
⠋ |        5071 | spectra_subsetting                                            
⠹ |        5073 | spectra_subsetting                                            
⠼ |        5075 | spectra_subsetting                                            
⠦ |        5077 | spectra_subsetting                                            
⠇ |        5079 | spectra_subsetting                                            
⠋ |        5081 | spectra_subsetting                                            
⠹ |        5083 | spectra_subsetting                                            
⠼ |        5085 | spectra_subsetting                                            
⠦ |        5087 | spectra_subsetting                                            
⠇ |        5089 | spectra_subsetting                                            
⠋ |        5091 | spectra_subsetting                                            
⠹ |        5093 | spectra_subsetting                                            
⠼ |        5095 | spectra_subsetting                                            
⠦ |        5097 | spectra_subsetting                                            
⠇ |        5099 | spectra_subsetting                                            
⠋ |        5101 | spectra_subsetting                                            
⠹ |        5103 | spectra_subsetting                                            
⠼ |        5105 | spectra_subsetting                                            
⠦ |        5107 | spectra_subsetting                                            
⠇ |        5109 | spectra_subsetting                                            
⠋ |        5111 | spectra_subsetting                                            
⠹ |        5113 | spectra_subsetting                                            
⠼ |        5115 | spectra_subsetting                                            
⠦ |        5117 | spectra_subsetting                                            
⠇ |        5119 | spectra_subsetting                                            
⠋ |        5121 | spectra_subsetting                                            
⠹ |        5123 | spectra_subsetting                                            
⠼ |        5125 | spectra_subsetting                                            
⠦ |        5127 | spectra_subsetting                                            
⠇ |        5129 | spectra_subsetting                                            
⠋ |        5131 | spectra_subsetting                                            
⠹ |        5133 | spectra_subsetting                                            
⠼ |        5135 | spectra_subsetting                                            
⠦ |        5137 | spectra_subsetting                                            
⠇ |        5139 | spectra_subsetting                                            
⠋ |        5141 | spectra_subsetting                                            
⠹ |        5143 | spectra_subsetting                                            
⠼ |        5145 | spectra_subsetting                                            
⠦ |        5147 | spectra_subsetting                                            
⠇ |        5149 | spectra_subsetting                                            
⠋ |        5151 | spectra_subsetting                                            
⠹ |        5153 | spectra_subsetting                                            
⠼ |        5155 | spectra_subsetting                                            
⠦ |        5157 | spectra_subsetting                                            
⠇ |        5159 | spectra_subsetting                                            
⠋ |        5161 | spectra_subsetting                                            
⠹ |        5163 | spectra_subsetting                                            
⠼ |        5165 | spectra_subsetting                                            
⠴ |        5166 | spectra_subsetting                                            
⠧ |        5168 | spectra_subsetting                                            
⠏ |        5170 | spectra_subsetting                                            
⠙ |        5172 | spectra_subsetting                                            
⠸ |        5174 | spectra_subsetting                                            
⠴ |        5176 | spectra_subsetting                                            
⠧ |        5178 | spectra_subsetting                                            
⠏ |        5180 | spectra_subsetting                                            
⠋ |        5181 | spectra_subsetting                                            
⠹ |        5183 | spectra_subsetting                                            
⠼ |        5185 | spectra_subsetting                                            
⠦ |        5187 | spectra_subsetting                                            
⠇ |        5189 | spectra_subsetting                                            
⠋ |        5191 | spectra_subsetting                                            
⠹ |        5193 | spectra_subsetting                                            
⠼ |        5195 | spectra_subsetting                                            
⠦ |        5197 | spectra_subsetting                                            
⠇ |        5199 | spectra_subsetting                                            
⠋ |        5201 | spectra_subsetting                                            
⠹ |        5203 | spectra_subsetting                                            
⠼ |        5205 | spectra_subsetting                                            
⠦ |        5207 | spectra_subsetting                                            
⠇ |        5209 | spectra_subsetting                                            
⠋ |        5211 | spectra_subsetting                                            
⠹ |        5213 | spectra_subsetting                                            
⠼ |        5215 | spectra_subsetting                                            
⠦ |        5217 | spectra_subsetting                                            
⠇ |        5219 | spectra_subsetting                                            
⠋ |        5221 | spectra_subsetting                                            
⠹ |        5223 | spectra_subsetting                                            
⠼ |        5225 | spectra_subsetting                                            
⠦ |        5227 | spectra_subsetting                                            
⠇ |        5229 | spectra_subsetting                                            
⠋ |        5231 | spectra_subsetting                                            
⠹ |        5233 | spectra_subsetting                                            
⠼ |        5235 | spectra_subsetting                                            
⠦ |        5237 | spectra_subsetting                                            
⠇ |        5239 | spectra_subsetting                                            
⠏ |        5240 | spectra_subsetting                                            
⠙ |        5242 | spectra_subsetting                                            
⠸ |        5244 | spectra_subsetting                                            
⠴ |        5246 | spectra_subsetting                                            
⠧ |        5248 | spectra_subsetting                                            
⠏ |        5250 | spectra_subsetting                                            
⠙ |        5252 | spectra_subsetting                                            
⠸ |        5254 | spectra_subsetting                                            
⠴ |        5256 | spectra_subsetting                                            
⠧ |        5258 | spectra_subsetting                                            
⠏ |        5260 | spectra_subsetting                                            
⠙ |        5262 | spectra_subsetting                                            
⠸ |        5264 | spectra_subsetting                                            
⠴ |        5266 | spectra_subsetting                                            
⠧ |        5268 | spectra_subsetting                                            
⠏ |        5270 | spectra_subsetting                                            
⠙ |        5272 | spectra_subsetting                                            
⠸ |        5274 | spectra_subsetting                                            
⠴ |        5276 | spectra_subsetting                                            
⠧ |        5278 | spectra_subsetting                                            
⠏ |        5280 | spectra_subsetting                                            
⠙ |        5282 | spectra_subsetting                                            
⠸ |        5284 | spectra_subsetting                                            
⠴ |        5286 | spectra_subsetting                                            
⠧ |        5288 | spectra_subsetting                                            
⠏ |        5290 | spectra_subsetting                                            
⠙ |        5292 | spectra_subsetting                                            
⠸ |        5294 | spectra_subsetting                                            
⠴ |        5296 | spectra_subsetting                                            
⠧ |        5298 | spectra_subsetting                                            
⠏ |        5300 | spectra_subsetting                                            
⠙ |        5302 | spectra_subsetting                                            
⠸ |        5304 | spectra_subsetting                                            
⠴ |        5306 | spectra_subsetting                                            
⠧ |        5308 | spectra_subsetting                                            
⠏ |        5310 | spectra_subsetting                                            
⠙ |        5312 | spectra_subsetting                                            
⠸ |        5314 | spectra_subsetting                                            
⠴ |        5316 | spectra_subsetting                                            
⠧ |        5318 | spectra_subsetting                                            
⠏ |        5320 | spectra_subsetting                                            
⠙ |        5322 | spectra_subsetting                                            
⠸ |        5324 | spectra_subsetting                                            
⠴ |        5326 | spectra_subsetting                                            
⠧ |        5328 | spectra_subsetting                                            
⠏ |        5330 | spectra_subsetting                                            
⠙ |        5332 | spectra_subsetting                                            
⠸ |        5334 | spectra_subsetting                                            
⠴ |        5336 | spectra_subsetting                                            
⠧ |        5338 | spectra_subsetting                                            
⠏ |        5340 | spectra_subsetting                                            
⠙ |        5342 | spectra_subsetting                                            
⠸ |        5344 | spectra_subsetting                                            
⠴ |        5346 | spectra_subsetting                                            
⠧ |        5348 | spectra_subsetting                                            
⠏ |        5350 | spectra_subsetting                                            
⠋ |        5351 | spectra_subsetting                                            
⠹ |        5353 | spectra_subsetting                                            
⠼ |        5355 | spectra_subsetting                                            
⠦ |        5357 | spectra_subsetting                                            
⠇ |        5359 | spectra_subsetting                                            
⠋ |        5361 | spectra_subsetting                                            
⠹ |        5363 | spectra_subsetting                                            
⠼ |        5365 | spectra_subsetting                                            
⠦ |        5367 | spectra_subsetting                                            
⠇ |        5369 | spectra_subsetting                                            
⠋ |        5371 | spectra_subsetting                                            
⠹ |        5373 | spectra_subsetting                                            
⠼ |        5375 | spectra_subsetting                                            
⠦ |        5377 | spectra_subsetting                                            
⠇ |        5379 | spectra_subsetting                                            
⠋ |        5381 | spectra_subsetting                                            
⠹ |        5383 | spectra_subsetting                                            
⠼ |        5385 | spectra_subsetting                                            
⠦ |        5387 | spectra_subsetting                                            
⠇ |        5389 | spectra_subsetting                                            
⠋ |        5391 | spectra_subsetting                                            
⠹ |        5393 | spectra_subsetting                                            
⠼ |        5395 | spectra_subsetting                                            
⠦ |        5397 | spectra_subsetting                                            
⠇ |        5399 | spectra_subsetting                                            
⠋ |        5401 | spectra_subsetting                                            
⠹ |        5403 | spectra_subsetting                                            
⠼ |        5405 | spectra_subsetting                                            
⠦ |        5407 | spectra_subsetting                                            
⠧ |        5408 | spectra_subsetting                                            
⠏ |        5410 | spectra_subsetting                                            
⠙ |        5412 | spectra_subsetting                                            
⠸ |        5414 | spectra_subsetting                                            
⠴ |        5416 | spectra_subsetting                                            
⠧ |        5418 | spectra_subsetting                                            
⠏ |        5420 | spectra_subsetting                                            
⠙ |        5422 | spectra_subsetting                                            
⠸ |        5424 | spectra_subsetting                                            
⠴ |        5426 | spectra_subsetting                                            
⠧ |        5428 | spectra_subsetting                                            
⠏ |        5430 | spectra_subsetting                                            
⠙ |        5432 | spectra_subsetting                                            
⠸ |        5434 | spectra_subsetting                                            
⠴ |        5436 | spectra_subsetting                                            
⠧ |        5438 | spectra_subsetting                                            
⠏ |        5440 | spectra_subsetting                                            
⠙ |        5442 | spectra_subsetting                                            
⠸ |        5444 | spectra_subsetting                                            
⠴ |        5446 | spectra_subsetting                                            
⠧ |        5448 | spectra_subsetting                                            
⠏ |        5450 | spectra_subsetting                                            
⠙ |        5452 | spectra_subsetting                                            
⠸ |        5454 | spectra_subsetting                                            
⠴ |        5456 | spectra_subsetting                                            
⠧ |        5458 | spectra_subsetting                                            
⠏ |        5460 | spectra_subsetting                                            
⠙ |        5462 | spectra_subsetting                                            
⠸ |        5464 | spectra_subsetting                                            
⠴ |        5466 | spectra_subsetting                                            
⠦ |        5467 | spectra_subsetting                                            
⠇ |        5469 | spectra_subsetting                                            
⠋ |        5471 | spectra_subsetting                                            
⠹ |        5473 | spectra_subsetting                                            
⠼ |        5475 | spectra_subsetting                                            
⠦ |        5477 | spectra_subsetting                                            
⠇ |        5479 | spectra_subsetting                                            
⠋ |        5481 | spectra_subsetting                                            
⠹ |        5483 | spectra_subsetting                                            
⠼ |        5485 | spectra_subsetting                                            
⠦ |        5487 | spectra_subsetting                                            
⠇ |        5489 | spectra_subsetting                                            
⠋ |        5491 | spectra_subsetting                                            
⠹ |        5493 | spectra_subsetting                                            
⠼ |        5495 | spectra_subsetting                                            
⠦ |        5497 | spectra_subsetting                                            
⠇ |        5499 | spectra_subsetting                                            
⠋ |        5501 | spectra_subsetting                                            
⠹ |        5503 | spectra_subsetting                                            
⠼ |        5505 | spectra_subsetting                                            
⠦ |        5507 | spectra_subsetting                                            
⠇ |        5509 | spectra_subsetting                                            
⠋ |        5511 | spectra_subsetting                                            
⠹ |        5513 | spectra_subsetting                                            
⠼ |        5515 | spectra_subsetting                                            
⠦ |        5517 | spectra_subsetting                                            
⠇ |        5519 | spectra_subsetting                                            
⠋ |        5521 | spectra_subsetting                                            
⠹ |        5523 | spectra_subsetting                                            
⠼ |        5525 | spectra_subsetting                                            
⠦ |        5527 | spectra_subsetting                                            
⠇ |        5529 | spectra_subsetting                                            
⠋ |        5531 | spectra_subsetting                                            
⠹ |        5533 | spectra_subsetting                                            
⠼ |        5535 | spectra_subsetting                                            
⠦ |        5537 | spectra_subsetting                                            
⠇ |        5539 | spectra_subsetting                                            
⠋ |        5541 | spectra_subsetting                                            
⠹ |        5543 | spectra_subsetting                                            
⠼ |        5545 | spectra_subsetting                                            
⠦ |        5547 | spectra_subsetting                                            
⠇ |        5549 | spectra_subsetting                                            
⠋ |        5551 | spectra_subsetting                                            
⠹ |        5553 | spectra_subsetting                                            
⠼ |        5555 | spectra_subsetting                                            
⠦ |        5557 | spectra_subsetting                                            
⠇ |        5559 | spectra_subsetting                                            
⠋ |        5561 | spectra_subsetting                                            
⠹ |        5563 | spectra_subsetting                                            
⠼ |        5565 | spectra_subsetting                                            
⠦ |        5567 | spectra_subsetting                                            
⠇ |        5569 | spectra_subsetting                                            
⠋ |        5571 | spectra_subsetting                                            
⠹ |        5573 | spectra_subsetting                                            
⠼ |        5575 | spectra_subsetting                                            
⠦ |        5577 | spectra_subsetting                                            
⠧ |        5578 | spectra_subsetting                                            
⠏ |        5580 | spectra_subsetting                                            
⠙ |        5582 | spectra_subsetting                                            
⠸ |        5584 | spectra_subsetting                                            
⠴ |        5586 | spectra_subsetting                                            
⠧ |        5588 | spectra_subsetting                                            
⠏ |        5590 | spectra_subsetting                                            
⠙ |        5592 | spectra_subsetting                                            
⠸ |        5594 | spectra_subsetting                                            
⠴ |        5596 | spectra_subsetting                                            
⠦ |        5597 | spectra_subsetting                                            
⠇ |        5599 | spectra_subsetting                                            
⠋ |        5601 | spectra_subsetting                                            
⠹ |        5603 | spectra_subsetting                                            
⠼ |        5605 | spectra_subsetting                                            
⠦ |        5607 | spectra_subsetting                                            
⠇ |        5609 | spectra_subsetting                                            
⠋ |        5611 | spectra_subsetting                                            
⠙ |        5612 | spectra_subsetting                                            
⠸ |        5614 | spectra_subsetting                                            
⠴ |        5616 | spectra_subsetting                                            
⠧ |        5618 | spectra_subsetting                                            
⠏ |        5620 | spectra_subsetting                                            
⠙ |        5622 | spectra_subsetting                                            
⠸ |        5624 | spectra_subsetting                                            
⠴ |        5626 | spectra_subsetting                                            
⠧ |        5628 | spectra_subsetting                                            
⠏ |        5630 | spectra_subsetting                                            
⠙ |        5632 | spectra_subsetting                                            
⠸ |        5634 | spectra_subsetting                                            
⠴ |        5636 | spectra_subsetting                                            
⠧ |        5638 | spectra_subsetting                                            
⠏ |        5640 | spectra_subsetting                                            
⠋ |        5641 | spectra_subsetting                                            
⠹ |        5643 | spectra_subsetting                                            
⠼ |        5645 | spectra_subsetting                                            
⠦ |        5647 | spectra_subsetting                                            
⠇ |        5649 | spectra_subsetting                                            
⠋ |        5651 | spectra_subsetting                                            
⠹ |        5653 | spectra_subsetting                                            
⠼ |        5655 | spectra_subsetting                                            
⠦ |        5657 | spectra_subsetting                                            
⠇ |        5659 | spectra_subsetting                                            
⠋ |        5661 | spectra_subsetting                                            
⠹ |        5663 | spectra_subsetting                                            
⠼ |        5665 | spectra_subsetting                                            
⠦ |        5667 | spectra_subsetting                                            
⠇ |        5669 | spectra_subsetting                                            
⠋ |        5671 | spectra_subsetting                                            
⠹ |        5673 | spectra_subsetting                                            
⠼ |        5675 | spectra_subsetting                                            
⠦ |        5677 | spectra_subsetting                                            
⠇ |        5679 | spectra_subsetting                                            
⠋ |        5681 | spectra_subsetting                                            
⠙ |        5682 | spectra_subsetting                                            
⠸ |        5684 | spectra_subsetting                                            
⠴ |        5686 | spectra_subsetting                                            
⠧ |        5688 | spectra_subsetting                                            
⠏ |        5690 | spectra_subsetting                                            
⠙ |        5692 | spectra_subsetting                                            
⠸ |        5694 | spectra_subsetting                                            
⠴ |        5696 | spectra_subsetting                                            
⠧ |        5698 | spectra_subsetting                                            
⠏ |        5700 | spectra_subsetting                                            
⠙ |        5702 | spectra_subsetting                                            
⠸ |        5704 | spectra_subsetting                                            
⠴ |        5706 | spectra_subsetting                                            
⠧ |        5708 | spectra_subsetting                                            
⠏ |        5710 | spectra_subsetting                                            
⠙ |        5712 | spectra_subsetting                                            
⠸ |        5714 | spectra_subsetting                                            
⠴ |        5716 | spectra_subsetting                                            
⠧ |        5718 | spectra_subsetting                                            
⠏ |        5720 | spectra_subsetting                                            
⠙ |        5722 | spectra_subsetting                                            
⠸ |        5724 | spectra_subsetting                                            
⠴ |        5726 | spectra_subsetting                                            
⠧ |        5728 | spectra_subsetting                                            
⠏ |        5730 | spectra_subsetting                                            
⠙ |        5732 | spectra_subsetting                                            
⠸ |        5734 | spectra_subsetting                                            
⠴ |        5736 | spectra_subsetting                                            
⠦ |        5737 | spectra_subsetting                                            
⠇ |        5739 | spectra_subsetting                                            
⠋ |        5741 | spectra_subsetting                                            
⠹ |        5743 | spectra_subsetting                                            
⠼ |        5745 | spectra_subsetting                                            
⠦ |        5747 | spectra_subsetting                                            
⠇ |        5749 | spectra_subsetting                                            
⠋ |        5751 | spectra_subsetting                                            
⠹ |        5753 | spectra_subsetting                                            
⠼ |        5755 | spectra_subsetting                                            
⠦ |        5757 | spectra_subsetting                                            
⠇ |        5759 | spectra_subsetting                                            
⠋ |        5761 | spectra_subsetting                                            
⠹ |        5763 | spectra_subsetting                                            
⠼ |        5765 | spectra_subsetting                                            
⠦ |        5767 | spectra_subsetting                                            
⠧ |        5768 | spectra_subsetting                                            
⠏ |        5770 | spectra_subsetting                                            
⠙ |        5772 | spectra_subsetting                                            
⠸ |        5774 | spectra_subsetting                                            
⠴ |        5776 | spectra_subsetting                                            
⠧ |        5778 | spectra_subsetting                                            
⠏ |        5780 | spectra_subsetting                                            
⠙ |        5782 | spectra_subsetting                                            
⠸ |        5784 | spectra_subsetting                                            
⠴ |        5786 | spectra_subsetting                                            
⠧ |        5788 | spectra_subsetting                                            
⠇ |        5789 | spectra_subsetting                                            
⠋ |        5791 | spectra_subsetting                                            
⠹ |        5793 | spectra_subsetting                                            
⠼ |        5795 | spectra_subsetting                                            
⠦ |        5797 | spectra_subsetting                                            
⠇ |        5799 | spectra_subsetting                                            
⠋ |        5801 | spectra_subsetting                                            
⠹ |        5803 | spectra_subsetting                                            
⠼ |        5805 | spectra_subsetting                                            
⠦ |        5807 | spectra_subsetting                                            
⠇ |        5809 | spectra_subsetting                                            
⠋ |        5811 | spectra_subsetting                                            
⠹ |        5813 | spectra_subsetting                                            
⠼ |        5815 | spectra_subsetting                                            
⠦ |        5817 | spectra_subsetting                                            
⠇ |        5819 | spectra_subsetting                                            
⠋ |        5821 | spectra_subsetting                                            
⠹ |        5823 | spectra_subsetting                                            
⠼ |        5825 | spectra_subsetting                                            
⠦ |        5827 | spectra_subsetting                                            
⠇ |        5829 | spectra_subsetting                                            
⠋ |        5831 | spectra_subsetting                                            
⠹ |        5833 | spectra_subsetting                                            
⠼ |        5835 | spectra_subsetting                                            
⠦ |        5837 | spectra_subsetting                                            
⠇ |        5839 | spectra_subsetting                                            
⠏ |        5840 | spectra_subsetting                                            
⠙ |        5842 | spectra_subsetting                                            
⠸ |        5844 | spectra_subsetting                                            
⠴ |        5846 | spectra_subsetting                                            
⠧ |        5848 | spectra_subsetting                                            
⠏ |        5850 | spectra_subsetting                                            
⠙ |        5852 | spectra_subsetting                                            
⠸ |        5854 | spectra_subsetting                                            
⠴ |        5856 | spectra_subsetting                                            
⠧ |        5858 | spectra_subsetting                                            
⠏ |        5860 | spectra_subsetting                                            
⠙ |        5862 | spectra_subsetting                                            
⠸ |        5864 | spectra_subsetting                                            
⠴ |        5866 | spectra_subsetting                                            
⠧ |        5868 | spectra_subsetting                                            
⠇ |        5869 | spectra_subsetting                                            
⠋ |        5871 | spectra_subsetting                                            
⠹ |        5873 | spectra_subsetting                                            
⠼ |        5875 | spectra_subsetting                                            
⠦ |        5877 | spectra_subsetting                                            
⠇ |        5879 | spectra_subsetting                                            
⠋ |        5881 | spectra_subsetting                                            
⠹ |        5883 | spectra_subsetting                                            
⠼ |        5885 | spectra_subsetting                                            
⠦ |        5887 | spectra_subsetting                                            
⠇ |        5889 | spectra_subsetting                                            
⠋ |        5891 | spectra_subsetting                                            
⠹ |        5893 | spectra_subsetting                                            
⠼ |        5895 | spectra_subsetting                                            
⠦ |        5897 | spectra_subsetting                                            
⠇ |        5899 | spectra_subsetting                                            
⠋ |        5901 | spectra_subsetting                                            
⠹ |        5903 | spectra_subsetting                                            
⠼ |        5905 | spectra_subsetting                                            
⠦ |        5907 | spectra_subsetting                                            
⠇ |        5909 | spectra_subsetting                                            
⠋ |        5911 | spectra_subsetting                                            
⠹ |        5913 | spectra_subsetting                                            
⠼ |        5915 | spectra_subsetting                                            
⠦ |        5917 | spectra_subsetting                                            
⠇ |        5919 | spectra_subsetting                                            
⠋ |        5921 | spectra_subsetting                                            
⠹ |        5923 | spectra_subsetting                                            
⠸ |        5924 | spectra_subsetting                                            
⠴ |        5926 | spectra_subsetting                                            
⠧ |        5928 | spectra_subsetting                                            
⠏ |        5930 | spectra_subsetting                                            
⠙ |        5932 | spectra_subsetting                                            
⠸ |        5934 | spectra_subsetting                                            
⠴ |        5936 | spectra_subsetting                                            
⠧ |        5938 | spectra_subsetting                                            
⠏ |        5940 | spectra_subsetting                                            
⠙ |        5942 | spectra_subsetting                                            
⠸ |        5944 | spectra_subsetting                                            
⠴ |        5946 | spectra_subsetting                                            
⠦ |        5947 | spectra_subsetting                                            
⠇ |        5949 | spectra_subsetting                                            
⠋ |        5951 | spectra_subsetting                                            
⠹ |        5953 | spectra_subsetting                                            
⠼ |        5955 | spectra_subsetting                                            
⠦ |        5957 | spectra_subsetting                                            
⠇ |        5959 | spectra_subsetting                                            
⠋ |        5961 | spectra_subsetting                                            
⠹ |        5963 | spectra_subsetting                                            
⠼ |        5965 | spectra_subsetting                                            
⠦ |        5967 | spectra_subsetting                                            
⠧ |        5968 | spectra_subsetting                                            
⠏ |        5970 | spectra_subsetting                                            
⠙ |        5972 | spectra_subsetting                                            
⠸ |        5974 | spectra_subsetting                                            
⠴ |        5976 | spectra_subsetting                                            
⠧ |        5978 | spectra_subsetting                                            
⠏ |        5980 | spectra_subsetting                                            
⠙ |        5982 | spectra_subsetting                                            
⠸ |        5984 | spectra_subsetting                                            
⠴ |        5986 | spectra_subsetting                                            
⠧ |        5988 | spectra_subsetting                                            
⠏ |        5990 | spectra_subsetting                                            
⠙ |        5992 | spectra_subsetting                                            
⠸ |        5994 | spectra_subsetting                                            
⠴ |        5996 | spectra_subsetting                                            
⠦ |        5997 | spectra_subsetting                                            
⠇ |        5999 | spectra_subsetting                                            
⠋ |        6001 | spectra_subsetting                                            
⠹ |        6003 | spectra_subsetting                                            
⠼ |        6005 | spectra_subsetting                                            
⠦ |        6007 | spectra_subsetting                                            
⠇ |        6009 | spectra_subsetting                                            
⠋ |        6011 | spectra_subsetting                                            
⠹ |        6013 | spectra_subsetting                                            
⠼ |        6015 | spectra_subsetting                                            
⠦ |        6017 | spectra_subsetting                                            
⠇ |        6019 | spectra_subsetting                                            
⠋ |        6021 | spectra_subsetting                                            
⠹ |        6023 | spectra_subsetting                                            
⠼ |        6025 | spectra_subsetting                                            
⠦ |        6027 | spectra_subsetting                                            
⠇ |        6029 | spectra_subsetting                                            
⠋ |        6031 | spectra_subsetting                                            
⠹ |        6033 | spectra_subsetting                                            
⠼ |        6035 | spectra_subsetting                                            
⠦ |        6037 | spectra_subsetting                                            
⠇ |        6039 | spectra_subsetting                                            
⠋ |        6041 | spectra_subsetting                                            
⠹ |        6043 | spectra_subsetting                                            
⠼ |        6045 | spectra_subsetting                                            
⠦ |        6047 | spectra_subsetting                                            
⠇ |        6049 | spectra_subsetting                                            
⠋ |        6051 | spectra_subsetting                                            
⠙ |        6052 | spectra_subsetting                                            
⠸ |        6054 | spectra_subsetting                                            
⠴ |        6056 | spectra_subsetting                                            
⠧ |        6058 | spectra_subsetting                                            
⠇ |        6059 | spectra_subsetting                                            
⠋ |        6061 | spectra_subsetting                                            
⠹ |        6063 | spectra_subsetting                                            
⠼ |        6065 | spectra_subsetting                                            
⠦ |        6067 | spectra_subsetting                                            
⠇ |        6069 | spectra_subsetting                                            
⠋ |        6071 | spectra_subsetting                                            
⠹ |        6073 | spectra_subsetting                                            
⠼ |        6075 | spectra_subsetting                                            
⠦ |        6077 | spectra_subsetting                                            
⠇ |        6079 | spectra_subsetting                                            
⠋ |        6081 | spectra_subsetting                                            
⠹ |        6083 | spectra_subsetting                                            
⠼ |        6085 | spectra_subsetting                                            
⠦ |        6087 | spectra_subsetting                                            
⠇ |        6089 | spectra_subsetting                                            
⠋ |        6091 | spectra_subsetting                                            
⠹ |        6093 | spectra_subsetting                                            
⠼ |        6095 | spectra_subsetting                                            
⠦ |        6097 | spectra_subsetting                                            
⠇ |        6099 | spectra_subsetting                                            
⠋ |        6101 | spectra_subsetting                                            
⠹ |        6103 | spectra_subsetting                                            
⠼ |        6105 | spectra_subsetting                                            
⠦ |        6107 | spectra_subsetting                                            
⠇ |        6109 | spectra_subsetting                                            
⠋ |        6111 | spectra_subsetting                                            
⠹ |        6113 | spectra_subsetting                                            
⠼ |        6115 | spectra_subsetting                                            
⠴ |        6116 | spectra_subsetting                                            
⠧ |        6118 | spectra_subsetting                                            
⠏ |        6120 | spectra_subsetting                                            
⠙ |        6122 | spectra_subsetting                                            
⠸ |        6124 | spectra_subsetting                                            
⠴ |        6126 | spectra_subsetting                                            
⠧ |        6128 | spectra_subsetting                                            
⠏ |        6130 | spectra_subsetting                                            
⠙ |        6132 | spectra_subsetting                                            
⠸ |        6134 | spectra_subsetting                                            
⠴ |        6136 | spectra_subsetting                                            
⠧ |        6138 | spectra_subsetting                                            
⠏ |        6140 | spectra_subsetting                                            
⠙ |        6142 | spectra_subsetting                                            
⠸ |        6144 | spectra_subsetting                                            
⠴ |        6146 | spectra_subsetting                                            
⠧ |        6148 | spectra_subsetting                                            
⠏ |        6150 | spectra_subsetting                                            
⠙ |        6152 | spectra_subsetting                                            
⠸ |        6154 | spectra_subsetting                                            
⠴ |        6156 | spectra_subsetting                                            
⠧ |        6158 | spectra_subsetting                                            
⠏ |        6160 | spectra_subsetting                                            
⠙ |        6162 | spectra_subsetting                                            
⠸ |        6164 | spectra_subsetting                                            
⠼ |        6165 | spectra_subsetting                                            
⠦ |        6167 | spectra_subsetting                                            
⠇ |        6169 | spectra_subsetting                                            
⠋ |        6171 | spectra_subsetting                                            
⠹ |        6173 | spectra_subsetting                                            
⠼ |        6175 | spectra_subsetting                                            
⠦ |        6177 | spectra_subsetting                                            
⠇ |        6179 | spectra_subsetting                                            
⠋ |        6181 | spectra_subsetting                                            
⠹ |        6183 | spectra_subsetting                                            
⠼ |        6185 | spectra_subsetting                                            
⠦ |        6187 | spectra_subsetting                                            
⠇ |        6189 | spectra_subsetting                                            
⠋ |        6191 | spectra_subsetting                                            
⠹ |        6193 | spectra_subsetting                                            
⠼ |        6195 | spectra_subsetting                                            
⠦ |        6197 | spectra_subsetting                                            
⠇ |        6199 | spectra_subsetting                                            
⠋ |        6201 | spectra_subsetting                                            
⠹ |        6203 | spectra_subsetting                                            
⠼ |        6205 | spectra_subsetting                                            
⠦ |        6207 | spectra_subsetting                                            
⠇ |        6209 | spectra_subsetting                                            
⠋ |        6211 | spectra_subsetting                                            
⠹ |        6213 | spectra_subsetting                                            
⠼ |        6215 | spectra_subsetting                                            
⠦ |        6217 | spectra_subsetting                                            
⠇ |        6219 | spectra_subsetting                                            
⠋ |        6221 | spectra_subsetting                                            
⠹ |        6223 | spectra_subsetting                                            
⠼ |        6225 | spectra_subsetting                                            
⠦ |        6227 | spectra_subsetting                                            
⠇ |        6229 | spectra_subsetting                                            
⠋ |        6231 | spectra_subsetting                                            
⠹ |        6233 | spectra_subsetting                                            
⠼ |        6235 | spectra_subsetting                                            
⠦ |        6237 | spectra_subsetting                                            
⠇ |        6239 | spectra_subsetting                                            
⠋ |        6241 | spectra_subsetting                                            
⠹ |        6243 | spectra_subsetting                                            
⠼ |        6245 | spectra_subsetting                                            
⠦ |        6247 | spectra_subsetting                                            
⠇ |        6249 | spectra_subsetting                                            
⠋ |        6251 | spectra_subsetting                                            
⠹ |        6253 | spectra_subsetting                                            
⠼ |        6255 | spectra_subsetting                                            
⠦ |        6257 | spectra_subsetting                                            
⠇ |        6259 | spectra_subsetting                                            
⠋ |        6261 | spectra_subsetting                                            
⠹ |        6263 | spectra_subsetting                                            
⠼ |        6265 | spectra_subsetting                                            
⠦ |        6267 | spectra_subsetting                                            
⠇ |        6269 | spectra_subsetting                                            
⠋ |        6271 | spectra_subsetting                                            
⠹ |        6273 | spectra_subsetting                                            
⠼ |        6275 | spectra_subsetting                                            
⠦ |        6277 | spectra_subsetting                                            
⠇ |        6279 | spectra_subsetting                                            
⠋ |        6281 | spectra_subsetting                                            
⠹ |        6283 | spectra_subsetting                                            
⠼ |        6285 | spectra_subsetting                                            
⠦ |        6287 | spectra_subsetting                                            
⠇ |        6289 | spectra_subsetting                                            
⠋ |        6291 | spectra_subsetting                                            
⠹ |        6293 | spectra_subsetting                                            
⠼ |        6295 | spectra_subsetting                                            
⠦ |        6297 | spectra_subsetting                                            
⠇ |        6299 | spectra_subsetting                                            
⠋ |        6301 | spectra_subsetting                                            
⠹ |        6303 | spectra_subsetting                                            
⠼ |        6305 | spectra_subsetting                                            
⠦ |        6307 | spectra_subsetting                                            
⠇ |        6309 | spectra_subsetting                                            
⠋ |        6311 | spectra_subsetting                                            
⠹ |        6313 | spectra_subsetting                                            
⠼ |        6315 | spectra_subsetting                                            
⠦ |        6317 | spectra_subsetting                                            
⠇ |        6319 | spectra_subsetting                                            
⠋ |        6321 | spectra_subsetting                                            
⠹ |        6323 | spectra_subsetting                                            
⠼ |        6325 | spectra_subsetting                                            
⠦ |        6327 | spectra_subsetting                                            
⠇ |        6329 | spectra_subsetting                                            
⠋ |        6331 | spectra_subsetting                                            
⠹ |        6333 | spectra_subsetting                                            
⠼ |        6335 | spectra_subsetting                                            
⠦ |        6337 | spectra_subsetting                                            
⠧ |        6338 | spectra_subsetting                                            
⠏ |        6340 | spectra_subsetting                                            
⠙ |        6342 | spectra_subsetting                                            
⠸ |        6344 | spectra_subsetting                                            
⠴ |        6346 | spectra_subsetting                                            
⠧ |        6348 | spectra_subsetting                                            
⠏ |        6350 | spectra_subsetting                                            
⠙ |        6352 | spectra_subsetting                                            
⠸ |        6354 | spectra_subsetting                                            
⠴ |        6356 | spectra_subsetting                                            
⠧ |        6358 | spectra_subsetting                                            
⠏ |        6360 | spectra_subsetting                                            
⠙ |        6362 | spectra_subsetting                                            
⠸ |        6364 | spectra_subsetting                                            
⠴ |        6366 | spectra_subsetting                                            
⠧ |        6368 | spectra_subsetting                                            
⠏ |        6370 | spectra_subsetting                                            
⠙ |        6372 | spectra_subsetting                                            
⠸ |        6374 | spectra_subsetting                                            
⠴ |        6376 | spectra_subsetting                                            
⠧ |        6378 | spectra_subsetting                                            
⠏ |        6380 | spectra_subsetting                                            
⠙ |        6382 | spectra_subsetting                                            
⠸ |        6384 | spectra_subsetting                                            
⠴ |        6386 | spectra_subsetting                                            
⠧ |        6388 | spectra_subsetting                                            
⠏ |        6390 | spectra_subsetting                                            
⠙ |        6392 | spectra_subsetting                                            
⠸ |        6394 | spectra_subsetting                                            
⠴ |        6396 | spectra_subsetting                                            
⠧ |        6398 | spectra_subsetting                                            
⠏ |        6400 | spectra_subsetting                                            
⠙ |        6402 | spectra_subsetting                                            
⠸ |        6404 | spectra_subsetting                                            
⠴ |        6406 | spectra_subsetting                                            
⠧ |        6408 | spectra_subsetting                                            
⠏ |        6410 | spectra_subsetting                                            
⠙ |        6412 | spectra_subsetting                                            
⠸ |        6414 | spectra_subsetting                                            
⠴ |        6416 | spectra_subsetting                                            
⠧ |        6418 | spectra_subsetting                                            
⠏ |        6420 | spectra_subsetting                                            
⠙ |        6422 | spectra_subsetting                                            
⠸ |        6424 | spectra_subsetting                                            
⠴ |        6426 | spectra_subsetting                                            
⠧ |        6428 | spectra_subsetting                                            
⠏ |        6430 | spectra_subsetting                                            
⠙ |        6432 | spectra_subsetting                                            
⠸ |        6434 | spectra_subsetting                                            
⠴ |        6436 | spectra_subsetting                                            
⠧ |        6438 | spectra_subsetting                                            
⠏ |        6440 | spectra_subsetting                                            
⠙ |        6442 | spectra_subsetting                                            
⠸ |        6444 | spectra_subsetting                                            
⠴ |        6446 | spectra_subsetting                                            
⠧ |        6448 | spectra_subsetting                                            
⠏ |        6450 | spectra_subsetting                                            
⠙ |        6452 | spectra_subsetting                                            
⠸ |        6454 | spectra_subsetting                                            
⠴ |        6456 | spectra_subsetting                                            
⠧ |        6458 | spectra_subsetting                                            
⠏ |        6460 | spectra_subsetting                                            
⠙ |        6462 | spectra_subsetting                                            
⠸ |        6464 | spectra_subsetting                                            
⠴ |        6466 | spectra_subsetting                                            
⠧ |        6468 | spectra_subsetting                                            
⠏ |        6470 | spectra_subsetting                                            
⠙ |        6472 | spectra_subsetting                                            
⠸ |        6474 | spectra_subsetting                                            
⠴ |        6476 | spectra_subsetting                                            
⠧ |        6478 | spectra_subsetting                                            
⠏ |        6480 | spectra_subsetting                                            
⠙ |        6482 | spectra_subsetting                                            
⠸ |        6484 | spectra_subsetting                                            
⠴ |        6486 | spectra_subsetting                                            
⠦ |        6487 | spectra_subsetting                                            
⠇ |        6489 | spectra_subsetting                                            
⠋ |        6491 | spectra_subsetting                                            
⠹ |        6493 | spectra_subsetting                                            
⠼ |        6495 | spectra_subsetting                                            
⠦ |        6497 | spectra_subsetting                                            
⠇ |        6499 | spectra_subsetting                                            
⠋ |        6501 | spectra_subsetting                                            
⠹ |        6503 | spectra_subsetting                                            
⠼ |        6505 | spectra_subsetting                                            
⠦ |        6507 | spectra_subsetting                                            
⠇ |        6509 | spectra_subsetting                                            
⠋ |        6511 | spectra_subsetting                                            
⠹ |        6513 | spectra_subsetting                                            
⠼ |        6515 | spectra_subsetting                                            
⠦ |        6517 | spectra_subsetting                                            
⠇ |        6519 | spectra_subsetting                                            
⠋ |        6521 | spectra_subsetting                                            
⠹ |        6523 | spectra_subsetting                                            
⠼ |        6525 | spectra_subsetting                                            
⠦ |        6527 | spectra_subsetting                                            
⠇ |        6529 | spectra_subsetting                                            
⠋ |        6531 | spectra_subsetting                                            
⠹ |        6533 | spectra_subsetting                                            
⠼ |        6535 | spectra_subsetting                                            
⠦ |        6537 | spectra_subsetting                                            
⠇ |        6539 | spectra_subsetting                                            
⠋ |        6541 | spectra_subsetting                                            
⠹ |        6543 | spectra_subsetting                                            
⠼ |        6545 | spectra_subsetting                                            
⠴ |        6546 | spectra_subsetting                                            
⠧ |        6548 | spectra_subsetting                                            
⠏ |        6550 | spectra_subsetting                                            
⠙ |        6552 | spectra_subsetting                                            
⠸ |        6554 | spectra_subsetting                                            
⠴ |        6556 | spectra_subsetting                                            
⠧ |        6558 | spectra_subsetting                                            
⠏ |        6560 | spectra_subsetting                                            
⠙ |        6562 | spectra_subsetting                                            
⠸ |        6564 | spectra_subsetting                                            
⠴ |        6566 | spectra_subsetting                                            
⠧ |        6568 | spectra_subsetting                                            
⠏ |        6570 | spectra_subsetting                                            
⠙ |        6572 | spectra_subsetting                                            
⠸ |        6574 | spectra_subsetting                                            
⠴ |        6576 | spectra_subsetting                                            
⠧ |        6578 | spectra_subsetting                                            
⠏ |        6580 | spectra_subsetting                                            
⠙ |        6582 | spectra_subsetting                                            
⠸ |        6584 | spectra_subsetting                                            
⠴ |        6586 | spectra_subsetting                                            
⠧ |        6588 | spectra_subsetting                                            
⠏ |        6590 | spectra_subsetting                                            
⠙ |        6592 | spectra_subsetting                                            
⠸ |        6594 | spectra_subsetting                                            
⠴ |        6596 | spectra_subsetting                                            
⠦ |        6597 | spectra_subsetting                                            
⠇ |        6599 | spectra_subsetting                                            
⠋ |        6601 | spectra_subsetting                                            
⠹ |        6603 | spectra_subsetting                                            
⠼ |        6605 | spectra_subsetting                                            
⠦ |        6607 | spectra_subsetting                                            
⠇ |        6609 | spectra_subsetting                                            
⠋ |        6611 | spectra_subsetting                                            
⠹ |        6613 | spectra_subsetting                                            
⠼ |        6615 | spectra_subsetting                                            
⠦ |        6617 | spectra_subsetting                                            
⠇ |        6619 | spectra_subsetting                                            
⠋ |        6621 | spectra_subsetting                                            
⠹ |        6623 | spectra_subsetting                                            
⠼ |        6625 | spectra_subsetting                                            
⠦ |        6627 | spectra_subsetting                                            
⠇ |        6629 | spectra_subsetting                                            
⠋ |        6631 | spectra_subsetting                                            
⠹ |        6633 | spectra_subsetting                                            
⠼ |        6635 | spectra_subsetting                                            
⠦ |        6637 | spectra_subsetting                                            
⠇ |        6639 | spectra_subsetting                                            
⠋ |        6641 | spectra_subsetting                                            
⠹ |        6643 | spectra_subsetting                                            
⠼ |        6645 | spectra_subsetting                                            
⠦ |        6647 | spectra_subsetting                                            
⠇ |        6649 | spectra_subsetting                                            
⠋ |        6651 | spectra_subsetting                                            
⠹ |        6653 | spectra_subsetting                                            
⠼ |        6655 | spectra_subsetting                                            
⠦ |        6657 | spectra_subsetting                                            
⠇ |        6659 | spectra_subsetting                                            
⠹ |        6663 | spectra_subsetting                                            
⠋ |        6671 | spectra_subsetting                                            
⠹ |        6673 | spectra_subsetting                                            
⠇ |        6679 | spectra_subsetting                                            
⠸ |        6694 | spectra_subsetting                                            
⠋ |        6701 | spectra_subsetting                                            
✔ |        6702 | spectra_subsetting [160.2s]

⠏ |          0 | spectra_variables                                              
⠙ |         12 | spectra_variables                                              
⠸ |         14 | spectra_variables                                              
⠴ |         16 | spectra_variables                                              
⠦ |         27 | spectra_variables                                              
⠇ |         29 | spectra_variables                                              
⠋ |         31 | spectra_variables                                              
⠹ |         43 | spectra_variables                                              
⠸ |         54 | spectra_variables                                              
✔ |      1  62 | spectra_variables [2.0s]

══ Results ═════════════════════════════════════════════════════════════════════
Duration: 162.5 s

── Skipped tests (1) ───────────────────────────────────────────────────────────
• empty test (1): 'test_spectra_variables.R:262:1'

[ FAIL 0 | WARN 0 | SKIP 1 | PASS 6768 ]
> 
> proc.time()
   user  system elapsed 
154.726  11.780 316.539 

Example timings

MsBackendMetaboLights.Rcheck/MsBackendMetaboLights-Ex.timings

nameusersystemelapsed
MetaboLights-utils0.1280.0146.789
MsBackendMetaboLights2.8430.5699.664