| Back to Multiple platform build/check report for BioC 3.22: simplified long |
|
This page was generated on 2025-08-15 12:06 -0400 (Fri, 15 Aug 2025).
| Hostname | OS | Arch (*) | R version | Installed pkgs |
|---|---|---|---|---|
| nebbiolo2 | Linux (Ubuntu 24.04.3 LTS) | x86_64 | 4.5.1 (2025-06-13) -- "Great Square Root" | 4818 |
| palomino8 | Windows Server 2022 Datacenter | x64 | 4.5.1 (2025-06-13 ucrt) -- "Great Square Root" | 4554 |
| lconway | macOS 12.7.1 Monterey | x86_64 | 4.5.1 (2025-06-13) -- "Great Square Root" | 4595 |
| kjohnson3 | macOS 13.7.7 Ventura | arm64 | 4.5.1 Patched (2025-06-14 r88325) -- "Great Square Root" | 4537 |
| taishan | Linux (openEuler 24.03 LTS) | aarch64 | 4.5.0 (2025-04-11) -- "How About a Twenty-Six" | 4535 |
| Click on any hostname to see more info about the system (e.g. compilers) (*) as reported by 'uname -p', except on Windows and Mac OS X | ||||
| Package 874/2317 | Hostname | OS / Arch | INSTALL | BUILD | CHECK | BUILD BIN | ||||||||
| GladiaTOX 1.25.1 (landing page) PMP S.A. R Support
| nebbiolo2 | Linux (Ubuntu 24.04.3 LTS) / x86_64 | OK | OK | OK | |||||||||
| palomino8 | Windows Server 2022 Datacenter / x64 | OK | OK | OK | OK | |||||||||
| lconway | macOS 12.7.1 Monterey / x86_64 | OK | OK | OK | OK | |||||||||
| kjohnson3 | macOS 13.7.7 Ventura / arm64 | OK | OK | OK | OK | |||||||||
| taishan | Linux (openEuler 24.03 LTS) / aarch64 | OK | OK | OK | ||||||||||
|
To the developers/maintainers of the GladiaTOX package: - Allow up to 24 hours (and sometimes 48 hours) for your latest push to git@git.bioconductor.org:packages/GladiaTOX.git to reflect on this report. See Troubleshooting Build Report for more information. - Use the following Renviron settings to reproduce errors and warnings. - If 'R CMD check' started to fail recently on the Linux builder(s) over a missing dependency, add the missing dependency to 'Suggests:' in your DESCRIPTION file. See Renviron.bioc for more information. |
| Package: GladiaTOX |
| Version: 1.25.1 |
| Command: F:\biocbuild\bbs-3.22-bioc\R\bin\R.exe CMD check --no-multiarch --install=check:GladiaTOX.install-out.txt --library=F:\biocbuild\bbs-3.22-bioc\R\library --no-vignettes --timings GladiaTOX_1.25.1.tar.gz |
| StartedAt: 2025-08-15 03:47:10 -0400 (Fri, 15 Aug 2025) |
| EndedAt: 2025-08-15 03:50:06 -0400 (Fri, 15 Aug 2025) |
| EllapsedTime: 175.6 seconds |
| RetCode: 0 |
| Status: OK |
| CheckDir: GladiaTOX.Rcheck |
| Warnings: 0 |
##############################################################################
##############################################################################
###
### Running command:
###
### F:\biocbuild\bbs-3.22-bioc\R\bin\R.exe CMD check --no-multiarch --install=check:GladiaTOX.install-out.txt --library=F:\biocbuild\bbs-3.22-bioc\R\library --no-vignettes --timings GladiaTOX_1.25.1.tar.gz
###
##############################################################################
##############################################################################
* using log directory 'F:/biocbuild/bbs-3.22-bioc/meat/GladiaTOX.Rcheck'
* using R version 4.5.1 (2025-06-13 ucrt)
* using platform: x86_64-w64-mingw32
* R was compiled by
gcc.exe (GCC) 14.2.0
GNU Fortran (GCC) 14.2.0
* running under: Windows Server 2022 x64 (build 20348)
* using session charset: UTF-8
* using option '--no-vignettes'
* checking for file 'GladiaTOX/DESCRIPTION' ... OK
* checking extension type ... Package
* this is package 'GladiaTOX' version '1.25.1'
* checking package namespace information ... OK
* checking package dependencies ... OK
* checking if this is a source package ... OK
* checking if there is a namespace ... OK
* checking for hidden files and directories ... OK
* checking for portable file names ... OK
* checking whether package 'GladiaTOX' can be installed ... OK
* checking installed package size ... INFO
installed size is 5.3Mb
sub-directories of 1Mb or more:
sql 3.8Mb
* checking package directory ... OK
* checking 'build' directory ... OK
* checking DESCRIPTION meta-information ... OK
* checking top-level files ... OK
* checking for left-over files ... OK
* checking index information ... OK
* checking package subdirectories ... OK
* checking code files for non-ASCII characters ... OK
* checking R files for syntax errors ... OK
* checking whether the package can be loaded ... OK
* checking whether the package can be loaded with stated dependencies ... OK
* checking whether the package can be unloaded cleanly ... OK
* checking whether the namespace can be loaded with stated dependencies ... OK
* checking whether the namespace can be unloaded cleanly ... OK
* checking whether startup messages can be suppressed ... OK
* checking dependencies in R code ... OK
* checking S3 generic/method consistency ... OK
* checking replacement functions ... OK
* checking foreign function calls ... OK
* checking R code for possible problems ... NOTE
glCheckInput: no visible global function definition for 'read.csv'
glLoadInput: no visible global function definition for 'read.csv'
glPlotPosCtrlMEC: no visible binding for global variable 'aenm_wrap'
glPlotPosCtrlMEC: no visible binding for global variable 'modl_acc'
Undefined global functions or variables:
aenm_wrap modl_acc read.csv
Consider adding
importFrom("utils", "read.csv")
to your NAMESPACE file.
* checking Rd files ... OK
* checking Rd metadata ... OK
* checking Rd cross-references ... NOTE
Found the following Rd file(s) with Rd \link{} targets missing package
anchors:
gtoxLoadData.Rd: data.table
gtoxLoadUnit.Rd: data.table
Please provide package anchors for all Rd \link{} targets not in the
package itself and the base packages.
* checking for missing documentation entries ... OK
* checking for code/documentation mismatches ... OK
* checking Rd \usage sections ... OK
* checking Rd contents ... OK
* checking for unstated dependencies in examples ... OK
* checking files in 'vignettes' ... OK
* checking examples ... OK
Examples with CPU (user + system) or elapsed time > 5s
user system elapsed
assignDefaultMthds 22.39 1.27 24.11
gtoxRun 21.41 0.86 22.47
* checking for unstated dependencies in 'tests' ... OK
* checking tests ...
Running 'testthat.R'
OK
* checking for unstated dependencies in vignettes ... OK
* checking package vignettes ... OK
* checking running R code from vignettes ... SKIPPED
* checking re-building of vignette outputs ... SKIPPED
* checking PDF version of manual ... OK
* DONE
Status: 2 NOTEs
See
'F:/biocbuild/bbs-3.22-bioc/meat/GladiaTOX.Rcheck/00check.log'
for details.
GladiaTOX.Rcheck/00install.out
############################################################################## ############################################################################## ### ### Running command: ### ### F:\biocbuild\bbs-3.22-bioc\R\bin\R.exe CMD INSTALL GladiaTOX ### ############################################################################## ############################################################################## * installing to library 'F:/biocbuild/bbs-3.22-bioc/R/library' * installing *source* package 'GladiaTOX' ... ** this is package 'GladiaTOX' version '1.25.1' ** using staged installation ** R ** inst ** byte-compile and prepare package for lazy loading ** help *** installing help indices ** building package indices ** installing vignettes ** testing if installed package can be loaded from temporary location ** testing if installed package can be loaded from final location ** testing if installed package keeps a record of temporary installation path * DONE (GladiaTOX)
GladiaTOX.Rcheck/tests/testthat.Rout
R version 4.5.1 (2025-06-13 ucrt) -- "Great Square Root"
Copyright (C) 2025 The R Foundation for Statistical Computing
Platform: x86_64-w64-mingw32/x64
R is free software and comes with ABSOLUTELY NO WARRANTY.
You are welcome to redistribute it under certain conditions.
Type 'license()' or 'licence()' for distribution details.
R is a collaborative project with many contributors.
Type 'contributors()' for more information and
'citation()' on how to cite R or R packages in publications.
Type 'demo()' for some demos, 'help()' for on-line help, or
'help.start()' for an HTML browser interface to help.
Type 'q()' to quit R.
> library(testthat)
> library(GladiaTOX)
Loading required package: data.table
GladiaTOX (v1.25.1) loaded with the following settings:
TCPL_DB: F:/biocbuild/bbs-3.22-bioc/R/library/GladiaTOX/sql/gladiatoxdb.sqlite
TCPL_USER: NA
TCPL_HOST: NA
TCPL_DRVR: SQLite
Default settings stored in gtox config file. See ?gtoxConf for more information.
>
> options(testthat.junit.output_file="tests-out.xml")
> test_dir("testthat")
✔ | F W S OK | Context
⠏ | 0 | assignDefaultMthds
⠋ | 1 | assignDefaultMthds
✔ | 1 | assignDefaultMthds
⠏ | 0 | exportResultTable
⠙ | 2 | exportResultTable
✔ | 2 | exportResultTable
⠏ | 0 | getsplit
⠏ | 0 | getsplit
✔ | 1 | getsplit
⠏ | 0 | glComputeToxInd
⠋ | 1 | glComputeToxInd
✔ | 1 | glComputeToxInd
⠏ | 0 | gtoxAICProb
✔ | 1 | gtoxAICProb
⠏ | 0 | gtoxCalcVmad
⠏ | 0 | Calculate Vmad
✔ | 1 | Calculate Vmad
⠏ | 0 | gtoxLoadAcid
⠏ | 0 | Check assay component table
⠙ | 2 | Check assay component table
✔ | 2 | Check assay component table
⠏ | 0 | gtoxLoadAeid
⠏ | 0 | Check assay endpoint table
⠙ | 2 | Check assay endpoint table
✔ | 2 | Check assay endpoint table
⠏ | 0 | gtoxLoadAid
✔ | 1 | gtoxLoadAid
⠏ | 0 | gtoxLoadApid
⠏ | 0 | Check assay plate table
✔ | 2 | Check assay plate table
⠏ | 0 | gtoxLoadAsid
✔ | 3 | gtoxLoadAsid
⠏ | 0 | gtoxLoadChem
⠏ | 0 | Check assay chemical table
✔ | 3 | Check assay chemical table
⠏ | 0 | gtoxLoadWaid
⠏ | 0 | Check assay well table
✔ | 2 | Check assay well table
⠏ | 0 | is.odd
✔ | 2 | is.odd
⠏ | 0 | lu
✔ | 1 | lu
⠏ | 0 | lw
✔ | 1 | lw
⠏ | 0 | mc2
✔ | 1 | mc2
⠏ | 0 | mc3
✔ | 1 | mc3
⠏ | 0 | mc5
✔ | 1 | mc5
⠏ | 0 | mc6
✔ | 1 | mc6
⠏ | 0 | sc1
✔ | 1 | sc1
⠏ | 0 | sc2
✔ | 1 | sc2
══ Results ═════════════════════════════════════════════════════════════════════
Duration: 2.4 s
[ FAIL 0 | WARN 0 | SKIP 0 | PASS 32 ]
> test_check("GladiaTOX")
[ FAIL 0 | WARN 0 | SKIP 0 | PASS 32 ]
>
> proc.time()
user system elapsed
6.67 0.78 7.48
GladiaTOX.Rcheck/GladiaTOX-Ex.timings
| name | user | system | elapsed | |
| Models | 0.17 | 0.00 | 0.17 | |
| assay_funcs | 0.50 | 0.11 | 0.61 | |
| assignDefaultMthds | 22.39 | 1.27 | 24.11 | |
| buildAssayTab | 0.02 | 0.00 | 0.02 | |
| config_funcs | 0.01 | 0.00 | 0.01 | |
| deleteStudy | 0 | 0 | 0 | |
| exportResultForToxpiGUI | 0.31 | 0.02 | 0.35 | |
| exportResultTable | 0.14 | 0.03 | 0.17 | |
| glComputeToxInd | 0.30 | 0.01 | 0.31 | |
| glPlotPie | 1.87 | 0.03 | 1.90 | |
| glPlotPieLogo | 1.35 | 0.02 | 1.42 | |
| glPlotPosCtrl | 1.10 | 0.06 | 1.18 | |
| glPlotPosCtrlMEC | 0.57 | 0.02 | 0.57 | |
| glPlotStat | 0.97 | 0.01 | 0.99 | |
| glPlotToxInd | 0.71 | 0.02 | 0.73 | |
| gtoxAICProb | 0 | 0 | 0 | |
| gtoxAddModel | 0.46 | 0.01 | 0.47 | |
| gtoxCalcVmad | 0.03 | 0.02 | 0.05 | |
| gtoxCode2CASN | 0 | 0 | 0 | |
| gtoxFit | 0.41 | 0.02 | 0.42 | |
| gtoxImportThermoDB | 0 | 0 | 0 | |
| gtoxListFlds | 0 | 0 | 0 | |
| gtoxLoadApid | 0.01 | 0.01 | 0.03 | |
| gtoxLoadChem | 0.09 | 0.00 | 0.10 | |
| gtoxLoadClib | 0 | 0 | 0 | |
| gtoxLoadData | 0.05 | 0.03 | 0.07 | |
| gtoxLoadVehicle | 0.02 | 0.00 | 0.02 | |
| gtoxLoadVmad | 0 | 0 | 0 | |
| gtoxLoadWaid | 0.03 | 0.00 | 0.03 | |
| gtoxMakeAeidPlts | 0.56 | 0.05 | 0.61 | |
| gtoxPlotErrBar | 0.39 | 0.01 | 0.41 | |
| gtoxPlotFitc | 0.25 | 0.00 | 0.25 | |
| gtoxPlotFits | 0.14 | 0.00 | 0.14 | |
| gtoxPlotM4ID | 0.64 | 0.05 | 0.69 | |
| gtoxPlotPie | 0.22 | 0.03 | 0.25 | |
| gtoxPlotPieLgnd | 0.00 | 0.02 | 0.02 | |
| gtoxPlotPlate | 0.29 | 0.01 | 0.31 | |
| gtoxPlotWin | 0 | 0 | 0 | |
| gtoxPrepOtpt | 0.13 | 0.00 | 0.12 | |
| gtoxReport | 0 | 0 | 0 | |
| gtoxRun | 21.41 | 0.86 | 22.47 | |
| gtoxSetWllq | 0.09 | 0.02 | 0.13 | |
| gtoxSubsetChid | 0.09 | 0.03 | 0.12 | |
| gtoxWriteData | 0 | 0 | 0 | |
| hill_utils | 0 | 0 | 0 | |
| loadAnnot | 0 | 0 | 0 | |
| lu | 0 | 0 | 0 | |
| lw | 0 | 0 | 0 | |
| mthd_funcs | 0.00 | 0.02 | 0.01 | |
| prepareDatForDB | 0 | 0 | 0 | |
| query_funcs | 0.01 | 0.00 | 0.02 | |
| rgstr_funcs | 0.30 | 0.03 | 0.34 | |