| Back to Multiple platform build/check report for BioC 3.22: simplified long |
|
This page was generated on 2025-08-15 12:06 -0400 (Fri, 15 Aug 2025).
| Hostname | OS | Arch (*) | R version | Installed pkgs |
|---|---|---|---|---|
| nebbiolo2 | Linux (Ubuntu 24.04.3 LTS) | x86_64 | 4.5.1 (2025-06-13) -- "Great Square Root" | 4818 |
| palomino8 | Windows Server 2022 Datacenter | x64 | 4.5.1 (2025-06-13 ucrt) -- "Great Square Root" | 4554 |
| lconway | macOS 12.7.1 Monterey | x86_64 | 4.5.1 (2025-06-13) -- "Great Square Root" | 4595 |
| kjohnson3 | macOS 13.7.7 Ventura | arm64 | 4.5.1 Patched (2025-06-14 r88325) -- "Great Square Root" | 4537 |
| taishan | Linux (openEuler 24.03 LTS) | aarch64 | 4.5.0 (2025-04-11) -- "How About a Twenty-Six" | 4535 |
| Click on any hostname to see more info about the system (e.g. compilers) (*) as reported by 'uname -p', except on Windows and Mac OS X | ||||
| Package 818/2317 | Hostname | OS / Arch | INSTALL | BUILD | CHECK | BUILD BIN | ||||||||
| GeneTonic 3.3.2 (landing page) Federico Marini
| nebbiolo2 | Linux (Ubuntu 24.04.3 LTS) / x86_64 | OK | OK | OK | |||||||||
| palomino8 | Windows Server 2022 Datacenter / x64 | OK | OK | OK | OK | |||||||||
| lconway | macOS 12.7.1 Monterey / x86_64 | OK | OK | OK | OK | |||||||||
| kjohnson3 | macOS 13.7.7 Ventura / arm64 | OK | OK | OK | OK | |||||||||
| taishan | Linux (openEuler 24.03 LTS) / aarch64 | OK | OK | OK | ||||||||||
|
To the developers/maintainers of the GeneTonic package: - Allow up to 24 hours (and sometimes 48 hours) for your latest push to git@git.bioconductor.org:packages/GeneTonic.git to reflect on this report. See Troubleshooting Build Report for more information. - Use the following Renviron settings to reproduce errors and warnings. - If 'R CMD check' started to fail recently on the Linux builder(s) over a missing dependency, add the missing dependency to 'Suggests:' in your DESCRIPTION file. See Renviron.bioc for more information. |
| Package: GeneTonic |
| Version: 3.3.2 |
| Command: F:\biocbuild\bbs-3.22-bioc\R\bin\R.exe CMD check --no-multiarch --install=check:GeneTonic.install-out.txt --library=F:\biocbuild\bbs-3.22-bioc\R\library --no-vignettes --timings GeneTonic_3.3.2.tar.gz |
| StartedAt: 2025-08-15 03:32:49 -0400 (Fri, 15 Aug 2025) |
| EndedAt: 2025-08-15 03:47:14 -0400 (Fri, 15 Aug 2025) |
| EllapsedTime: 864.9 seconds |
| RetCode: 0 |
| Status: OK |
| CheckDir: GeneTonic.Rcheck |
| Warnings: 0 |
##############################################################################
##############################################################################
###
### Running command:
###
### F:\biocbuild\bbs-3.22-bioc\R\bin\R.exe CMD check --no-multiarch --install=check:GeneTonic.install-out.txt --library=F:\biocbuild\bbs-3.22-bioc\R\library --no-vignettes --timings GeneTonic_3.3.2.tar.gz
###
##############################################################################
##############################################################################
* using log directory 'F:/biocbuild/bbs-3.22-bioc/meat/GeneTonic.Rcheck'
* using R version 4.5.1 (2025-06-13 ucrt)
* using platform: x86_64-w64-mingw32
* R was compiled by
gcc.exe (GCC) 14.2.0
GNU Fortran (GCC) 14.2.0
* running under: Windows Server 2022 x64 (build 20348)
* using session charset: UTF-8
* using option '--no-vignettes'
* checking for file 'GeneTonic/DESCRIPTION' ... OK
* this is package 'GeneTonic' version '3.3.2'
* package encoding: UTF-8
* checking package namespace information ... OK
* checking package dependencies ... INFO
Imports includes 38 non-default packages.
Importing from so many packages makes the package vulnerable to any of
them becoming unavailable. Move as many as possible to Suggests and
use conditionally.
* checking if this is a source package ... OK
* checking if there is a namespace ... OK
* checking for hidden files and directories ... OK
* checking for portable file names ... OK
* checking whether package 'GeneTonic' can be installed ... OK
* checking installed package size ... OK
* checking package directory ... OK
* checking 'build' directory ... OK
* checking DESCRIPTION meta-information ... OK
* checking top-level files ... OK
* checking for left-over files ... OK
* checking index information ... OK
* checking package subdirectories ... OK
* checking code files for non-ASCII characters ... OK
* checking R files for syntax errors ... OK
* checking whether the package can be loaded ... OK
* checking whether the package can be loaded with stated dependencies ... OK
* checking whether the package can be unloaded cleanly ... OK
* checking whether the namespace can be loaded with stated dependencies ... OK
* checking whether the namespace can be unloaded cleanly ... OK
* checking whether startup messages can be suppressed ... OK
* checking dependencies in R code ... OK
* checking S3 generic/method consistency ... OK
* checking replacement functions ... OK
* checking foreign function calls ... OK
* checking R code for possible problems ... OK
* checking Rd files ... OK
* checking Rd metadata ... OK
* checking Rd cross-references ... OK
* checking for missing documentation entries ... OK
* checking for code/documentation mismatches ... OK
* checking Rd \usage sections ... OK
* checking Rd contents ... OK
* checking for unstated dependencies in examples ... OK
* checking contents of 'data' directory ... OK
* checking data for non-ASCII characters ... OK
* checking data for ASCII and uncompressed saves ... OK
* checking files in 'vignettes' ... OK
* checking examples ... OK
Examples with CPU (user + system) or elapsed time > 5s
user system elapsed
gs_mds 8.87 0.66 9.55
gs_heatmap 7.82 1.15 7.85
GeneTonic 7.84 0.32 8.36
ggs_backbone 7.62 0.47 9.30
gs_upset 7.61 0.45 8.09
summarize_ggs_hubgenes 7.16 0.43 7.58
gs_scoresheat 6.62 0.41 7.04
enhance_table 6.16 0.33 6.48
ggs_graph 6.13 0.36 6.52
signature_volcano 6.00 0.47 6.45
gs_scores 5.47 0.34 5.81
gs_horizon 5.45 0.33 5.79
gs_volcano 5.37 0.28 5.67
gs_summary_heat 5.03 0.32 5.34
gs_alluvial 4.85 0.38 7.19
gs_radar 4.83 0.36 5.41
gs_dendro 4.78 0.37 5.16
GeneTonicList 4.82 0.27 5.08
export_for_iSEE 4.93 0.14 5.08
* checking for unstated dependencies in 'tests' ... OK
* checking tests ...
Running 'testthat.R'
OK
* checking for unstated dependencies in vignettes ... OK
* checking package vignettes ... OK
* checking running R code from vignettes ... SKIPPED
* checking re-building of vignette outputs ... SKIPPED
* checking PDF version of manual ... OK
* DONE
Status: OK
GeneTonic.Rcheck/00install.out
############################################################################## ############################################################################## ### ### Running command: ### ### F:\biocbuild\bbs-3.22-bioc\R\bin\R.exe CMD INSTALL GeneTonic ### ############################################################################## ############################################################################## * installing to library 'F:/biocbuild/bbs-3.22-bioc/R/library' * installing *source* package 'GeneTonic' ... ** this is package 'GeneTonic' version '3.3.2' ** using staged installation ** R ** data ** inst ** byte-compile and prepare package for lazy loading ** help *** installing help indices *** copying figures ** building package indices ** installing vignettes ** testing if installed package can be loaded from temporary location ** testing if installed package can be loaded from final location ** testing if installed package keeps a record of temporary installation path * DONE (GeneTonic)
GeneTonic.Rcheck/tests/testthat.Rout
R version 4.5.1 (2025-06-13 ucrt) -- "Great Square Root"
Copyright (C) 2025 The R Foundation for Statistical Computing
Platform: x86_64-w64-mingw32/x64
R is free software and comes with ABSOLUTELY NO WARRANTY.
You are welcome to redistribute it under certain conditions.
Type 'license()' or 'licence()' for distribution details.
R is a collaborative project with many contributors.
Type 'contributors()' for more information and
'citation()' on how to cite R or R packages in publications.
Type 'demo()' for some demos, 'help()' for on-line help, or
'help.start()' for an HTML browser interface to help.
Type 'q()' to quit R.
> library(testthat)
> library(GeneTonic)
Welcome to GeneTonic v3.3.2
If you use GeneTonic in your work, please cite:
GeneTonic: an R/Bioconductor package for streamlining the interpretation of RNA-seq data
Federico Marini, Annekathrin Ludt, Jan Linke, Konstantin Strauch
BMC Bioinformatics, 2021 - https://doi.org/10.1186/s12859-021-04461-5
and/or (if adopting the series of protocols as a whole)
Interactive and Reproducible Workflows for Exploring and Modeling RNA-seq Data with pcaExplorer, ideal, and GeneTonic
Annekathrin Ludt, Arsenij Ustjanzew, Harald Binder, Konstantin Strauch, Federico Marini
Current Protocols, 2022 - https://doi.org/10.1002/cpz1.411
>
> test_check("GeneTonic")
--- Loading packages...
- Done!
--- Generating objects for the testing setup...
using counts and average transcript lengths from tximeta
'select()' returned 1:many mapping between keys and columns
estimating size factors
using 'avgTxLength' from assays(dds), correcting for library size
estimating dispersions
gene-wise dispersion estimates
mean-dispersion relationship
final dispersion estimates
fitting model and testing
- Done!
--- Running enrichGO...
--- Running gseGO...
using 'fgsea' for GSEA analysis, please cite Korotkevich et al (2019).
preparing geneSet collections...
GSEA analysis...
leading edge analysis...
done...
Found 500 gene sets in `topGOtableResult` object.
Converting for usage in GeneTonic...
- Done!
---------------------------------
----- GeneTonicList object ------
---------------------------------
----- dds object -----
Providing an expression object (as DESeqDataset) of 17806 features over 24 samples
----- res_de object -----
Providing a DE result object (as DESeqResults), 17806 features tested, 1024 found as DE
Upregulated: 652
Downregulated: 372
----- res_enrich object -----
Providing an enrichment result object, 200 reported
----- annotation_obj object -----
Providing an annotation object of 58294 features with information on 2 identifier types
--- Test setup script completed!
|
| | 0%
|
| | 1%
|
|= | 1%
|
|= | 2%
|
|== | 2%
|
|== | 3%
|
|== | 4%
|
|=== | 4%
|
|=== | 5%
|
|==== | 5%
|
|==== | 6%
|
|===== | 6%
|
|===== | 7%
|
|===== | 8%
|
|====== | 8%
|
|====== | 9%
|
|======= | 9%
|
|======= | 10%
|
|======= | 11%
|
|======== | 11%
|
|======== | 12%
|
|========= | 12%
|
|========= | 13%
|
|========= | 14%
|
|========== | 14%
|
|========== | 15%
|
|=========== | 15%
|
|=========== | 16%
|
|============ | 16%
|
|============ | 17%
|
|============ | 18%
|
|============= | 18%
|
|============= | 19%
|
|============== | 19%
|
|============== | 20%
|
|============== | 21%
|
|=============== | 21%
|
|=============== | 22%
|
|================ | 22%
|
|================ | 23%
|
|================ | 24%
|
|================= | 24%
|
|================= | 25%
|
|================== | 25%
|
|================== | 26%
|
|=================== | 26%
|
|=================== | 27%
|
|=================== | 28%
|
|==================== | 28%
|
|==================== | 29%
|
|===================== | 29%
|
|===================== | 30%
|
|===================== | 31%
|
|====================== | 31%
|
|====================== | 32%
|
|======================= | 32%
|
|======================= | 33%
|
|======================= | 34%
|
|======================== | 34%
|
|======================== | 35%
|
|========================= | 35%
|
|========================= | 36%
|
|========================== | 36%
|
|========================== | 37%
|
|========================== | 38%
|
|=========================== | 38%
|
|=========================== | 39%
|
|============================ | 39%
|
|============================ | 40%
|
|============================ | 41%
|
|============================= | 41%
|
|============================= | 42%
|
|============================== | 42%
|
|============================== | 43%
|
|============================== | 44%
|
|=============================== | 44%
|
|=============================== | 45%
|
|================================ | 45%
|
|================================ | 46%
|
|================================= | 46%
|
|================================= | 47%
|
|================================= | 48%
|
|================================== | 48%
|
|================================== | 49%
|
|=================================== | 49%
|
|=================================== | 50%
|
|=================================== | 51%
|
|==================================== | 51%
|
|==================================== | 52%
|
|===================================== | 52%
|
|===================================== | 53%
|
|===================================== | 54%
|
|====================================== | 54%
|
|====================================== | 55%
|
|======================================= | 55%
|
|======================================= | 56%
|
|======================================== | 56%
|
|======================================== | 57%
|
|======================================== | 58%
|
|========================================= | 58%
|
|========================================= | 59%
|
|========================================== | 59%
|
|========================================== | 60%
|
|========================================== | 61%
|
|=========================================== | 61%
|
|=========================================== | 62%
|
|============================================ | 62%
|
|============================================ | 63%
|
|============================================ | 64%
|
|============================================= | 64%
|
|============================================= | 65%
|
|============================================== | 65%
|
|============================================== | 66%
|
|=============================================== | 66%
|
|=============================================== | 67%
|
|=============================================== | 68%
|
|================================================ | 68%
|
|================================================ | 69%
|
|================================================= | 69%
|
|================================================= | 70%
|
|================================================= | 71%
|
|================================================== | 71%
|
|================================================== | 72%
|
|=================================================== | 72%
|
|=================================================== | 73%
|
|=================================================== | 74%
|
|==================================================== | 74%
|
|==================================================== | 75%
|
|===================================================== | 75%
|
|===================================================== | 76%
|
|====================================================== | 76%
|
|====================================================== | 77%
|
|====================================================== | 78%
|
|======================================================= | 78%
|
|======================================================= | 79%
|
|======================================================== | 79%
|
|======================================================== | 80%
|
|======================================================== | 81%
|
|========================================================= | 81%
|
|========================================================= | 82%
|
|========================================================== | 82%
|
|========================================================== | 83%
|
|========================================================== | 84%
|
|=========================================================== | 84%
|
|=========================================================== | 85%
|
|============================================================ | 85%
|
|============================================================ | 86%
|
|============================================================= | 86%
|
|============================================================= | 87%
|
|============================================================= | 88%
|
|============================================================== | 88%
|
|============================================================== | 89%
|
|=============================================================== | 89%
|
|=============================================================== | 90%
|
|=============================================================== | 91%
|
|================================================================ | 91%
|
|================================================================ | 92%
|
|================================================================= | 92%
|
|================================================================= | 93%
|
|================================================================= | 94%
|
|================================================================== | 94%
|
|================================================================== | 95%
|
|=================================================================== | 95%
|
|=================================================================== | 96%
|
|==================================================================== | 96%
|
|==================================================================== | 97%
|
|==================================================================== | 98%
|
|===================================================================== | 98%
|
|===================================================================== | 99%
|
|======================================================================| 99%
|
|======================================================================| 100%
[ FAIL 0 | WARN 1 | SKIP 0 | PASS 265 ]
[ FAIL 0 | WARN 1 | SKIP 0 | PASS 265 ]
>
> proc.time()
user system elapsed
189.82 14.96 252.73
GeneTonic.Rcheck/GeneTonic-Ex.timings
| name | user | system | elapsed | |
| GeneTonic | 7.84 | 0.32 | 8.36 | |
| GeneTonicList | 4.82 | 0.27 | 5.08 | |
| check_colors | 0.00 | 0.00 | 0.01 | |
| checkup_GeneTonic | 3.64 | 0.31 | 3.96 | |
| checkup_gtl | 4.55 | 0.38 | 4.92 | |
| cluster_markov | 0.13 | 0.00 | 0.22 | |
| create_jaccard_matrix | 1.62 | 0.20 | 1.83 | |
| create_kappa_matrix | 4.24 | 0.39 | 4.63 | |
| create_upsetdata | 0.08 | 0.03 | 0.10 | |
| deprecated | 0 | 0 | 0 | |
| deseqresult2df | 0.17 | 0.02 | 0.19 | |
| distill_enrichment | 4.05 | 0.26 | 4.31 | |
| enhance_table | 6.16 | 0.33 | 6.48 | |
| enrichment_map | 3.61 | 0.27 | 3.88 | |
| export_for_iSEE | 4.93 | 0.14 | 5.08 | |
| export_to_sif | 0.04 | 0.01 | 0.04 | |
| gene_plot | 4.18 | 0.25 | 4.44 | |
| geneinfo_2_html | 0.01 | 0.00 | 0.01 | |
| get_aggrscores | 4.36 | 0.19 | 4.55 | |
| get_expression_values | 2.53 | 0.17 | 2.70 | |
| ggs_backbone | 7.62 | 0.47 | 9.30 | |
| ggs_graph | 6.13 | 0.36 | 6.52 | |
| go_2_html | 0.01 | 0.00 | 0.01 | |
| gs_alluvial | 4.85 | 0.38 | 7.19 | |
| gs_dendro | 4.78 | 0.37 | 5.16 | |
| gs_fuzzyclustering | 1.40 | 0.13 | 1.51 | |
| gs_heatmap | 7.82 | 1.15 | 7.85 | |
| gs_horizon | 5.45 | 0.33 | 5.79 | |
| gs_mds | 8.87 | 0.66 | 9.55 | |
| gs_radar | 4.83 | 0.36 | 5.41 | |
| gs_scores | 5.47 | 0.34 | 5.81 | |
| gs_scoresheat | 6.62 | 0.41 | 7.04 | |
| gs_simplify | 1.24 | 0.07 | 1.31 | |
| gs_summary_heat | 5.03 | 0.32 | 5.34 | |
| gs_summary_overview | 4.17 | 0.23 | 4.41 | |
| gs_summary_overview_pair | 3.82 | 0.38 | 4.35 | |
| gs_upset | 7.61 | 0.45 | 8.09 | |
| gs_volcano | 5.37 | 0.28 | 5.67 | |
| happy_hour | 3.59 | 0.27 | 3.87 | |
| map2color | 0.02 | 0.00 | 0.02 | |
| overlap_coefficient | 0 | 0 | 0 | |
| overlap_jaccard_index | 0 | 0 | 0 | |
| shake_davidResult | 0.01 | 0.01 | 0.03 | |
| shake_enrichResult | 2.02 | 0.17 | 2.19 | |
| shake_enrichrResult | 0.08 | 0.00 | 0.09 | |
| shake_fgseaResult | 0.17 | 0.00 | 0.17 | |
| shake_gprofilerResult | 1.51 | 0.07 | 1.60 | |
| shake_gsenrichResult | 1.82 | 0.17 | 1.98 | |
| shake_topGOtableResult | 0.01 | 0.00 | 0.02 | |
| signature_volcano | 6.00 | 0.47 | 6.45 | |
| styleColorBar_divergent | 0.22 | 0.07 | 0.73 | |
| summarize_ggs_hubgenes | 7.16 | 0.43 | 7.58 | |