| Back to Multiple platform build/check report for BioC 3.22: simplified long |
|
This page was generated on 2025-08-15 12:06 -0400 (Fri, 15 Aug 2025).
| Hostname | OS | Arch (*) | R version | Installed pkgs |
|---|---|---|---|---|
| nebbiolo2 | Linux (Ubuntu 24.04.3 LTS) | x86_64 | 4.5.1 (2025-06-13) -- "Great Square Root" | 4818 |
| palomino8 | Windows Server 2022 Datacenter | x64 | 4.5.1 (2025-06-13 ucrt) -- "Great Square Root" | 4554 |
| lconway | macOS 12.7.1 Monterey | x86_64 | 4.5.1 (2025-06-13) -- "Great Square Root" | 4595 |
| kjohnson3 | macOS 13.7.7 Ventura | arm64 | 4.5.1 Patched (2025-06-14 r88325) -- "Great Square Root" | 4537 |
| taishan | Linux (openEuler 24.03 LTS) | aarch64 | 4.5.0 (2025-04-11) -- "How About a Twenty-Six" | 4535 |
| Click on any hostname to see more info about the system (e.g. compilers) (*) as reported by 'uname -p', except on Windows and Mac OS X | ||||
| Package 799/2317 | Hostname | OS / Arch | INSTALL | BUILD | CHECK | BUILD BIN | ||||||||
| GeneBreak 1.39.0 (landing page) Evert van den Broek
| nebbiolo2 | Linux (Ubuntu 24.04.3 LTS) / x86_64 | OK | OK | OK | |||||||||
| palomino8 | Windows Server 2022 Datacenter / x64 | OK | OK | OK | OK | |||||||||
| lconway | macOS 12.7.1 Monterey / x86_64 | OK | OK | OK | OK | |||||||||
| kjohnson3 | macOS 13.7.7 Ventura / arm64 | OK | OK | OK | OK | |||||||||
| taishan | Linux (openEuler 24.03 LTS) / aarch64 | OK | OK | OK | ||||||||||
|
To the developers/maintainers of the GeneBreak package: - Allow up to 24 hours (and sometimes 48 hours) for your latest push to git@git.bioconductor.org:packages/GeneBreak.git to reflect on this report. See Troubleshooting Build Report for more information. - Use the following Renviron settings to reproduce errors and warnings. - If 'R CMD check' started to fail recently on the Linux builder(s) over a missing dependency, add the missing dependency to 'Suggests:' in your DESCRIPTION file. See Renviron.bioc for more information. |
| Package: GeneBreak |
| Version: 1.39.0 |
| Command: F:\biocbuild\bbs-3.22-bioc\R\bin\R.exe CMD check --no-multiarch --install=check:GeneBreak.install-out.txt --library=F:\biocbuild\bbs-3.22-bioc\R\library --no-vignettes --timings GeneBreak_1.39.0.tar.gz |
| StartedAt: 2025-08-15 03:29:22 -0400 (Fri, 15 Aug 2025) |
| EndedAt: 2025-08-15 03:32:59 -0400 (Fri, 15 Aug 2025) |
| EllapsedTime: 217.3 seconds |
| RetCode: 0 |
| Status: OK |
| CheckDir: GeneBreak.Rcheck |
| Warnings: 0 |
##############################################################################
##############################################################################
###
### Running command:
###
### F:\biocbuild\bbs-3.22-bioc\R\bin\R.exe CMD check --no-multiarch --install=check:GeneBreak.install-out.txt --library=F:\biocbuild\bbs-3.22-bioc\R\library --no-vignettes --timings GeneBreak_1.39.0.tar.gz
###
##############################################################################
##############################################################################
* using log directory 'F:/biocbuild/bbs-3.22-bioc/meat/GeneBreak.Rcheck'
* using R version 4.5.1 (2025-06-13 ucrt)
* using platform: x86_64-w64-mingw32
* R was compiled by
gcc.exe (GCC) 14.2.0
GNU Fortran (GCC) 14.2.0
* running under: Windows Server 2022 x64 (build 20348)
* using session charset: UTF-8
* using option '--no-vignettes'
* checking for file 'GeneBreak/DESCRIPTION' ... OK
* checking extension type ... Package
* this is package 'GeneBreak' version '1.39.0'
* checking package namespace information ... OK
* checking package dependencies ... OK
* checking if this is a source package ... OK
* checking if there is a namespace ... OK
* checking for hidden files and directories ... OK
* checking for portable file names ... OK
* checking whether package 'GeneBreak' can be installed ... OK
* checking installed package size ... OK
* checking package directory ... OK
* checking 'build' directory ... OK
* checking DESCRIPTION meta-information ... OK
* checking top-level files ... OK
* checking for left-over files ... OK
* checking index information ... OK
* checking package subdirectories ... OK
* checking code files for non-ASCII characters ... OK
* checking R files for syntax errors ... OK
* checking whether the package can be loaded ... OK
* checking whether the package can be loaded with stated dependencies ... OK
* checking whether the package can be unloaded cleanly ... OK
* checking whether the namespace can be loaded with stated dependencies ... OK
* checking whether the namespace can be unloaded cleanly ... OK
* checking dependencies in R code ... OK
* checking S3 generic/method consistency ... OK
* checking replacement functions ... OK
* checking foreign function calls ... OK
* checking R code for possible problems ... NOTE
.glmbreak: no visible global function definition for 'glm'
.glmbreak: no visible global function definition for 'predict'
addGeneAnnotation,CopyNumberBreakPoints: no visible global function
definition for 'head'
bpStats,CopyNumberBreakPoints: no visible global function definition
for 'sd'
bpStats,CopyNumberBreakPoints: no visible global function definition
for 'p.adjust'
Undefined global functions or variables:
glm head p.adjust predict sd
Consider adding
importFrom("stats", "glm", "p.adjust", "predict", "sd")
importFrom("utils", "head")
to your NAMESPACE file.
* checking Rd files ... OK
* checking Rd metadata ... OK
* checking Rd cross-references ... OK
* checking for missing documentation entries ... OK
* checking for code/documentation mismatches ... OK
* checking Rd \usage sections ... OK
* checking Rd contents ... OK
* checking for unstated dependencies in examples ... OK
* checking contents of 'data' directory ... OK
* checking data for non-ASCII characters ... OK
* checking data for ASCII and uncompressed saves ... OK
* checking sizes of PDF files under 'inst/doc' ... OK
* checking files in 'vignettes' ... OK
* checking examples ... OK
Examples with CPU (user + system) or elapsed time > 5s
user system elapsed
CopyNumberBreakPointGenes-class 7.37 0.97 8.34
bpStats-CopyNumberBreakPoints-method 6.34 1.39 7.72
bpPlot-CopyNumberBreakPoints-method 5.53 1.65 7.20
recurrentGenes-CopyNumberBreakPointGenes-method 5.97 0.92 6.89
* checking for unstated dependencies in vignettes ... OK
* checking package vignettes ... OK
* checking running R code from vignettes ... SKIPPED
* checking re-building of vignette outputs ... SKIPPED
* checking PDF version of manual ... OK
* DONE
Status: 1 NOTE
See
'F:/biocbuild/bbs-3.22-bioc/meat/GeneBreak.Rcheck/00check.log'
for details.
GeneBreak.Rcheck/00install.out
############################################################################## ############################################################################## ### ### Running command: ### ### F:\biocbuild\bbs-3.22-bioc\R\bin\R.exe CMD INSTALL GeneBreak ### ############################################################################## ############################################################################## * installing to library 'F:/biocbuild/bbs-3.22-bioc/R/library' * installing *source* package 'GeneBreak' ... ** this is package 'GeneBreak' version '1.39.0' ** using staged installation ** R ** data ** byte-compile and prepare package for lazy loading Creating a new generic function for 'segmentData' in package 'GeneBreak' ** help *** installing help indices ** building package indices ** installing vignettes ** testing if installed package can be loaded from temporary location ** testing if installed package can be loaded from final location ** testing if installed package keeps a record of temporary installation path * DONE (GeneBreak)
GeneBreak.Rcheck/GeneBreak-Ex.timings
| name | user | system | elapsed | |
| CopyNumberBreakPointGenes-class | 7.37 | 0.97 | 8.34 | |
| CopyNumberBreakPoints-class | 2.05 | 0.22 | 2.27 | |
| accessOptions-CopyNumberBreakPoints-method | 1.02 | 0.19 | 1.21 | |
| addGeneAnnotation-CopyNumberBreakPoints-method | 1.84 | 0.33 | 2.17 | |
| bpFilter-CopyNumberBreakPoints-method | 1.17 | 0.21 | 1.39 | |
| bpGenes-CopyNumberBreakPointGenes-method | 2.10 | 0.35 | 2.44 | |
| bpPlot-CopyNumberBreakPoints-method | 5.53 | 1.65 | 7.20 | |
| bpStats-CopyNumberBreakPoints-method | 6.34 | 1.39 | 7.72 | |
| breakpointData-CopyNumberBreakPoints-method | 1.42 | 0.65 | 2.06 | |
| breakpointsPerGene-CopyNumberBreakPointGenes-method | 2.30 | 0.75 | 3.05 | |
| callData-CopyNumberBreakPoints-method | 1.52 | 0.54 | 2.06 | |
| featureChromosomes-CopyNumberBreakPoints-method | 0.90 | 0.11 | 1.02 | |
| featureInfo-CopyNumberBreakPoints-method | 2.24 | 0.52 | 2.75 | |
| featuresPerGene-CopyNumberBreakPointGenes-method | 1.92 | 0.39 | 2.31 | |
| geneChromosomes-CopyNumberBreakPointGenes-method | 2.12 | 0.36 | 2.48 | |
| geneInfo-CopyNumberBreakPointGenes-method | 1.94 | 0.36 | 2.32 | |
| getBreakpoints | 1.67 | 0.31 | 1.98 | |
| namesFeatures-CopyNumberBreakPoints-method | 0.99 | 0.16 | 1.14 | |
| recurrentGenes-CopyNumberBreakPointGenes-method | 5.97 | 0.92 | 6.89 | |
| sampleNames-CopyNumberBreakPoints-method | 1.07 | 0.18 | 1.27 | |
| segmentData-CopyNumberBreakPoints-method | 1.66 | 0.49 | 2.14 | |