Back to Multiple platform build/check report for BioC 3.22:   simplified   long
ABCD[E]FGHIJKLMNOPQRSTUVWXYZ

This page was generated on 2025-11-15 11:57 -0500 (Sat, 15 Nov 2025).

HostnameOSArch (*)R versionInstalled pkgs
nebbiolo2Linux (Ubuntu 24.04.3 LTS)x86_644.5.1 Patched (2025-08-23 r88802) -- "Great Square Root" 4903
taishanLinux (openEuler 24.03 LTS)aarch644.5.0 (2025-04-11) -- "How About a Twenty-Six" 4668
Click on any hostname to see more info about the system (e.g. compilers)      (*) as reported by 'uname -p', except on Windows and Mac OS X

All results for package EBImage


To the developers/maintainers of the EBImage package:
- Allow up to 24 hours (and sometimes 48 hours) for your latest push to git@git.bioconductor.org:packages/EBImage.git to reflect on this report. See Troubleshooting Build Report for more information.
- Use the following Renviron settings to reproduce errors and warnings.
- If 'R CMD check' started to fail recently on the Linux builder(s) over a missing dependency, add the missing dependency to 'Suggests:' in your DESCRIPTION file. See Renviron.bioc for more information.

raw results

Package 648/2361HostnameOS / ArchINSTALLBUILDCHECKBUILD BIN
EBImage 4.52.0  (landing page)
Andrzej Oleś
Snapshot Date: 2025-11-14 13:45 -0500 (Fri, 14 Nov 2025)
git_url: https://git.bioconductor.org/packages/EBImage
git_branch: RELEASE_3_22
git_last_commit: 6f9e0ab
git_last_commit_date: 2025-10-29 09:57:46 -0500 (Wed, 29 Oct 2025)
nebbiolo2Linux (Ubuntu 24.04.3 LTS) / x86_64  OK    OK    OK  UNNEEDED, same version is already published
taishanLinux (openEuler 24.03 LTS) / aarch64  OK    OK    OK  



Results for Bioconductor software packages that depend directly on package EBImage

QUICK STATSOS / ArchINSTALLBUILDCHECKBUILD BIN
nebbiolo2Linux (Ubuntu 24.04.3 LTS) / x86_64
0022
0022
00220
taishanLinux (openEuler 24.03 LTS) / aarch64
0022
2119
01216
Package 1/22HostnameOS / ArchINSTALLBUILDCHECKBUILD BIN
alabaster.sfe 1.2.0  (landing page)
Lambda Moses
git_last_commit: cb337e4
git_last_commit_date: 2025-10-29 11:35:08 -0500
nebbiolo2Linux (Ubuntu 24.04.3 LTS) / x86_64  OK    OK    OK  UNNEEDED, same version is already published
taishanLinux (openEuler 24.03 LTS) / aarch64  OK    TIMEOUT  skipped
Package 2/22HostnameOS / ArchINSTALLBUILDCHECKBUILD BIN
bnbc 1.32.0  (landing page)
Kipper Fletez-Brant
git_last_commit: b9c6b77
git_last_commit_date: 2025-10-29 10:41:29 -0500
nebbiolo2Linux (Ubuntu 24.04.3 LTS) / x86_64  OK    OK    OK  UNNEEDED, same version is already published
taishanLinux (openEuler 24.03 LTS) / aarch64  OK    OK    OK  
Package 3/22HostnameOS / ArchINSTALLBUILDCHECKBUILD BIN
Cardinal 3.12.0  (landing page)
Kylie Ariel Bemis
git_last_commit: 859d28b
git_last_commit_date: 2025-10-29 10:23:51 -0500
nebbiolo2Linux (Ubuntu 24.04.3 LTS) / x86_64  OK    OK    OK  UNNEEDED, same version is already published
taishanLinux (openEuler 24.03 LTS) / aarch64  OK    OK    OK  
Package 4/22HostnameOS / ArchINSTALLBUILDCHECKBUILD BIN
CatsCradle 1.4.1  (landing page)
Michael Shapiro
git_last_commit: 87aae32
git_last_commit_date: 2025-11-04 07:20:10 -0500
nebbiolo2Linux (Ubuntu 24.04.3 LTS) / x86_64  OK    OK    OK  UNNEEDED, same version is already published
taishanLinux (openEuler 24.03 LTS) / aarch64  OK    OK    OK  
Package 5/22HostnameOS / ArchINSTALLBUILDCHECKBUILD BIN
CONFESS 1.38.0  (landing page)
Diana LOW
git_last_commit: 5c1dbd9
git_last_commit_date: 2025-10-29 10:31:27 -0500
nebbiolo2Linux (Ubuntu 24.04.3 LTS) / x86_64  OK    OK    WARNINGS  UNNEEDED, same version is already published
taishanLinux (openEuler 24.03 LTS) / aarch64  OK    OK    WARNINGS  
Package 6/22HostnameOS / ArchINSTALLBUILDCHECKBUILD BIN
CRImage 1.58.0  (landing page)
Henrik Failmezger , Yinyin Yuan
git_last_commit: 74fd591
git_last_commit_date: 2025-10-29 10:05:56 -0500
nebbiolo2Linux (Ubuntu 24.04.3 LTS) / x86_64  OK    OK    OK  UNNEEDED, same version is already published
taishanLinux (openEuler 24.03 LTS) / aarch64  OK    OK    OK  
Package 7/22HostnameOS / ArchINSTALLBUILDCHECKBUILD BIN
cytomapper 1.22.0  (landing page)
Lasse Meyer
git_last_commit: 0d3160a
git_last_commit_date: 2025-10-29 10:57:59 -0500
nebbiolo2Linux (Ubuntu 24.04.3 LTS) / x86_64  OK    OK    OK  UNNEEDED, same version is already published
taishanLinux (openEuler 24.03 LTS) / aarch64  OK    OK    OK  
Package 8/22HostnameOS / ArchINSTALLBUILDCHECKBUILD BIN
cytoviewer 1.10.0  (landing page)
Lasse Meyer
git_last_commit: 56765b4
git_last_commit_date: 2025-10-29 11:22:11 -0500
nebbiolo2Linux (Ubuntu 24.04.3 LTS) / x86_64  OK    OK    OK  UNNEEDED, same version is already published
taishanLinux (openEuler 24.03 LTS) / aarch64  OK    OK    OK  
Package 9/22HostnameOS / ArchINSTALLBUILDCHECKBUILD BIN
FISHalyseR 1.44.0  (landing page)
Karesh Arunakirinathan
git_last_commit: 43dab4f
git_last_commit_date: 2025-10-29 10:25:15 -0500
nebbiolo2Linux (Ubuntu 24.04.3 LTS) / x86_64  OK    OK    WARNINGS  UNNEEDED, same version is already published
taishanLinux (openEuler 24.03 LTS) / aarch64  OK    OK    WARNINGS  
Package 10/22HostnameOS / ArchINSTALLBUILDCHECKBUILD BIN
flowcatchR 1.44.0  (landing page)
Federico Marini
git_last_commit: d670991
git_last_commit_date: 2025-10-29 10:22:08 -0500
nebbiolo2Linux (Ubuntu 24.04.3 LTS) / x86_64  OK    OK    OK  UNNEEDED, same version is already published
taishanLinux (openEuler 24.03 LTS) / aarch64  OK    OK    OK  
Package 11/22HostnameOS / ArchINSTALLBUILDCHECKBUILD BIN
flowCHIC 1.44.0  (landing page)
Author: Joachim Schumann
git_last_commit: bcfdd11
git_last_commit_date: 2025-10-29 10:22:16 -0500
nebbiolo2Linux (Ubuntu 24.04.3 LTS) / x86_64  OK    OK    OK  UNNEEDED, same version is already published
taishanLinux (openEuler 24.03 LTS) / aarch64  OK    OK    OK  
Package 12/22HostnameOS / ArchINSTALLBUILDCHECKBUILD BIN
heatmaps 1.34.0  (landing page)
Malcolm Perry
git_last_commit: 1fbdefe
git_last_commit_date: 2025-10-29 10:38:31 -0500
nebbiolo2Linux (Ubuntu 24.04.3 LTS) / x86_64  OK    OK    OK  UNNEEDED, same version is already published
taishanLinux (openEuler 24.03 LTS) / aarch64  OK    OK    OK  
Package 13/22HostnameOS / ArchINSTALLBUILDCHECKBUILD BIN
imcRtools 1.16.0  (landing page)
Daniel Schulz
git_last_commit: 13fa3df
git_last_commit_date: 2025-10-29 11:12:28 -0500
nebbiolo2Linux (Ubuntu 24.04.3 LTS) / x86_64  OK    OK    OK  UNNEEDED, same version is already published
taishanLinux (openEuler 24.03 LTS) / aarch64  OK    OK    OK  
Package 14/22HostnameOS / ArchINSTALLBUILDCHECKBUILD BIN
MoleculeExperiment 1.10.0  (landing page)
Shila Ghazanfar
git_last_commit: b604184
git_last_commit_date: 2025-10-29 11:22:45 -0500
nebbiolo2Linux (Ubuntu 24.04.3 LTS) / x86_64  OK    OK    OK  UNNEEDED, same version is already published
taishanLinux (openEuler 24.03 LTS) / aarch64  OK    OK    OK  
Package 15/22HostnameOS / ArchINSTALLBUILDCHECKBUILD BIN
RBioFormats 1.10.0  (landing page)
Andrzej Oleś
git_last_commit: 52b73ef
git_last_commit_date: 2025-10-29 11:20:28 -0500
nebbiolo2Linux (Ubuntu 24.04.3 LTS) / x86_64  OK    OK    OK  UNNEEDED, same version is already published
taishanLinux (openEuler 24.03 LTS) / aarch64  OK    OK    OK  
Package 16/22HostnameOS / ArchINSTALLBUILDCHECKBUILD BIN
simpleSeg 1.12.0  (landing page)
Ellis Patrick
git_last_commit: 2b63ec0
git_last_commit_date: 2025-10-29 11:19:44 -0500
nebbiolo2Linux (Ubuntu 24.04.3 LTS) / x86_64  OK    OK    OK  UNNEEDED, same version is already published
taishanLinux (openEuler 24.03 LTS) / aarch64  OK    OK    OK  
Package 17/22HostnameOS / ArchINSTALLBUILDCHECKBUILD BIN
sosta 1.2.0  (landing page)
Samuel Gunz
git_last_commit: ecee469
git_last_commit_date: 2025-10-29 11:33:49 -0500
nebbiolo2Linux (Ubuntu 24.04.3 LTS) / x86_64  OK    OK    OK  UNNEEDED, same version is already published
taishanLinux (openEuler 24.03 LTS) / aarch64  OK    OK    OK  
Package 18/22HostnameOS / ArchINSTALLBUILDCHECKBUILD BIN
SpatialFeatureExperiment 1.12.1  (landing page)
Lambda Moses
git_last_commit: bf9b3b9
git_last_commit_date: 2025-11-04 00:32:31 -0500
nebbiolo2Linux (Ubuntu 24.04.3 LTS) / x86_64  OK    OK    OK  UNNEEDED, same version is already published
taishanLinux (openEuler 24.03 LTS) / aarch64  OK    OK    ERROR  
Package 19/22HostnameOS / ArchINSTALLBUILDCHECKBUILD BIN
SpatialOmicsOverlay 1.10.0  (landing page)
Maddy Griswold
git_last_commit: edcd7be
git_last_commit_date: 2025-10-29 11:22:27 -0500
nebbiolo2Linux (Ubuntu 24.04.3 LTS) / x86_64  OK    OK    OK  UNNEEDED, same version is already published
taishanLinux (openEuler 24.03 LTS) / aarch64  OK    TIMEOUT  skipped
Package 20/22HostnameOS / ArchINSTALLBUILDCHECKBUILD BIN
synapsis 1.16.0  (landing page)
Lucy McNeill
git_last_commit: 184fc99
git_last_commit_date: 2025-10-29 11:13:22 -0500
nebbiolo2Linux (Ubuntu 24.04.3 LTS) / x86_64  OK    OK    OK  UNNEEDED, same version is already published
taishanLinux (openEuler 24.03 LTS) / aarch64  OK    OK    OK  
Package 21/22HostnameOS / ArchINSTALLBUILDCHECKBUILD BIN
xenLite 1.4.0  (landing page)
Vincent Carey
git_last_commit: cc38f6b
git_last_commit_date: 2025-10-29 11:31:51 -0500
nebbiolo2Linux (Ubuntu 24.04.3 LTS) / x86_64  OK    OK    OK  UNNEEDED, same version is already published
taishanLinux (openEuler 24.03 LTS) / aarch64  OK    ERROR  skipped
Package 22/22HostnameOS / ArchINSTALLBUILDCHECKBUILD BIN
yamss 1.36.0  (landing page)
Leslie Myint
git_last_commit: 268fc64
git_last_commit_date: 2025-10-29 10:35:27 -0500
nebbiolo2Linux (Ubuntu 24.04.3 LTS) / x86_64  OK    OK    OK  UNNEEDED, same version is already published
taishanLinux (openEuler 24.03 LTS) / aarch64  OK    OK    OK