| Back to Multiple platform build/check report for BioC 3.22: simplified long |
|
This page was generated on 2025-08-15 12:06 -0400 (Fri, 15 Aug 2025).
| Hostname | OS | Arch (*) | R version | Installed pkgs |
|---|---|---|---|---|
| nebbiolo2 | Linux (Ubuntu 24.04.3 LTS) | x86_64 | 4.5.1 (2025-06-13) -- "Great Square Root" | 4818 |
| palomino8 | Windows Server 2022 Datacenter | x64 | 4.5.1 (2025-06-13 ucrt) -- "Great Square Root" | 4554 |
| lconway | macOS 12.7.1 Monterey | x86_64 | 4.5.1 (2025-06-13) -- "Great Square Root" | 4595 |
| kjohnson3 | macOS 13.7.7 Ventura | arm64 | 4.5.1 Patched (2025-06-14 r88325) -- "Great Square Root" | 4537 |
| taishan | Linux (openEuler 24.03 LTS) | aarch64 | 4.5.0 (2025-04-11) -- "How About a Twenty-Six" | 4535 |
| Click on any hostname to see more info about the system (e.g. compilers) (*) as reported by 'uname -p', except on Windows and Mac OS X | ||||
| Package 527/2317 | Hostname | OS / Arch | INSTALL | BUILD | CHECK | BUILD BIN | ||||||||
| DeconvoBuddies 1.1.5 (landing page) Louise Huuki-Myers
| nebbiolo2 | Linux (Ubuntu 24.04.3 LTS) / x86_64 | OK | OK | OK | |||||||||
| palomino8 | Windows Server 2022 Datacenter / x64 | OK | OK | OK | OK | |||||||||
| lconway | macOS 12.7.1 Monterey / x86_64 | OK | OK | OK | OK | |||||||||
| kjohnson3 | macOS 13.7.7 Ventura / arm64 | OK | OK | OK | OK | |||||||||
| taishan | Linux (openEuler 24.03 LTS) / aarch64 | OK | OK | OK | ||||||||||
|
To the developers/maintainers of the DeconvoBuddies package: - Allow up to 24 hours (and sometimes 48 hours) for your latest push to git@git.bioconductor.org:packages/DeconvoBuddies.git to reflect on this report. See Troubleshooting Build Report for more information. - Use the following Renviron settings to reproduce errors and warnings. - If 'R CMD check' started to fail recently on the Linux builder(s) over a missing dependency, add the missing dependency to 'Suggests:' in your DESCRIPTION file. See Renviron.bioc for more information. |
| Package: DeconvoBuddies |
| Version: 1.1.5 |
| Command: F:\biocbuild\bbs-3.22-bioc\R\bin\R.exe CMD check --no-multiarch --install=check:DeconvoBuddies.install-out.txt --library=F:\biocbuild\bbs-3.22-bioc\R\library --no-vignettes --timings DeconvoBuddies_1.1.5.tar.gz |
| StartedAt: 2025-08-15 02:20:46 -0400 (Fri, 15 Aug 2025) |
| EndedAt: 2025-08-15 02:30:13 -0400 (Fri, 15 Aug 2025) |
| EllapsedTime: 566.3 seconds |
| RetCode: 0 |
| Status: OK |
| CheckDir: DeconvoBuddies.Rcheck |
| Warnings: 0 |
##############################################################################
##############################################################################
###
### Running command:
###
### F:\biocbuild\bbs-3.22-bioc\R\bin\R.exe CMD check --no-multiarch --install=check:DeconvoBuddies.install-out.txt --library=F:\biocbuild\bbs-3.22-bioc\R\library --no-vignettes --timings DeconvoBuddies_1.1.5.tar.gz
###
##############################################################################
##############################################################################
* using log directory 'F:/biocbuild/bbs-3.22-bioc/meat/DeconvoBuddies.Rcheck'
* using R version 4.5.1 (2025-06-13 ucrt)
* using platform: x86_64-w64-mingw32
* R was compiled by
gcc.exe (GCC) 14.2.0
GNU Fortran (GCC) 14.2.0
* running under: Windows Server 2022 x64 (build 20348)
* using session charset: UTF-8
* using option '--no-vignettes'
* checking for file 'DeconvoBuddies/DESCRIPTION' ... OK
* this is package 'DeconvoBuddies' version '1.1.5'
* package encoding: UTF-8
* checking package namespace information ... OK
* checking package dependencies ... OK
* checking if this is a source package ... OK
* checking if there is a namespace ... OK
* checking for hidden files and directories ... OK
* checking for portable file names ... OK
* checking whether package 'DeconvoBuddies' can be installed ... OK
* checking installed package size ... OK
* checking package directory ... OK
* checking 'build' directory ... OK
* checking DESCRIPTION meta-information ... OK
* checking top-level files ... OK
* checking for left-over files ... OK
* checking index information ... OK
* checking package subdirectories ... OK
* checking code files for non-ASCII characters ... OK
* checking R files for syntax errors ... OK
* checking whether the package can be loaded ... OK
* checking whether the package can be loaded with stated dependencies ... OK
* checking whether the package can be unloaded cleanly ... OK
* checking whether the namespace can be loaded with stated dependencies ... OK
* checking whether the namespace can be unloaded cleanly ... OK
* checking dependencies in R code ... OK
* checking S3 generic/method consistency ... OK
* checking replacement functions ... OK
* checking foreign function calls ... OK
* checking R code for possible problems ... OK
* checking Rd files ... OK
* checking Rd metadata ... OK
* checking Rd cross-references ... OK
* checking for missing documentation entries ... OK
* checking for code/documentation mismatches ... OK
* checking Rd \usage sections ... OK
* checking Rd contents ... OK
* checking for unstated dependencies in examples ... OK
* checking contents of 'data' directory ... OK
* checking data for non-ASCII characters ... OK
* checking data for ASCII and uncompressed saves ... OK
* checking R/sysdata.rda ... OK
* checking files in 'vignettes' ... OK
* checking examples ... OK
Examples with CPU (user + system) or elapsed time > 5s
user system elapsed
plot_marker_express_ALL 32.13 1.66 33.94
plot_gene_express 13.55 0.77 14.47
findMarkers_1vAll 11.88 0.50 12.52
fetch_deconvo_data 9.18 2.51 12.61
plot_marker_express_List 5.58 0.44 6.28
plot_marker_express 5.06 0.48 5.75
get_mean_ratio 4.56 0.56 5.32
* checking for unstated dependencies in 'tests' ... OK
* checking tests ...
Running 'testthat.R'
OK
* checking for unstated dependencies in vignettes ... OK
* checking package vignettes ... OK
* checking running R code from vignettes ... SKIPPED
* checking re-building of vignette outputs ... SKIPPED
* checking PDF version of manual ... OK
* DONE
Status: OK
DeconvoBuddies.Rcheck/00install.out
############################################################################## ############################################################################## ### ### Running command: ### ### F:\biocbuild\bbs-3.22-bioc\R\bin\R.exe CMD INSTALL DeconvoBuddies ### ############################################################################## ############################################################################## * installing to library 'F:/biocbuild/bbs-3.22-bioc/R/library' * installing *source* package 'DeconvoBuddies' ... ** this is package 'DeconvoBuddies' version '1.1.5' ** using staged installation ** R ** data ** inst ** byte-compile and prepare package for lazy loading ** help *** installing help indices *** copying figures ** building package indices ** installing vignettes ** testing if installed package can be loaded from temporary location ** testing if installed package can be loaded from final location ** testing if installed package keeps a record of temporary installation path * DONE (DeconvoBuddies)
DeconvoBuddies.Rcheck/tests/testthat.Rout
R version 4.5.1 (2025-06-13 ucrt) -- "Great Square Root"
Copyright (C) 2025 The R Foundation for Statistical Computing
Platform: x86_64-w64-mingw32/x64
R is free software and comes with ABSOLUTELY NO WARRANTY.
You are welcome to redistribute it under certain conditions.
Type 'license()' or 'licence()' for distribution details.
R is a collaborative project with many contributors.
Type 'contributors()' for more information and
'citation()' on how to cite R or R packages in publications.
Type 'demo()' for some demos, 'help()' for on-line help, or
'help.start()' for an HTML browser interface to help.
Type 'q()' to quit R.
> library(testthat)
> library(DeconvoBuddies)
>
> test_check("DeconvoBuddies")
2025-08-15 02:29:20.552397 Access ExperimentHub EH9626
see ?DeconvoBuddies and browseVignettes('DeconvoBuddies') for documentation
loading from cache
2025-08-15 02:29:32.65319 Access ExperimentHub EH9626
see ?DeconvoBuddies and browseVignettes('DeconvoBuddies') for documentation
loading from cache
2025-08-15 02:29:40.816434 Access ExperimentHub EH9626
see ?DeconvoBuddies and browseVignettes('DeconvoBuddies') for documentation
loading from cache
2025-08-15 02:29:44.132357 Access ExperimentHub EH9626
see ?DeconvoBuddies and browseVignettes('DeconvoBuddies') for documentation
loading from cache
2025-08-15 02:29:49.816098 Access ExperimentHub EH9626
see ?DeconvoBuddies and browseVignettes('DeconvoBuddies') for documentation
Error while performing HEAD request.
Proceeding without cache information.
loading from cache
[ FAIL 0 | WARN 3 | SKIP 0 | PASS 33 ]
[ FAIL 0 | WARN 3 | SKIP 0 | PASS 33 ]
>
> proc.time()
user system elapsed
58.60 6.28 65.29
DeconvoBuddies.Rcheck/DeconvoBuddies-Ex.timings
| name | user | system | elapsed | |
| RNAScope_prop | 0 | 0 | 0 | |
| create_cell_colors | 0.02 | 0.02 | 0.03 | |
| est_prop | 0.00 | 0.01 | 0.01 | |
| est_prop_test | 0.00 | 0.02 | 0.02 | |
| fetch_deconvo_data | 9.18 | 2.51 | 12.61 | |
| findMarkers_1vAll | 11.88 | 0.50 | 12.52 | |
| get_mean_ratio | 4.56 | 0.56 | 5.32 | |
| make_test_sce | 0.22 | 0.00 | 0.22 | |
| marker_stats_1vAll | 0 | 0 | 0 | |
| marker_test | 0 | 0 | 0 | |
| plot_composition_bar | 2.17 | 0.14 | 2.31 | |
| plot_gene_express | 13.55 | 0.77 | 14.47 | |
| plot_marker_express | 5.06 | 0.48 | 5.75 | |
| plot_marker_express_ALL | 32.13 | 1.66 | 33.94 | |
| plot_marker_express_List | 5.58 | 0.44 | 6.28 | |
| rse_bulk_test | 0 | 0 | 0 | |
| sce_ab | 0.01 | 0.00 | 0.01 | |