| Back to Multiple platform build/check report for BioC 3.22: simplified long |
|
This page was generated on 2025-08-15 12:06 -0400 (Fri, 15 Aug 2025).
| Hostname | OS | Arch (*) | R version | Installed pkgs |
|---|---|---|---|---|
| nebbiolo2 | Linux (Ubuntu 24.04.3 LTS) | x86_64 | 4.5.1 (2025-06-13) -- "Great Square Root" | 4818 |
| palomino8 | Windows Server 2022 Datacenter | x64 | 4.5.1 (2025-06-13 ucrt) -- "Great Square Root" | 4554 |
| lconway | macOS 12.7.1 Monterey | x86_64 | 4.5.1 (2025-06-13) -- "Great Square Root" | 4595 |
| kjohnson3 | macOS 13.7.7 Ventura | arm64 | 4.5.1 Patched (2025-06-14 r88325) -- "Great Square Root" | 4537 |
| taishan | Linux (openEuler 24.03 LTS) | aarch64 | 4.5.0 (2025-04-11) -- "How About a Twenty-Six" | 4535 |
| Click on any hostname to see more info about the system (e.g. compilers) (*) as reported by 'uname -p', except on Windows and Mac OS X | ||||
| Package 593/2317 | Hostname | OS / Arch | INSTALL | BUILD | CHECK | BUILD BIN | ||||||||
| DMRcaller 1.41.1 (landing page) Nicolae Radu Zabet
| nebbiolo2 | Linux (Ubuntu 24.04.3 LTS) / x86_64 | OK | OK | OK | |||||||||
| palomino8 | Windows Server 2022 Datacenter / x64 | OK | OK | OK | OK | |||||||||
| lconway | macOS 12.7.1 Monterey / x86_64 | OK | OK | OK | OK | |||||||||
| kjohnson3 | macOS 13.7.7 Ventura / arm64 | OK | OK | OK | OK | |||||||||
| taishan | Linux (openEuler 24.03 LTS) / aarch64 | OK | OK | OK | ||||||||||
|
To the developers/maintainers of the DMRcaller package: - Allow up to 24 hours (and sometimes 48 hours) for your latest push to git@git.bioconductor.org:packages/DMRcaller.git to reflect on this report. See Troubleshooting Build Report for more information. - Use the following Renviron settings to reproduce errors and warnings. - If 'R CMD check' started to fail recently on the Linux builder(s) over a missing dependency, add the missing dependency to 'Suggests:' in your DESCRIPTION file. See Renviron.bioc for more information. |
| Package: DMRcaller |
| Version: 1.41.1 |
| Command: F:\biocbuild\bbs-3.22-bioc\R\bin\R.exe CMD check --no-multiarch --install=check:DMRcaller.install-out.txt --library=F:\biocbuild\bbs-3.22-bioc\R\library --no-vignettes --timings DMRcaller_1.41.1.tar.gz |
| StartedAt: 2025-08-15 02:41:56 -0400 (Fri, 15 Aug 2025) |
| EndedAt: 2025-08-15 02:47:43 -0400 (Fri, 15 Aug 2025) |
| EllapsedTime: 347.4 seconds |
| RetCode: 0 |
| Status: OK |
| CheckDir: DMRcaller.Rcheck |
| Warnings: 0 |
##############################################################################
##############################################################################
###
### Running command:
###
### F:\biocbuild\bbs-3.22-bioc\R\bin\R.exe CMD check --no-multiarch --install=check:DMRcaller.install-out.txt --library=F:\biocbuild\bbs-3.22-bioc\R\library --no-vignettes --timings DMRcaller_1.41.1.tar.gz
###
##############################################################################
##############################################################################
* using log directory 'F:/biocbuild/bbs-3.22-bioc/meat/DMRcaller.Rcheck'
* using R version 4.5.1 (2025-06-13 ucrt)
* using platform: x86_64-w64-mingw32
* R was compiled by
gcc.exe (GCC) 14.2.0
GNU Fortran (GCC) 14.2.0
* running under: Windows Server 2022 x64 (build 20348)
* using session charset: UTF-8
* using option '--no-vignettes'
* checking for file 'DMRcaller/DESCRIPTION' ... OK
* checking extension type ... Package
* this is package 'DMRcaller' version '1.41.1'
* checking package namespace information ... OK
* checking package dependencies ... OK
* checking if this is a source package ... OK
* checking if there is a namespace ... OK
* checking for hidden files and directories ... OK
* checking for portable file names ... OK
* checking whether package 'DMRcaller' can be installed ... OK
* checking installed package size ... OK
* checking package directory ... OK
* checking 'build' directory ... OK
* checking DESCRIPTION meta-information ... OK
* checking top-level files ... OK
* checking for left-over files ... OK
* checking index information ... OK
* checking package subdirectories ... OK
* checking code files for non-ASCII characters ... OK
* checking R files for syntax errors ... OK
* checking whether the package can be loaded ... OK
* checking whether the package can be loaded with stated dependencies ... OK
* checking whether the package can be unloaded cleanly ... OK
* checking whether the namespace can be loaded with stated dependencies ... OK
* checking whether the namespace can be unloaded cleanly ... OK
* checking dependencies in R code ... OK
* checking S3 generic/method consistency ... OK
* checking replacement functions ... OK
* checking foreign function calls ... OK
* checking R code for possible problems ... NOTE
extractGC: no visible global function definition for 'getSeq'
extractGC: no visible global function definition for 'seqlevels'
Undefined global functions or variables:
getSeq seqlevels
* checking Rd files ... OK
* checking Rd metadata ... OK
* checking Rd cross-references ... NOTE
Found the following Rd file(s) with Rd \link{} targets missing package
anchors:
DMRcaller.Rd: GRanges
DMRsNoiseFilterCG.Rd: GRanges
analyseReadsInsideRegionsForCondition.Rd: GRanges
computeDMRs.Rd: GRanges
computeDMRsReplicates.Rd: GRanges
computeMethylationDataCoverage.Rd: GRanges
computeMethylationDataSpatialCorrelation.Rd: GRanges
computeMethylationProfile.Rd: GRanges
computeOverlapProfile.Rd: GRanges
extractGC.Rd: GRanges
filterDMRs.Rd: GRanges
getWholeChromosomes.Rd: GRanges
joinReplicates.Rd: GRanges
mergeDMRsIteratively.Rd: GRanges
plotLocalMethylationProfile.Rd: GRanges, GRangesList
plotMethylationDataCoverage.Rd: GRanges
plotMethylationDataSpatialCorrelation.Rd: GRanges
plotMethylationProfile.Rd: GRanges
plotMethylationProfileFromData.Rd: GRanges
plotOverlapProfile.Rd: GRanges
poolMethylationDatasets.Rd: GRangesList, GRanges
poolTwoMethylationDatasets.Rd: GRanges
readBismark.Rd: GRanges
readBismarkPool.Rd: GRanges
saveBismark.Rd: GRanges
syntheticDataReplicates.Rd: GRanges
Please provide package anchors for all Rd \link{} targets not in the
package itself and the base packages.
* checking for missing documentation entries ... OK
* checking for code/documentation mismatches ... OK
* checking Rd \usage sections ... OK
* checking Rd contents ... OK
* checking for unstated dependencies in examples ... OK
* checking contents of 'data' directory ... OK
* checking data for non-ASCII characters ... OK
* checking data for ASCII and uncompressed saves ... OK
* checking sizes of PDF files under 'inst/doc' ... OK
* checking files in 'vignettes' ... OK
* checking examples ... OK
Examples with CPU (user + system) or elapsed time > 5s
user system elapsed
readBismarkPool 12.24 0.38 12.60
mergeDMRsIteratively 12.15 0.22 12.38
computeDMRs 11.94 0.16 12.09
readBismark 5.49 0.14 5.73
* checking for unstated dependencies in 'tests' ... OK
* checking tests ...
Running 'runTests.R'
OK
* checking for unstated dependencies in vignettes ... OK
* checking package vignettes ... OK
* checking running R code from vignettes ... SKIPPED
* checking re-building of vignette outputs ... SKIPPED
* checking PDF version of manual ... OK
* DONE
Status: 2 NOTEs
See
'F:/biocbuild/bbs-3.22-bioc/meat/DMRcaller.Rcheck/00check.log'
for details.
DMRcaller.Rcheck/00install.out
############################################################################## ############################################################################## ### ### Running command: ### ### F:\biocbuild\bbs-3.22-bioc\R\bin\R.exe CMD INSTALL DMRcaller ### ############################################################################## ############################################################################## * installing to library 'F:/biocbuild/bbs-3.22-bioc/R/library' * installing *source* package 'DMRcaller' ... ** this is package 'DMRcaller' version '1.41.1' ** using staged installation ** R ** data ** inst ** byte-compile and prepare package for lazy loading ** help *** installing help indices ** building package indices ** installing vignettes ** testing if installed package can be loaded from temporary location ** testing if installed package can be loaded from final location ** testing if installed package keeps a record of temporary installation path * DONE (DMRcaller)
DMRcaller.Rcheck/tests/runTests.Rout
R version 4.5.1 (2025-06-13 ucrt) -- "Great Square Root"
Copyright (C) 2025 The R Foundation for Statistical Computing
Platform: x86_64-w64-mingw32/x64
R is free software and comes with ABSOLUTELY NO WARRANTY.
You are welcome to redistribute it under certain conditions.
Type 'license()' or 'licence()' for distribution details.
R is a collaborative project with many contributors.
Type 'contributors()' for more information and
'citation()' on how to cite R or R packages in publications.
Type 'demo()' for some demos, 'help()' for on-line help, or
'help.start()' for an HTML browser interface to help.
Type 'q()' to quit R.
> BiocGenerics:::testPackage("DMRcaller")
Attaching package: 'generics'
The following objects are masked from 'package:base':
as.difftime, as.factor, as.ordered, intersect, is.element, setdiff,
setequal, union
Attaching package: 'BiocGenerics'
The following objects are masked from 'package:stats':
IQR, mad, sd, var, xtabs
The following objects are masked from 'package:base':
Filter, Find, Map, Position, Reduce, anyDuplicated, aperm, append,
as.data.frame, basename, cbind, colnames, dirname, do.call,
duplicated, eval, evalq, get, grep, grepl, is.unsorted, lapply,
mapply, match, mget, order, paste, pmax, pmax.int, pmin, pmin.int,
rank, rbind, rownames, sapply, saveRDS, table, tapply, unique,
unsplit, which.max, which.min
Attaching package: 'S4Vectors'
The following object is masked from 'package:utils':
findMatches
The following objects are masked from 'package:base':
I, expand.grid, unname
Attaching package: 'IRanges'
The following object is masked from 'package:grDevices':
windows
Parameters checking ...
Extract methylation in the corresponding context
Computing DMRs
Merge adjacent DMRs
Merge DMRs iteratively
Filter DMRs
Parameters checking ...
Extract methylation in the corresponding context
Computing DMRs at Chr1:1..4976
Calculating interpolations...
Identifying DMRs...
Analysed reads inside DMRs
Merge DMRs iteratively
Filter DMRs
Parameters checking ...
Extract methylation in the corresponding context
Computing DMRs at Chr1:1..4976
Selecting data...
Identifying DMRs...
Validating objects
Finding overlaps
Joining objects
Parameters checking ...
Extract methylation in the corresponding context
Computing DMRs at Chr1:1..4976
Count inside each bin...
Filter the bins...
Identifying DMRs...
Merge adjacent DMRs
Merge DMRs iteratively
Filter DMRs
Parameters checking ...
Merge DMRs iteratively ...
RUNIT TEST PROTOCOL -- Fri Aug 15 02:47:30 2025
***********************************************
Number of test functions: 6
Number of errors: 0
Number of failures: 0
1 Test Suite :
DMRcaller RUnit Tests - 6 test functions, 0 errors, 0 failures
Number of test functions: 6
Number of errors: 0
Number of failures: 0
Warning message:
In fisher.test(matrix(unlist(x), nrow = 2, byrow = TRUE), alternative = alternative) :
'x' has been rounded to integer: Mean relative difference: 0.002857143
>
> proc.time()
user system elapsed
163.90 2.12 166.01
DMRcaller.Rcheck/DMRcaller-Ex.timings
| name | user | system | elapsed | |
| DMRcaller | 0 | 0 | 0 | |
| analyseReadsInsideRegionsForCondition | 0.76 | 0.08 | 0.84 | |
| computeDMRs | 11.94 | 0.16 | 12.09 | |
| computeDMRsReplicates | 0 | 0 | 0 | |
| computeMethylationDataCoverage | 0.45 | 0.07 | 0.53 | |
| computeMethylationDataSpatialCorrelation | 0.78 | 0.08 | 0.86 | |
| computeMethylationProfile | 1.04 | 0.10 | 1.14 | |
| computeOverlapProfile | 2.02 | 0.09 | 2.12 | |
| extractGC | 0 | 0 | 0 | |
| filterDMRs | 2.34 | 0.12 | 2.47 | |
| getWholeChromosomes | 0.10 | 0.08 | 0.17 | |
| joinReplicates | 0 | 0 | 0 | |
| mergeDMRsIteratively | 12.15 | 0.22 | 12.38 | |
| plotLocalMethylationProfile | 1.28 | 0.14 | 1.42 | |
| plotMethylationDataCoverage | 1.29 | 0.11 | 1.39 | |
| plotMethylationDataSpatialCorrelation | 0 | 0 | 0 | |
| plotMethylationProfile | 1.00 | 0.03 | 1.03 | |
| plotMethylationProfileFromData | 2.46 | 0.16 | 2.63 | |
| plotOverlapProfile | 1.88 | 0.03 | 1.90 | |
| poolMethylationDatasets | 0.97 | 0.06 | 1.04 | |
| poolTwoMethylationDatasets | 0.95 | 0.05 | 1.00 | |
| readBismark | 5.49 | 0.14 | 5.73 | |
| readBismarkPool | 12.24 | 0.38 | 12.60 | |
| saveBismark | 4.37 | 0.10 | 4.49 | |