| Back to Multiple platform build/check report for BioC 3.22: simplified long |
|
This page was generated on 2025-08-15 12:06 -0400 (Fri, 15 Aug 2025).
| Hostname | OS | Arch (*) | R version | Installed pkgs |
|---|---|---|---|---|
| nebbiolo2 | Linux (Ubuntu 24.04.3 LTS) | x86_64 | 4.5.1 (2025-06-13) -- "Great Square Root" | 4818 |
| palomino8 | Windows Server 2022 Datacenter | x64 | 4.5.1 (2025-06-13 ucrt) -- "Great Square Root" | 4554 |
| lconway | macOS 12.7.1 Monterey | x86_64 | 4.5.1 (2025-06-13) -- "Great Square Root" | 4595 |
| kjohnson3 | macOS 13.7.7 Ventura | arm64 | 4.5.1 Patched (2025-06-14 r88325) -- "Great Square Root" | 4537 |
| taishan | Linux (openEuler 24.03 LTS) | aarch64 | 4.5.0 (2025-04-11) -- "How About a Twenty-Six" | 4535 |
| Click on any hostname to see more info about the system (e.g. compilers) (*) as reported by 'uname -p', except on Windows and Mac OS X | ||||
| Package 568/2317 | Hostname | OS / Arch | INSTALL | BUILD | CHECK | BUILD BIN | ||||||||
| DFP 1.67.0 (landing page) Rodrigo Alvarez-Glez
| nebbiolo2 | Linux (Ubuntu 24.04.3 LTS) / x86_64 | OK | OK | OK | |||||||||
| palomino8 | Windows Server 2022 Datacenter / x64 | OK | OK | OK | OK | |||||||||
| lconway | macOS 12.7.1 Monterey / x86_64 | OK | OK | OK | OK | |||||||||
| kjohnson3 | macOS 13.7.7 Ventura / arm64 | OK | OK | OK | OK | |||||||||
| taishan | Linux (openEuler 24.03 LTS) / aarch64 | OK | OK | OK | ||||||||||
|
To the developers/maintainers of the DFP package: - Allow up to 24 hours (and sometimes 48 hours) for your latest push to git@git.bioconductor.org:packages/DFP.git to reflect on this report. See Troubleshooting Build Report for more information. - Use the following Renviron settings to reproduce errors and warnings. - If 'R CMD check' started to fail recently on the Linux builder(s) over a missing dependency, add the missing dependency to 'Suggests:' in your DESCRIPTION file. See Renviron.bioc for more information. |
| Package: DFP |
| Version: 1.67.0 |
| Command: F:\biocbuild\bbs-3.22-bioc\R\bin\R.exe CMD check --no-multiarch --install=check:DFP.install-out.txt --library=F:\biocbuild\bbs-3.22-bioc\R\library --no-vignettes --timings DFP_1.67.0.tar.gz |
| StartedAt: 2025-08-15 02:34:10 -0400 (Fri, 15 Aug 2025) |
| EndedAt: 2025-08-15 02:35:26 -0400 (Fri, 15 Aug 2025) |
| EllapsedTime: 75.5 seconds |
| RetCode: 0 |
| Status: OK |
| CheckDir: DFP.Rcheck |
| Warnings: 0 |
##############################################################################
##############################################################################
###
### Running command:
###
### F:\biocbuild\bbs-3.22-bioc\R\bin\R.exe CMD check --no-multiarch --install=check:DFP.install-out.txt --library=F:\biocbuild\bbs-3.22-bioc\R\library --no-vignettes --timings DFP_1.67.0.tar.gz
###
##############################################################################
##############################################################################
* using log directory 'F:/biocbuild/bbs-3.22-bioc/meat/DFP.Rcheck'
* using R version 4.5.1 (2025-06-13 ucrt)
* using platform: x86_64-w64-mingw32
* R was compiled by
gcc.exe (GCC) 14.2.0
GNU Fortran (GCC) 14.2.0
* running under: Windows Server 2022 x64 (build 20348)
* using session charset: UTF-8
* using option '--no-vignettes'
* checking for file 'DFP/DESCRIPTION' ... OK
* checking extension type ... Package
* this is package 'DFP' version '1.67.0'
* checking package namespace information ... OK
* checking package dependencies ... OK
* checking if this is a source package ... OK
* checking if there is a namespace ... OK
* checking for hidden files and directories ... OK
* checking for portable file names ... OK
* checking whether package 'DFP' can be installed ... OK
* checking installed package size ... OK
* checking package directory ... OK
* checking 'build' directory ... OK
* checking DESCRIPTION meta-information ... OK
* checking top-level files ... OK
* checking for left-over files ... OK
* checking index information ... OK
* checking package subdirectories ... OK
* checking code files for non-ASCII characters ... OK
* checking R files for syntax errors ... OK
* checking whether the package can be loaded ... OK
* checking whether the package can be loaded with stated dependencies ... OK
* checking whether the package can be unloaded cleanly ... OK
* checking whether the namespace can be loaded with stated dependencies ... OK
* checking whether the namespace can be unloaded cleanly ... OK
* checking dependencies in R code ... NOTE
'library' or 'require' call to 'Biobase' which was already attached by Depends.
Please remove these calls from your code.
* checking S3 generic/method consistency ... OK
* checking replacement functions ... OK
* checking foreign function calls ... OK
* checking R code for possible problems ... NOTE
plotDiscriminantFuzzyPattern: warning in matrix(x, nr = ly, nc = lx,
byrow = TRUE): partial argument match of 'nr' to 'nrow'
plotDiscriminantFuzzyPattern: warning in matrix(x, nr = ly, nc = lx,
byrow = TRUE): partial argument match of 'nc' to 'ncol'
plotDiscriminantFuzzyPattern: warning in matrix(y, nr = ly, nc = lx):
partial argument match of 'nr' to 'nrow'
plotDiscriminantFuzzyPattern: warning in matrix(y, nr = ly, nc = lx):
partial argument match of 'nc' to 'ncol'
.plotGeneMF: no visible global function definition for 'curve'
.plotGeneMF: no visible binding for global variable 'x'
.plotGeneMF: no visible global function definition for 'abline'
.plotGeneMF: no visible global function definition for 'palette'
.plotGeneMF: no visible global function definition for 'rainbow'
.plotGeneMF: no visible global function definition for 'legend'
calculateFuzzyPatterns: no visible global function definition for
'head'
discretizeExpressionValues: no visible global function definition for
'head'
discriminantFuzzyPattern: no visible global function definition for
'head'
plotDiscriminantFuzzyPattern: no visible global function definition for
'image'
plotDiscriminantFuzzyPattern: no visible global function definition for
'par'
plotDiscriminantFuzzyPattern: no visible global function definition for
'axis'
plotDiscriminantFuzzyPattern: no visible global function definition for
'text'
plotMembershipFunctions: no visible global function definition for
'par'
readCSV: no visible global function definition for 'read.table'
readCSV: no visible global function definition for 'head'
Undefined global functions or variables:
abline axis curve head image legend palette par rainbow read.table
text x
Consider adding
importFrom("grDevices", "palette", "rainbow")
importFrom("graphics", "abline", "axis", "curve", "image", "legend",
"par", "text")
importFrom("utils", "head", "read.table")
to your NAMESPACE file.
* checking Rd files ... OK
* checking Rd metadata ... OK
* checking Rd cross-references ... NOTE
Non-topic package-anchored link(s) in Rd file 'DFP-package.Rd':
'[Biobase:class.ExpressionSet]{ExpressionSet}'
'[Biobase:class.AnnotatedDataFrame]{AnnotatedDataFrame}'
Non-topic package-anchored link(s) in Rd file 'calculateDiscriminantFuzzyPattern.Rd':
'[Biobase:class.ExpressionSet]{ExpressionSet}'
'[Biobase:class.AnnotatedDataFrame]{AnnotatedDataFrame}'
Non-topic package-anchored link(s) in Rd file 'calculateFuzzyPatterns.Rd':
'[Biobase:class.ExpressionSet]{ExpressionSet}'
'[Biobase:class.AnnotatedDataFrame]{AnnotatedDataFrame}'
Non-topic package-anchored link(s) in Rd file 'calculateMembershipFunctions.Rd':
'[Biobase:class.ExpressionSet]{ExpressionSet}'
'[Biobase:class.AnnotatedDataFrame]{AnnotatedDataFrame}'
Non-topic package-anchored link(s) in Rd file 'discretizeExpressionValues.Rd':
'[Biobase:class.ExpressionSet]{ExpressionSet}'
'[Biobase:class.AnnotatedDataFrame]{AnnotatedDataFrame}'
Non-topic package-anchored link(s) in Rd file 'discriminantFuzzyPattern.Rd':
'[Biobase:class.ExpressionSet]{ExpressionSet}'
'[Biobase:class.AnnotatedDataFrame]{AnnotatedDataFrame}'
Non-topic package-anchored link(s) in Rd file 'plotMembershipFunctions.Rd':
'[Biobase:class.ExpressionSet]{ExpressionSet}'
'[Biobase:class.AnnotatedDataFrame]{AnnotatedDataFrame}'
Non-topic package-anchored link(s) in Rd file 'readCSV.Rd':
'[Biobase:class.ExpressionSet]{ExpressionSet}'
'[Biobase:class.AnnotatedDataFrame]{AnnotatedDataFrame}'
Non-topic package-anchored link(s) in Rd file 'rmadataset.Rd':
'[Biobase:class.ExpressionSet]{ExpressionSet}'
'[Biobase:class.AnnotatedDataFrame]{AnnotatedDataFrame}'
Non-topic package-anchored link(s) in Rd file 'showDiscreteValues.Rd':
'[Biobase:class.ExpressionSet]{ExpressionSet}'
Non-topic package-anchored link(s) in Rd file 'showFuzzyPatterns.Rd':
'[Biobase:class.ExpressionSet]{ExpressionSet}'
See section 'Cross-references' in the 'Writing R Extensions' manual.
* checking for missing documentation entries ... OK
* checking for code/documentation mismatches ... OK
* checking Rd \usage sections ... OK
* checking Rd contents ... OK
* checking for unstated dependencies in examples ... OK
* checking contents of 'data' directory ... OK
* checking data for non-ASCII characters ... OK
* checking data for ASCII and uncompressed saves ... OK
* checking sizes of PDF files under 'inst/doc' ... OK
* checking files in 'vignettes' ... OK
* checking examples ... OK
* checking for unstated dependencies in vignettes ... OK
* checking package vignettes ... OK
* checking running R code from vignettes ... SKIPPED
* checking re-building of vignette outputs ... SKIPPED
* checking PDF version of manual ... OK
* DONE
Status: 3 NOTEs
See
'F:/biocbuild/bbs-3.22-bioc/meat/DFP.Rcheck/00check.log'
for details.
DFP.Rcheck/00install.out
############################################################################## ############################################################################## ### ### Running command: ### ### F:\biocbuild\bbs-3.22-bioc\R\bin\R.exe CMD INSTALL DFP ### ############################################################################## ############################################################################## * installing to library 'F:/biocbuild/bbs-3.22-bioc/R/library' * installing *source* package 'DFP' ... ** this is package 'DFP' version '1.67.0' ** using staged installation ** R ** data ** inst ** byte-compile and prepare package for lazy loading ** help *** installing help indices ** building package indices ** installing vignettes ** testing if installed package can be loaded from temporary location ** testing if installed package can be loaded from final location ** testing if installed package keeps a record of temporary installation path * DONE (DFP)
DFP.Rcheck/DFP-Ex.timings
| name | user | system | elapsed | |
| DFP-package | 1.44 | 0.03 | 2.04 | |
| ExpressionLevel-class | 0 | 0 | 0 | |
| HighExpressionLevel-class | 0 | 0 | 0 | |
| LowExpressionLevel-class | 0 | 0 | 0 | |
| MediumExpressionLevel-class | 0 | 0 | 0 | |
| discriminantFuzzyPattern | 1.15 | 0.05 | 1.20 | |
| readCSV | 0.07 | 0.03 | 0.22 | |
| rmadataset | 0.00 | 0.02 | 0.01 | |