Back to Multiple platform build/check report for BioC 3.22:   simplified   long
AB[C]DEFGHIJKLMNOPQRSTUVWXYZ

This page was generated on 2025-10-18 12:06 -0400 (Sat, 18 Oct 2025).

HostnameOSArch (*)R versionInstalled pkgs
nebbiolo2Linux (Ubuntu 24.04.3 LTS)x86_644.5.1 Patched (2025-08-23 r88802) -- "Great Square Root" 4887
lconwaymacOS 12.7.6 Montereyx86_644.5.1 Patched (2025-09-10 r88807) -- "Great Square Root" 4677
kjohnson3macOS 13.7.7 Venturaarm644.5.1 Patched (2025-09-10 r88807) -- "Great Square Root" 4622
taishanLinux (openEuler 24.03 LTS)aarch644.5.0 (2025-04-11) -- "How About a Twenty-Six" 4632
Click on any hostname to see more info about the system (e.g. compilers)      (*) as reported by 'uname -p', except on Windows and Mac OS X

Package 453/2353HostnameOS / ArchINSTALLBUILDCHECKBUILD BIN
CoSIA 1.9.0  (landing page)
Amanda D. Clark
Snapshot Date: 2025-10-17 13:45 -0400 (Fri, 17 Oct 2025)
git_url: https://git.bioconductor.org/packages/CoSIA
git_branch: devel
git_last_commit: d3df2fb
git_last_commit_date: 2025-04-15 13:41:47 -0400 (Tue, 15 Apr 2025)
nebbiolo2Linux (Ubuntu 24.04.3 LTS) / x86_64  OK    OK    TIMEOUT  
lconwaymacOS 12.7.6 Monterey / x86_64  OK    OK    TIMEOUT    OK  
kjohnson3macOS 13.7.7 Ventura / arm64  OK    OK    OK    OK  UNNEEDED, same version is already published
taishanLinux (openEuler 24.03 LTS) / aarch64  OK    OK    TIMEOUT  


CHECK results for CoSIA on kjohnson3

To the developers/maintainers of the CoSIA package:
- Allow up to 24 hours (and sometimes 48 hours) for your latest push to git@git.bioconductor.org:packages/CoSIA.git to reflect on this report. See Troubleshooting Build Report for more information.
- Use the following Renviron settings to reproduce errors and warnings.
- If 'R CMD check' started to fail recently on the Linux builder(s) over a missing dependency, add the missing dependency to 'Suggests:' in your DESCRIPTION file. See Renviron.bioc for more information.

raw results


Summary

Package: CoSIA
Version: 1.9.0
Command: /Library/Frameworks/R.framework/Resources/bin/R CMD check --install=check:CoSIA.install-out.txt --library=/Library/Frameworks/R.framework/Resources/library --no-vignettes --timings CoSIA_1.9.0.tar.gz
StartedAt: 2025-10-17 19:11:14 -0400 (Fri, 17 Oct 2025)
EndedAt: 2025-10-17 19:38:48 -0400 (Fri, 17 Oct 2025)
EllapsedTime: 1653.3 seconds
RetCode: 0
Status:   OK  
CheckDir: CoSIA.Rcheck
Warnings: 0

Command output

##############################################################################
##############################################################################
###
### Running command:
###
###   /Library/Frameworks/R.framework/Resources/bin/R CMD check --install=check:CoSIA.install-out.txt --library=/Library/Frameworks/R.framework/Resources/library --no-vignettes --timings CoSIA_1.9.0.tar.gz
###
##############################################################################
##############################################################################


* using log directory ‘/Users/biocbuild/bbs-3.22-bioc/meat/CoSIA.Rcheck’
* using R version 4.5.1 Patched (2025-09-10 r88807)
* using platform: aarch64-apple-darwin20
* R was compiled by
    Apple clang version 16.0.0 (clang-1600.0.26.6)
    GNU Fortran (GCC) 14.2.0
* running under: macOS Ventura 13.7.7
* using session charset: UTF-8
* using option ‘--no-vignettes’
* checking for file ‘CoSIA/DESCRIPTION’ ... OK
* checking extension type ... Package
* this is package ‘CoSIA’ version ‘1.9.0’
* package encoding: UTF-8
* checking package namespace information ... OK
* checking package dependencies ... OK
* checking if this is a source package ... OK
* checking if there is a namespace ... OK
* checking for hidden files and directories ... OK
* checking for portable file names ... OK
* checking for sufficient/correct file permissions ... OK
* checking whether package ‘CoSIA’ can be installed ... OK
* checking installed package size ... OK
* checking package directory ... OK
* checking ‘build’ directory ... OK
* checking DESCRIPTION meta-information ... NOTE
License stub is invalid DCF.
* checking top-level files ... OK
* checking for left-over files ... OK
* checking index information ... OK
* checking package subdirectories ... OK
* checking code files for non-ASCII characters ... OK
* checking R files for syntax errors ... OK
* checking whether the package can be loaded ... OK
* checking whether the package can be loaded with stated dependencies ... OK
* checking whether the package can be unloaded cleanly ... OK
* checking whether the namespace can be loaded with stated dependencies ... OK
* checking whether the namespace can be unloaded cleanly ... OK
* checking dependencies in R code ... OK
* checking S3 generic/method consistency ... OK
* checking replacement functions ... OK
* checking foreign function calls ... OK
* checking R code for possible problems ... OK
* checking Rd files ... OK
* checking Rd metadata ... OK
* checking Rd cross-references ... OK
* checking for missing documentation entries ... OK
* checking for code/documentation mismatches ... OK
* checking Rd \usage sections ... OK
* checking Rd contents ... OK
* checking for unstated dependencies in examples ... OK
* checking files in ‘vignettes’ ... OK
* checking examples ... OK
Examples with CPU (user + system) or elapsed time > 5s
                                user system elapsed
plotCVGEx-CoSIAn-method      349.133  7.810 361.012
plotCVGEx                    324.714  6.490 335.095
plotDSGEx-CoSIAn-method      119.999  2.591 125.200
getTissues                   120.138  1.556 122.910
plotSpeciesGEx               116.708  0.994 120.524
plotTissueGEx-CoSIAn-method  111.169  1.785 114.267
plotSpeciesGEx-CoSIAn-method 109.860  2.005 112.624
plotDSGEx                    110.414  1.013 112.224
plotTissueGEx                107.831  1.258 109.828
getGEx-CoSIAn-method          24.045  0.543  25.006
getGExMetrics                 24.013  0.331  24.758
getGExMetrics-CoSIAn-method   21.296  0.248  21.878
getGEx                        20.556  0.277  21.127
* checking for unstated dependencies in vignettes ... OK
* checking package vignettes ... OK
* checking running R code from vignettes ... SKIPPED
* checking re-building of vignette outputs ... SKIPPED
* checking PDF version of manual ... OK
* DONE

Status: 1 NOTE
See
  ‘/Users/biocbuild/bbs-3.22-bioc/meat/CoSIA.Rcheck/00check.log’
for details.


Installation output

CoSIA.Rcheck/00install.out

##############################################################################
##############################################################################
###
### Running command:
###
###   /Library/Frameworks/R.framework/Resources/bin/R CMD INSTALL CoSIA
###
##############################################################################
##############################################################################


* installing to library ‘/Library/Frameworks/R.framework/Versions/4.5-arm64/Resources/library’
* installing *source* package ‘CoSIA’ ...
** this is package ‘CoSIA’ version ‘1.9.0’
** using staged installation
** R
** inst
** byte-compile and prepare package for lazy loading
** help
*** installing help indices
** building package indices
** installing vignettes
** testing if installed package can be loaded from temporary location
** testing if installed package can be loaded from final location
** testing if installed package keeps a record of temporary installation path
* DONE (CoSIA)

Tests output


Example timings

CoSIA.Rcheck/CoSIA-Ex.timings

nameusersystemelapsed
CoSIA-constructor0.0010.0010.001
getConversion-CoSIAn-method1.8710.0582.008
getConversion0.8940.0220.916
getGEx-CoSIAn-method24.045 0.54325.006
getGEx20.556 0.27721.127
getGExMetrics-CoSIAn-method21.296 0.24821.878
getGExMetrics24.013 0.33124.758
getTissues120.138 1.556122.910
plotCVGEx-CoSIAn-method349.133 7.810361.012
plotCVGEx324.714 6.490335.095
plotDSGEx-CoSIAn-method119.999 2.591125.200
plotDSGEx110.414 1.013112.224
plotSpeciesGEx-CoSIAn-method109.860 2.005112.624
plotSpeciesGEx116.708 0.994120.524
plotTissueGEx-CoSIAn-method111.169 1.785114.267
plotTissueGEx107.831 1.258109.828
viewCoSIAn-CoSIAn-method0.0000.0000.001
viewCoSIAn0.0010.0000.001