Back to Multiple platform build/check report for BioC 3.22:   simplified   long
AB[C]DEFGHIJKLMNOPQRSTUVWXYZ

This page was generated on 2025-10-20 12:03 -0400 (Mon, 20 Oct 2025).

HostnameOSArch (*)R versionInstalled pkgs
nebbiolo2Linux (Ubuntu 24.04.3 LTS)x86_644.5.1 Patched (2025-08-23 r88802) -- "Great Square Root" 4887
lconwaymacOS 12.7.6 Montereyx86_644.5.1 Patched (2025-09-10 r88807) -- "Great Square Root" 4677
kjohnson3macOS 13.7.7 Venturaarm644.5.1 Patched (2025-09-10 r88807) -- "Great Square Root" 4622
taishanLinux (openEuler 24.03 LTS)aarch644.5.0 (2025-04-11) -- "How About a Twenty-Six" 4632
Click on any hostname to see more info about the system (e.g. compilers)      (*) as reported by 'uname -p', except on Windows and Mac OS X

Package 285/2353HostnameOS / ArchINSTALLBUILDCHECKBUILD BIN
CATALYST 1.33.1  (landing page)
Helena L. Crowell
Snapshot Date: 2025-10-19 13:45 -0400 (Sun, 19 Oct 2025)
git_url: https://git.bioconductor.org/packages/CATALYST
git_branch: devel
git_last_commit: 0262c36
git_last_commit_date: 2025-07-13 09:49:24 -0400 (Sun, 13 Jul 2025)
nebbiolo2Linux (Ubuntu 24.04.3 LTS) / x86_64  OK    OK    OK  UNNEEDED, same version is already published
lconwaymacOS 12.7.6 Monterey / x86_64  OK    OK    OK    OK  UNNEEDED, same version is already published
kjohnson3macOS 13.7.7 Ventura / arm64  OK    OK    OK    OK  UNNEEDED, same version is already published
taishanLinux (openEuler 24.03 LTS) / aarch64  OK    OK    OK  


CHECK results for CATALYST on nebbiolo2

To the developers/maintainers of the CATALYST package:
- Allow up to 24 hours (and sometimes 48 hours) for your latest push to git@git.bioconductor.org:packages/CATALYST.git to reflect on this report. See Troubleshooting Build Report for more information.
- Use the following Renviron settings to reproduce errors and warnings.
- If 'R CMD check' started to fail recently on the Linux builder(s) over a missing dependency, add the missing dependency to 'Suggests:' in your DESCRIPTION file. See Renviron.bioc for more information.

raw results


Summary

Package: CATALYST
Version: 1.33.1
Command: /home/biocbuild/bbs-3.22-bioc/R/bin/R CMD check --install=check:CATALYST.install-out.txt --library=/home/biocbuild/bbs-3.22-bioc/R/site-library --timings CATALYST_1.33.1.tar.gz
StartedAt: 2025-10-19 21:51:06 -0400 (Sun, 19 Oct 2025)
EndedAt: 2025-10-19 22:03:01 -0400 (Sun, 19 Oct 2025)
EllapsedTime: 714.7 seconds
RetCode: 0
Status:   OK  
CheckDir: CATALYST.Rcheck
Warnings: 0

Command output

##############################################################################
##############################################################################
###
### Running command:
###
###   /home/biocbuild/bbs-3.22-bioc/R/bin/R CMD check --install=check:CATALYST.install-out.txt --library=/home/biocbuild/bbs-3.22-bioc/R/site-library --timings CATALYST_1.33.1.tar.gz
###
##############################################################################
##############################################################################


* using log directory ‘/home/biocbuild/bbs-3.22-bioc/meat/CATALYST.Rcheck’
* using R version 4.5.1 Patched (2025-08-23 r88802)
* using platform: x86_64-pc-linux-gnu
* R was compiled by
    gcc (Ubuntu 13.3.0-6ubuntu2~24.04) 13.3.0
    GNU Fortran (Ubuntu 13.3.0-6ubuntu2~24.04) 13.3.0
* running under: Ubuntu 24.04.3 LTS
* using session charset: UTF-8
* checking for file ‘CATALYST/DESCRIPTION’ ... OK
* checking extension type ... Package
* this is package ‘CATALYST’ version ‘1.33.1’
* package encoding: UTF-8
* checking package namespace information ... OK
* checking package dependencies ... INFO
Imports includes 24 non-default packages.
Importing from so many packages makes the package vulnerable to any of
them becoming unavailable.  Move as many as possible to Suggests and
use conditionally.
* checking if this is a source package ... OK
* checking if there is a namespace ... OK
* checking for hidden files and directories ... OK
* checking for portable file names ... OK
* checking for sufficient/correct file permissions ... OK
* checking whether package ‘CATALYST’ can be installed ... OK
* checking installed package size ... OK
* checking package directory ... OK
* checking ‘build’ directory ... OK
* checking DESCRIPTION meta-information ... OK
* checking top-level files ... OK
* checking for left-over files ... OK
* checking index information ... OK
* checking package subdirectories ... OK
* checking code files for non-ASCII characters ... OK
* checking R files for syntax errors ... OK
* checking whether the package can be loaded ... OK
* checking whether the package can be loaded with stated dependencies ... OK
* checking whether the package can be unloaded cleanly ... OK
* checking whether the namespace can be loaded with stated dependencies ... OK
* checking whether the namespace can be unloaded cleanly ... OK
* checking loading without being on the library search path ... OK
* checking dependencies in R code ... OK
* checking S3 generic/method consistency ... OK
* checking replacement functions ... OK
* checking foreign function calls ... OK
* checking R code for possible problems ... NOTE
plotExprs: no visible binding for global variable ‘ndensity’
Undefined global functions or variables:
  ndensity
* checking Rd files ... NOTE
checkRd: (-1) plotDiffHeatmap.Rd:87: Lost braces in \itemize; meant \describe ?
checkRd: (-1) plotDiffHeatmap.Rd:88: Lost braces in \itemize; meant \describe ?
* checking Rd metadata ... OK
* checking Rd cross-references ... NOTE
Found the following Rd file(s) with Rd \link{} targets missing package
anchors:
  SCE-accessors.Rd: SingleCellExperiment, FlowSOM, ConsensusClusterPlus
  cluster.Rd: ggplot
  compCytof.Rd: flowFrame
  data.Rd: flowSet, flowFrame
  plotClusterExprs.Rd: ggplot
  plotCounts.Rd: ggplot
  plotExprs.Rd: ggplot
  plotPbExprs.Rd: SingleCellExperiment
  prepData.Rd: read.FCS
Please provide package anchors for all Rd \link{} targets not in the
package itself and the base packages.
* checking for missing documentation entries ... OK
* checking for code/documentation mismatches ... OK
* checking Rd \usage sections ... OK
* checking Rd contents ... OK
* checking for unstated dependencies in examples ... OK
* checking contents of ‘data’ directory ... OK
* checking data for non-ASCII characters ... OK
* checking LazyData ... OK
* checking data for ASCII and uncompressed saves ... OK
* checking files in ‘vignettes’ ... OK
* checking examples ... OK
Examples with CPU (user + system) or elapsed time > 5s
                   user system elapsed
plotPbExprs      14.123  0.082  14.142
plotMultiHeatmap 12.336  0.045  12.262
plotDR           11.017  0.018  11.035
plotDiffHeatmap  10.932  0.063  10.970
sce2fcs           8.652  0.031   8.687
plotExprHeatmap   8.534  0.032   8.509
plotCodes         6.684  0.081   6.765
plotAbundances    6.720  0.035   6.755
plotClusterExprs  6.317  0.055   6.362
mergeClusters     5.937  0.184   6.114
SCE-accessors     5.713  0.160   5.874
plotFreqHeatmap   5.751  0.015   5.766
clrDR             5.589  0.143   5.732
plotMahal         5.434  0.058   5.492
pbMDS             5.367  0.037   5.384
* checking for unstated dependencies in ‘tests’ ... OK
* checking tests ...
  Running ‘testthat.R’
 OK
* checking for unstated dependencies in vignettes ... OK
* checking package vignettes ... OK
* checking re-building of vignette outputs ... OK
* checking PDF version of manual ... OK
* DONE

Status: 3 NOTEs
See
  ‘/home/biocbuild/bbs-3.22-bioc/meat/CATALYST.Rcheck/00check.log’
for details.


Installation output

CATALYST.Rcheck/00install.out

##############################################################################
##############################################################################
###
### Running command:
###
###   /home/biocbuild/bbs-3.22-bioc/R/bin/R CMD INSTALL CATALYST
###
##############################################################################
##############################################################################


* installing to library ‘/home/biocbuild/bbs-3.22-bioc/R/site-library’
* installing *source* package ‘CATALYST’ ...
** this is package ‘CATALYST’ version ‘1.33.1’
** using staged installation
** R
** data
*** moving datasets to lazyload DB
** inst
** byte-compile and prepare package for lazy loading
** help
*** installing help indices
** building package indices
** installing vignettes
** testing if installed package can be loaded from temporary location
** testing if installed package can be loaded from final location
** testing if installed package keeps a record of temporary installation path
* DONE (CATALYST)

Tests output

CATALYST.Rcheck/tests/testthat.Rout


R version 4.5.1 Patched (2025-08-23 r88802) -- "Great Square Root"
Copyright (C) 2025 The R Foundation for Statistical Computing
Platform: x86_64-pc-linux-gnu

R is free software and comes with ABSOLUTELY NO WARRANTY.
You are welcome to redistribute it under certain conditions.
Type 'license()' or 'licence()' for distribution details.

R is a collaborative project with many contributors.
Type 'contributors()' for more information and
'citation()' on how to cite R or R packages in publications.

Type 'demo()' for some demos, 'help()' for on-line help, or
'help.start()' for an HTML browser interface to help.
Type 'q()' to quit R.

> library(testthat)
> library(CATALYST)
Loading required package: SingleCellExperiment
Loading required package: SummarizedExperiment
Loading required package: MatrixGenerics
Loading required package: matrixStats

Attaching package: 'MatrixGenerics'

The following objects are masked from 'package:matrixStats':

    colAlls, colAnyNAs, colAnys, colAvgsPerRowSet, colCollapse,
    colCounts, colCummaxs, colCummins, colCumprods, colCumsums,
    colDiffs, colIQRDiffs, colIQRs, colLogSumExps, colMadDiffs,
    colMads, colMaxs, colMeans2, colMedians, colMins, colOrderStats,
    colProds, colQuantiles, colRanges, colRanks, colSdDiffs, colSds,
    colSums2, colTabulates, colVarDiffs, colVars, colWeightedMads,
    colWeightedMeans, colWeightedMedians, colWeightedSds,
    colWeightedVars, rowAlls, rowAnyNAs, rowAnys, rowAvgsPerColSet,
    rowCollapse, rowCounts, rowCummaxs, rowCummins, rowCumprods,
    rowCumsums, rowDiffs, rowIQRDiffs, rowIQRs, rowLogSumExps,
    rowMadDiffs, rowMads, rowMaxs, rowMeans2, rowMedians, rowMins,
    rowOrderStats, rowProds, rowQuantiles, rowRanges, rowRanks,
    rowSdDiffs, rowSds, rowSums2, rowTabulates, rowVarDiffs, rowVars,
    rowWeightedMads, rowWeightedMeans, rowWeightedMedians,
    rowWeightedSds, rowWeightedVars

Loading required package: GenomicRanges
Loading required package: stats4
Loading required package: BiocGenerics
Loading required package: generics

Attaching package: 'generics'

The following objects are masked from 'package:base':

    as.difftime, as.factor, as.ordered, intersect, is.element, setdiff,
    setequal, union


Attaching package: 'BiocGenerics'

The following objects are masked from 'package:stats':

    IQR, mad, sd, var, xtabs

The following objects are masked from 'package:base':

    Filter, Find, Map, Position, Reduce, anyDuplicated, aperm, append,
    as.data.frame, basename, cbind, colnames, dirname, do.call,
    duplicated, eval, evalq, get, grep, grepl, is.unsorted, lapply,
    mapply, match, mget, order, paste, pmax, pmax.int, pmin, pmin.int,
    rank, rbind, rownames, sapply, saveRDS, table, tapply, unique,
    unsplit, which.max, which.min

Loading required package: S4Vectors

Attaching package: 'S4Vectors'

The following object is masked from 'package:utils':

    findMatches

The following objects are masked from 'package:base':

    I, expand.grid, unname

Loading required package: IRanges
Loading required package: Seqinfo
Loading required package: Biobase
Welcome to Bioconductor

    Vignettes contain introductory material; view with
    'browseVignettes()'. To cite Bioconductor, see
    'citation("Biobase")', and for packages 'citation("pkgname")'.


Attaching package: 'Biobase'

The following object is masked from 'package:MatrixGenerics':

    rowMedians

The following objects are masked from 'package:matrixStats':

    anyMissing, rowMedians

> 
> test_check("CATALYST")
[ FAIL 0 | WARN 0 | SKIP 0 | PASS 746 ]
> 
> proc.time()
   user  system elapsed 
155.810   2.215 157.390 

Example timings

CATALYST.Rcheck/CATALYST-Ex.timings

nameusersystemelapsed
SCE-accessors5.7130.1605.874
adaptSpillmat3.2190.0453.263
applyCutoffs2.4810.0122.493
assignPrelim1.3220.0011.323
clrDR5.5890.1435.732
cluster4.6920.1084.800
compCytof4.7530.0764.830
computeSpillmat3.8230.0283.851
data0.0020.0040.006
estCutoffs4.0560.0624.118
extractClusters3.6740.0223.696
filterSCE4.0450.0244.069
guessPanel0.030.000.03
mergeClusters5.9370.1846.114
normCytof2.3130.0322.345
pbMDS5.3670.0375.384
plotAbundances6.7200.0356.755
plotClusterExprs6.3170.0556.362
plotCodes6.6840.0816.765
plotCounts1.2850.0001.285
plotDR11.017 0.01811.035
plotDiffHeatmap10.932 0.06310.970
plotEvents1.7590.0031.763
plotExprHeatmap8.5340.0328.509
plotExprs4.8800.1174.998
plotFreqHeatmap5.7510.0155.766
plotMahal5.4340.0585.492
plotMultiHeatmap12.336 0.04512.262
plotNRS1.4410.0011.441
plotPbExprs14.123 0.08214.142
plotScatter4.0740.0124.087
plotSpillmat4.7490.0504.799
plotYields3.5560.0663.622
prepData1.2960.0041.301
runDR4.7800.0224.803
sce2fcs8.6520.0318.687